Back
From: metabase:user:9820532a-708b-1014-9a05-b18a96298da1
Subject: PASS Sub-Nary-0.03 v5.10.1 GNU/Linux
Date: 2010-10-03T23:52:48Z
This distribution has been tested as part of the CPAN Testers
project, supporting the Perl programming language. See
http://wiki.cpantesters.org/ for more information or email
questions to cpan-testers-discuss@perl.org
--
Dear Vincent Pit,
This is a computer-generated report for Sub-Nary-0.03
on perl 5.10.1, created by CPAN-Reporter-1.1801.
Thank you for uploading your work to CPAN. Congratulations!
All tests were successful.
Sections of this report:
* Tester comments
* Program output
* Prerequisites
* Environment and other context
------------------------------
TESTER COMMENTS
------------------------------
Additional comments from tester:
this report is from an automated smoke testing program
and was not reviewed by a human for accuracy
------------------------------
PROGRAM OUTPUT
------------------------------
Output from '/usr/bin/make test':
PERL_DL_NONLAZY=1 /home/test/perl/bin/perl5.10.1 "-MExtUtils::Command::MM" "-e" "test_harness(0, 'blib/lib', 'blib/arch')" t/*.t
# Testing Sub::Nary 0.03, Perl 5.010001, /home/test/perl/bin/perl5.10.1
t/00-load.t ............... ok
t/02-can.t ................ ok
t/10-obj.t ................ ok
t/11-cache.t .............. ok
t/15-misc-xs.t ............ ok
t/16-combine.t ............ ok
t/20-return.t ............. ok
t/21-list.t ............... ok
t/22-call.t ............... ok
t/23-branch.t ............. ok
t/24-ops.t ................ ok
t/25-grepmap.t ............ ok
t/90-boilerplate.t ........ ok
t/91-pod.t ................ skipped: Test::Pod 1.22 required for testing POD
t/92-pod-coverage.t ....... skipped: Test::Pod::Coverage 1.08 required for testing POD coverage
t/95-portability-files.t .. skipped: Test::Portability::Files required for testing filenames portability
t/99-kwalitee.t ........... skipped: Test::Kwalitee not installed; skipping
All tests successful.
Files=17, Tests=298, 1 wallclock secs ( 0.10 usr 0.01 sys + 0.64 cusr 0.09 csys = 0.84 CPU)
Result: PASS
------------------------------
PREREQUISITES
------------------------------
Prerequisite modules loaded:
requires:
Module Need Have
-------- ---- ----
B 0 1.22
Carp 0 1.11
XSLoader 0 0.10
------------------------------
ENVIRONMENT AND OTHER CONTEXT
------------------------------
Environment variables:
AUTOMATED_TESTING = 1
LANG = C
LC_ALL = C
PATH = /home/test/perl/bin:~/bin:/usr/bin:/bin
PERL5LIB =
PERL5OPT =
PERL5_CPANPLUS_IS_RUNNING = 8645
PERL5_CPAN_IS_RUNNING = 8645
PERL5_CPAN_IS_RUNNING_IN_RECURSION = 23518,8645
PERL_CR_SMOKER_CURRENT = Sub-Nary-0.03
PERL_EXTUTILS_AUTOINSTALL = --defaultdeps
PERL_MM_USE_DEFAULT = 1
SHELL = /bin/bash
TERM = linux
Perl special variables (and OS-specific diagnostics, for MSWin32):
$^X = /home/test/perl/bin/perl5.10.1
$UID/$EUID = 1001 / 1001
$GID = 1001 1001
$EGID = 1001 1001
Perl module toolchain versions installed:
Module Have
------------------- -------
CPAN 1.9402
Cwd 3.30
ExtUtils::CBuilder 0.2703
ExtUtils::Command 1.16
ExtUtils::Install 1.54
ExtUtils::MakeMaker 6.55_02
ExtUtils::Manifest 1.56
ExtUtils::ParseXS 2.2206
File::Spec 3.30
Module::Build 0.3607
Module::Signature n/a
Test::Harness 3.17
Test::More 0.92
YAML 0.72
YAML::Syck 1.15
version 0.82
--
Summary of my perl5 (revision 5 version 10 subversion 1) configuration:
Platform:
osname=linux, osvers=2.6.26-2-amd64, archname=x86_64-linux-thread-multi-ld
uname='linux zippy 2.6.26-2-amd64 #1 smp tue jan 12 22:12:20 utc 2010 x86_64 gnulinux '
config_args='-des -Dusedevel -des -Duselongdouble -Duse64bitall -Dusethreads -Dprefix=~/perl'
hint=recommended, useposix=true, d_sigaction=define
useithreads=define, usemultiplicity=define
useperlio=define, d_sfio=undef, uselargefiles=define, usesocks=undef
use64bitint=define, use64bitall=define, uselongdouble=define
usemymalloc=n, bincompat5005=undef
Compiler:
cc='cc', ccflags ='-D_REENTRANT -D_GNU_SOURCE -fno-strict-aliasing -pipe -fstack-protector -I/usr/local/include -D_LARGEFILE_SOURCE -D_FILE_OFFSET_BITS=64',
optimize='-O2',
cppflags='-D_REENTRANT -D_GNU_SOURCE -fno-strict-aliasing -pipe -fstack-protector -I/usr/local/include'
ccversion='', gccversion='4.4.4', gccosandvers=''
intsize=4, longsize=8, ptrsize=8, doublesize=8, byteorder=12345678
d_longlong=define, longlongsize=8, d_longdbl=define, longdblsize=16
ivtype='long', ivsize=8, nvtype='long double', nvsize=16, Off_t='off_t', lseeksize=8
alignbytes=16, prototype=define
Linker and Libraries:
ld='cc', ldflags =' -fstack-protector -L/usr/local/lib'
libpth=/usr/local/lib /lib /usr/lib /lib64 /usr/lib64
libs=-lnsl -ldb -ldl -lm -lcrypt -lutil -lpthread -lc
perllibs=-lnsl -ldl -lm -lcrypt -lutil -lpthread -lc
libc=/lib/libc-2.11.2.so, so=so, useshrplib=false, libperl=libperl.a
gnulibc_version='2.11.2'
Dynamic Linking:
dlsrc=dl_dlopen.xs, dlext=so, d_dlsymun=undef, ccdlflags='-Wl,-E'
cccdlflags='-fPIC', lddlflags='-shared -O2 -L/usr/local/lib -fstack-protector'
Characteristics of this binary (from libperl):
Compile-time options: MULTIPLICITY PERL_DONT_CREATE_GVSV
PERL_IMPLICIT_CONTEXT PERL_MALLOC_WRAP PERL_USE_DEVEL
USE_64_BIT_ALL USE_64_BIT_INT USE_ITHREADS
USE_LARGE_FILES USE_LONG_DOUBLE USE_PERLIO
USE_REENTRANT_API
Built under linux
Compiled at Aug 22 2010 22:56:01
%ENV:
PERL5LIB=""
PERL5OPT=""
PERL5_CPANPLUS_IS_RUNNING="8645"
PERL5_CPAN_IS_RUNNING="8645"
PERL5_CPAN_IS_RUNNING_IN_RECURSION="23518,8645"
PERL_CR_SMOKER_CURRENT="Sub-Nary-0.03"
PERL_EXTUTILS_AUTOINSTALL="--defaultdeps"
PERL_MM_USE_DEFAULT="1"
@INC:
/home/test/perl/lib/5.10.1/x86_64-linux-thread-multi-ld
/home/test/perl/lib/5.10.1
/home/test/perl/lib/site_perl/5.10.1/x86_64-linux-thread-multi-ld
/home/test/perl/lib/site_perl/5.10.1
.