Unicode-Collate v1.31 Perl 5 v5.34.0 i86pc-solaris-64

Status
Pass
From
Nigel Horne
Dist
Unicode-Collate v1.31
Platform
Perl 5 v5.34.0 i86pc-solaris-64
Date
2021-08-23 18:24:17
ID
537edefa-043f-11ec-a27d-bd7730a4c2fb
This distribution has been tested as part of the CPAN Testers
project, supporting the Perl programming language.  See
http://wiki.cpantesters.org/ for more information or email
questions to cpan-testers-discuss@perl.org


--
Dear SADAHIRO Tomoyuki,

This is a computer-generated report for Unicode-Collate-1.31
on perl 5.34.0, created by CPAN-Reporter-1.2018.

Thank you for uploading your work to CPAN.  Congratulations!
All tests were successful.

Sections of this report:

    * Tester comments
    * Program output
    * Prerequisites
    * Environment and other context

------------------------------
TESTER COMMENTS
------------------------------

Additional comments from tester:

none provided

------------------------------
PROGRAM OUTPUT
------------------------------

Output from '/usr/bin/make test':

"/export/home/njh/perl5/perlbrew/perls/perl-5.34.0-64all/bin/perl5.34.0" -MExtUtils::Command::MM -e 'cp_nonempty' -- Collate.bs blib/arch/auto/Unicode/Collate/Collate.bs 644
PERL_DL_NONLAZY=1 "/export/home/njh/perl5/perlbrew/perls/perl-5.34.0-64all/bin/perl5.34.0" "-MExtUtils::Command::MM" "-MTest::Harness" "-e" "undef *Test::Harness::Switches; test_harness(0, 'blib/lib', 'blib/arch')" t/*.t
t/altern.t .... ok
t/backwds.t ... ok
t/cjk_b5.t .... ok
t/cjk_gb.t .... ok
t/cjk_ja.t .... ok
t/cjk_ko.t .... ok
t/cjk_py.t .... ok
t/cjk_st.t .... ok
t/cjk_zy.t .... ok
t/cjkrange.t .. ok
t/compatui.t .. ok
t/contract.t .. ok
t/default.t ... ok
t/hangtype.t .. ok
t/hangul.t .... ok
t/ident.t ..... ok
t/iglevel2.t .. ok
t/ignor.t ..... ok
t/illegal.t ... ok
t/illegalp.t .. ok
t/index.t ..... ok
t/khitan.t .... ok
t/loc_af.t .... ok
t/loc_ar.t .... ok
t/loc_as.t .... ok
t/loc_az.t .... ok
t/loc_be.t .... ok
t/loc_bg.t .... ok
t/loc_bn.t .... ok
t/loc_bs.t .... ok
t/loc_bscy.t .. ok
t/loc_ca.t .... ok
t/loc_cjk.t ... ok
t/loc_cjkc.t .. ok
t/loc_cs.t .... ok
t/loc_cu.t .... ok
t/loc_cy.t .... ok
t/loc_cyrl.t .. ok
t/loc_da.t .... ok
t/loc_de.t .... ok
t/loc_deat.t .. ok
t/loc_deph.t .. ok
t/loc_dsb.t ... ok
t/loc_ee.t .... ok
t/loc_eo.t .... ok
t/loc_es.t .... ok
t/loc_estr.t .. ok
t/loc_et.t .... ok
t/loc_fa.t .... ok
t/loc_fi.t .... ok
t/loc_fil.t ... ok
t/loc_fiph.t .. ok
t/loc_fo.t .... ok
t/loc_fr.t .... ok
t/loc_frca.t .. ok
t/loc_gu.t .... ok
t/loc_ha.t .... ok
t/loc_haw.t ... ok
t/loc_he.t .... ok
t/loc_hi.t .... ok
t/loc_hr.t .... ok
t/loc_hu.t .... ok
t/loc_hy.t .... ok
t/loc_ig.t .... ok
t/loc_is.t .... ok
t/loc_ja.t .... ok
t/loc_jait.t .. ok
t/loc_japr.t .. ok
t/loc_kk.t .... ok
t/loc_kl.t .... ok
t/loc_kn.t .... ok
t/loc_ko.t .... ok
t/loc_kok.t ... ok
t/loc_lkt.t ... ok
t/loc_ln.t .... ok
t/loc_lt.t .... ok
t/loc_lv.t .... ok
t/loc_mk.t .... ok
t/loc_ml.t .... ok
t/loc_mncy.t .. ok
t/loc_mr.t .... ok
t/loc_mt.t .... ok
t/loc_nb.t .... ok
t/loc_nn.t .... ok
t/loc_nso.t ... ok
t/loc_om.t .... ok
t/loc_or.t .... ok
t/loc_pa.t .... ok
t/loc_pl.t .... ok
t/loc_ro.t .... ok
t/loc_ru.t .... ok
t/loc_sa.t .... ok
t/loc_se.t .... ok
t/loc_si.t .... ok
t/loc_sidt.t .. ok
t/loc_sk.t .... ok
t/loc_sl.t .... ok
t/loc_sq.t .... ok
t/loc_sr.t .... ok
t/loc_srla.t .. ok
t/loc_sv.t .... ok
t/loc_svrf.t .. ok
t/loc_sw.t .... ok
t/loc_ta.t .... ok
t/loc_te.t .... ok
t/loc_test.t .. ok
t/loc_th.t .... ok
t/loc_tn.t .... ok
t/loc_to.t .... ok
t/loc_tr.t .... ok
t/loc_ugcy.t .. ok
t/loc_uk.t .... ok
t/loc_ur.t .... ok
t/loc_vi.t .... ok
t/loc_vo.t .... ok
t/loc_wae.t ... ok
t/loc_wo.t .... ok
t/loc_yo.t .... ok
t/loc_zh.t .... ok
t/loc_zhb5.t .. ok
t/loc_zhgb.t .. ok
t/loc_zhpy.t .. ok
t/loc_zhst.t .. ok
t/loc_zhzy.t .. ok
t/nonchar.t ... ok
t/normal.t .... ok
t/notable.t ... ok
t/nushu.t ..... ok
t/overcjk0.t .. ok
t/overcjk1.t .. ok
t/override.t .. ok
t/rearrang.t .. ok
t/rewrite.t ... ok
t/tangut.t .... ok
t/test.t ...... ok
t/trailwt.t ... ok
t/variable.t .. ok
t/version.t ... ok
t/view.t ...... ok
All tests successful.
Files=139, Tests=31005, 13 wallclock secs ( 2.16 usr  0.56 sys +  8.25 cusr  1.92 csys = 12.89 CPU)
Result: PASS

------------------------------
PREREQUISITES
------------------------------

Prerequisite modules loaded:

requires:

    Module              Need Have
    ------------------- ---- ----
    Carp                0    1.52
    constant            0    1.33
    File::Spec          0    3.80
    strict              0    1.12
    warnings            0    1.51
    XSLoader            0    0.30

build_requires:

    Module              Need Have
    ------------------- ---- ----
    ExtUtils::MakeMaker 0    7.62

configure_requires:

    Module              Need Have
    ------------------- ---- ----
    ExtUtils::MakeMaker 0    7.62


------------------------------
ENVIRONMENT AND OTHER CONTEXT
------------------------------

Environment variables:

    LANG = en_US.UTF-8
    NONINTERACTIVE_TESTING = 1
    PATH = /export/home/njh/perl5/perlbrew/bin:/export/home/njh/perl5/perlbrew/perls/perl-5.34.0-64all/bin:/export/home/njh/perl5/perlbrew/bin:/usr/bin:/usr/sbin:/sbin:/usr/gnu/bin
    PERL5LIB = 
    PERL5OPT = 
    PERL5_CPANPLUS_IS_RUNNING = 18817
    PERL5_CPAN_IS_RUNNING = 18817
    PERLBREW_HOME = /export/home/njh/.perlbrew
    PERLBREW_LIB = 
    PERLBREW_MANPATH = /export/home/njh/perl5/perlbrew/perls/perl-5.34.0-64all/man
    PERLBREW_PATH = /export/home/njh/perl5/perlbrew/bin:/export/home/njh/perl5/perlbrew/perls/perl-5.34.0-64all/bin
    PERLBREW_PERL = perl-5.34.0-64all
    PERLBREW_ROOT = /export/home/njh/perl5/perlbrew
    PERLBREW_SHELLRC_VERSION = 0.92
    PERLBREW_VERSION = 0.92
    PERL_LOCAL_LIB_ROOT = 
    PERL_MM_USE_DEFAULT = 1
    PERL_USE_UNSAFE_INC = 1
    SHELL = /bin/bash

Perl special variables (and OS-specific diagnostics, for MSWin32):

    $^X = /export/home/njh/perl5/perlbrew/perls/perl-5.34.0-64all/bin/perl5.34.0
    $UID/$EUID = 101 / 101
    $GID = 10 10
    $EGID = 10 10

Perl module toolchain versions installed:

    Module              Have    
    ------------------- --------
    CPAN                2.28    
    CPAN::Meta          2.150010
    Cwd                 3.80    
    ExtUtils::CBuilder  0.280236
    ExtUtils::Command   7.62    
    ExtUtils::Install   2.20    
    ExtUtils::MakeMaker 7.62    
    ExtUtils::Manifest  1.73    
    ExtUtils::ParseXS   3.43    
    File::Spec          3.80    
    JSON                4.03    
    JSON::PP            4.06    
    Module::Build       0.4231  
    Module::Signature   n/a     
    Parse::CPAN::Meta   2.150010
    Test::Harness       3.43    
    Test::More          1.302186
    YAML                1.30    
    YAML::Syck          1.34    
    version             0.9928  


--

Summary of my perl5 (revision 5 version 34 subversion 0) configuration:
   
  Platform:
    osname=solaris
    osvers=2.11
    archname=i86pc-solaris-64
    uname='sunos njh1 5.11 illumos-06524cf4e4 i86pc i386 i86pc '
    config_args='-de -Dprefix=/export/home/njh/perl5/perlbrew/perls/perl-5.34.0-64all -Dusedevel -Duse64bitall -Accflags=-O2 -W -Wformat=2 -Wswitch -Wshadow -Wwrite-strings -Wuninitialized -Wall -pipe -fomit-frame-pointer -pedantic -D_FORTIFY_SOURCE=2 -Wpointer-arith -Wstrict-prototypes -fstack-protector -Wstack-protector -Wextra -Wbad-function-cast -Wcast-align -Wcast-qual -Wdisabled-optimization -Wendif-labels -Wfloat-equal -Wformat-nonliteral -Winline -Wmissing-declarations -Wmissing-prototypes -Wnested-externs -Wpointer-arith -Wundef -Wformat-security -ftree-vectorize -mmmx -msse -mfpmath=sse -msse2 -msse3 -msse4.1 -msse4.2 -mtune=native -Aeval:scriptdir=/export/home/njh/perl5/perlbrew/perls/perl-5.34.0-64all/bin'
    hint=recommended
    useposix=true
    d_sigaction=define
    useithreads=undef
    usemultiplicity=undef
    use64bitint=define
    use64bitall=define
    uselongdouble=undef
    usemymalloc=n
    default_inc_excludes_dot=define
  Compiler:
    cc='/usr/bin/gcc'
    ccflags ='-m64 -O2 -W -Wformat=2 -Wswitch -Wshadow -Wwrite-strings -Wuninitialized -Wall -pipe -fomit-frame-pointer -pedantic -D_FORTIFY_SOURCE=2 -Wpointer-arith -Wstrict-prototypes -fstack-protector -Wstack-protector -Wextra -Wbad-function-cast -Wcast-align -Wcast-qual -Wdisabled-optimization -Wendif-labels -Wfloat-equal -Wformat-nonliteral -Winline -Wmissing-declarations -Wmissing-prototypes -Wnested-externs -Wpointer-arith -Wundef -Wformat-security -ftree-vectorize -mmmx -msse -mfpmath=sse -msse2 -msse3 -msse4.1 -msse4.2 -mtune=native -fwrapv -fno-strict-aliasing -fstack-protector-strong -I/usr/gnu/include -D_LARGEFILE_SOURCE -D_FILE_OFFSET_BITS=64 -DPERL_USE_SAFE_PUTENV'
    optimize='-O'
    cppflags='-m64 -O2 -W -Wformat=2 -Wswitch -Wshadow -Wwrite-strings -Wuninitialized -Wall -pipe -fomit-frame-pointer -pedantic -D_FORTIFY_SOURCE=2 -Wpointer-arith -Wstrict-prototypes -fstack-protector -Wstack-protector -Wextra -Wbad-function-cast -Wcast-align -Wcast-qual -Wdisabled-optimization -Wendif-labels -Wfloat-equal -Wformat-nonliteral -Winline -Wmissing-declarations -Wmissing-prototypes -Wnested-externs -Wpointer-arith -Wundef -Wformat-security -ftree-vectorize -mmmx -msse -mfpmath=sse -msse2 -msse3 -msse4.1 -msse4.2 -mtune=native -fwrapv -fno-strict-aliasing -fstack-protector-strong -I/usr/gnu/include'
    ccversion=''
    gccversion='7.5.0'
    gccosandvers=''
    intsize=4
    longsize=8
    ptrsize=8
    doublesize=8
    byteorder=12345678
    doublekind=3
    d_longlong=define
    longlongsize=8
    d_longdbl=define
    longdblsize=16
    longdblkind=3
    ivtype='long'
    ivsize=8
    nvtype='double'
    nvsize=8
    Off_t='off_t'
    lseeksize=8
    alignbytes=8
    prototype=define
  Linker and Libraries:
    ld='/usr/bin/gcc'
    ldflags =' -m64 -fstack-protector-strong -L/usr/gnu/lib '
    libpth=/usr/gcc/7/lib /usr/lib /usr/gnu/lib /usr/ccs/lib
    libs=-lpthread -lsocket -lnsl -lgdbm -ldb -ldl -lm -lc
    perllibs=-lpthread -lsocket -lnsl -ldl -lm -lc
    libc=/lib/libc.so
    so=so
    useshrplib=true
    libperl=libperl.so
    gnulibc_version=''
  Dynamic Linking:
    dlsrc=dl_dlopen.xs
    dlext=so
    d_dlsymun=undef
    ccdlflags='  -R /export/home/njh/perl5/perlbrew/perls/perl-5.34.0-64all/lib/5.34.0/i86pc-solaris-64/CORE'
    cccdlflags='-fPIC'
    lddlflags=' -shared -m64 -L/usr/gnu/lib -fstack-protector-strong'


Characteristics of this binary (from libperl): 
  Compile-time options:
    HAS_TIMES
    PERLIO_LAYERS
    PERL_COPY_ON_WRITE
    PERL_DONT_CREATE_GVSV
    PERL_MALLOC_WRAP
    PERL_OP_PARENT
    PERL_PRESERVE_IVUV
    PERL_USE_DEVEL
    PERL_USE_SAFE_PUTENV
    USE_64_BIT_ALL
    USE_64_BIT_INT
    USE_LARGE_FILES
    USE_LOCALE
    USE_LOCALE_COLLATE
    USE_LOCALE_CTYPE
    USE_LOCALE_NUMERIC
    USE_LOCALE_TIME
    USE_PERLIO
    USE_PERL_ATOF
  Built under solaris
  Compiled at May 24 2021 10:04:22
  %ENV:
    PERL5LIB=""
    PERL5OPT=""
    PERL5_CPANPLUS_IS_RUNNING="18817"
    PERL5_CPAN_IS_RUNNING="18817"
    PERLBREW_HOME="/export/home/njh/.perlbrew"
    PERLBREW_LIB=""
    PERLBREW_MANPATH="/export/home/njh/perl5/perlbrew/perls/perl-5.34.0-64all/man"
    PERLBREW_PATH="/export/home/njh/perl5/perlbrew/bin:/export/home/njh/perl5/perlbrew/perls/perl-5.34.0-64all/bin"
    PERLBREW_PERL="perl-5.34.0-64all"
    PERLBREW_ROOT="/export/home/njh/perl5/perlbrew"
    PERLBREW_SHELLRC_VERSION="0.92"
    PERLBREW_VERSION="0.92"
    PERL_LOCAL_LIB_ROOT=""
    PERL_MM_USE_DEFAULT="1"
    PERL_USE_UNSAFE_INC="1"
  @INC:
    /export/home/njh/perl5/perlbrew/perls/perl-5.34.0-64all/lib/site_perl/5.34.0/i86pc-solaris-64
    /export/home/njh/perl5/perlbrew/perls/perl-5.34.0-64all/lib/site_perl/5.34.0
    /export/home/njh/perl5/perlbrew/perls/perl-5.34.0-64all/lib/5.34.0/i86pc-solaris-64
    /export/home/njh/perl5/perlbrew/perls/perl-5.34.0-64all/lib/5.34.0
    .