Dist-Zilla-Plugin-ModuleBuildTiny-Fallback v0.025 Perl 5 v5.31.9 x86_64-linux-ld
- Status
- Pass
- From
- Andreas J. König (ANDK)
- Dist
-
Dist-Zilla-Plugin-ModuleBuildTiny-Fallback v0.025
- Platform
- Perl 5 v5.31.9 x86_64-linux-ld
- Date
- 2020-02-22 08:21:29
- ID
- 537ae3e8-554c-11ea-bc61-e390eeff4a2d
This distribution has been tested as part of the CPAN Testers
project, supporting the Perl programming language. See
http://wiki.cpantesters.org/ for more information or email
questions to cpan-testers-discuss@perl.org
--
Dear Karen Etheridge,
This is a computer-generated report for Dist-Zilla-Plugin-ModuleBuildTiny-Fallback-0.025
on perl 5.31.9, created by CPAN-Reporter-1.2018.
Thank you for uploading your work to CPAN. Congratulations!
All tests were successful.
Sections of this report:
* Tester comments
* Program output
* Prerequisites
* Environment and other context
------------------------------
TESTER COMMENTS
------------------------------
Additional comments from tester:
this report is from an automated smoke testing program
and was not reviewed by a human for accuracy
------------------------------
PROGRAM OUTPUT
------------------------------
Output from './Build test':
#
# Versions for all modules listed in MYMETA.json (including optional ones):
#
# === Configure Requires ===
#
# Module Want Have
# ------------------- ----- -----
# Module::Build::Tiny 0.034 0.039
#
# === Test Requires ===
#
# Module Want Have
# ----------------------------- ---- --------
# Dist::Zilla::Role::FileMunger any 6.012
# File::Spec any 3.78
# File::pushd any 1.016
# Module::Metadata any 1.000037
# Path::Tiny any 0.112
# Test::DZil any 6.012
# Test::Deep any 1.128
# Test::Fatal any 0.014
# Test::More 0.88 1.302171
# Test::Needs any 0.002006
# Test::Warnings any 0.028
# if any 0.0608
#
# === Test Recommends ===
#
# Module Want Have
# ---------- -------- --------
# CPAN::Meta 2.120900 2.150010
#
# === Runtime Requires ===
#
# Module Want Have
# ------------------------------------ ---- ------
# Dist::Zilla::Plugin::ModuleBuild any 6.012
# Dist::Zilla::Plugin::ModuleBuildTiny any 0.015
# Dist::Zilla::Role::BeforeBuild any 6.012
# Dist::Zilla::Role::BuildPL any 6.012
# Dist::Zilla::Role::FileGatherer any 6.012
# Dist::Zilla::Role::PrereqSource any 6.012
# List::Util any 1.54
# Moose any 2.2012
# Moose::Util any 2.2012
# MooseX::Types any 0.50
# MooseX::Types::Moose any 0.50
# Scalar::Util any 1.54
# namespace::autoclean any 0.29
# strict any 1.11
# warnings any 1.46
#
# === Other Modules ===
#
# Module Have
# ----------------------------- -------
# Data::Dumper 2.174
# Dist::Zilla::Plugin::CheckBin missing
# JSON::PP 4.04
# Log::Dispatch 2.69
# Module::Build 0.4231
# Module::Build::Tiny 0.039
# Pod::Coverage 0.23
# Sub::Name 0.26
# YAML 1.30
# autodie 2.32
#
t/00-report-prereqs.t ...... ok
t/01-basic.t ............... ok
t/02-two-plugins.t ......... ok
t/03-arguments.t ........... ok
t/04-additional-content.t .. skipped: Need Dist::Zilla::Plugin::CheckBin 0.004
t/05-preamble.t ............ ok
t/06-prereq-failures.t ..... ok
t/zzz-check-breaks.t ....... ok
All tests successful.
Files=8, Tests=39, 15 wallclock secs ( 0.02 usr 0.06 sys + 4.81 cusr 0.61 csys = 5.50 CPU)
Result: PASS
------------------------------
PREREQUISITES
------------------------------
Prerequisite modules loaded:
requires:
Module Need Have
------------------------------------ ----- --------
Dist::Zilla::Plugin::ModuleBuild 0 6.012
Dist::Zilla::Plugin::ModuleBuildTiny 0 0.015
Dist::Zilla::Role::BeforeBuild 0 6.012
Dist::Zilla::Role::BuildPL 0 6.012
Dist::Zilla::Role::FileGatherer 0 6.012
Dist::Zilla::Role::PrereqSource 0 6.012
List::Util 0 1.54
Moose 0 2.2012
Moose::Util 0 2.2012
MooseX::Types 0 0.50
MooseX::Types::Moose 0 0.50
namespace::autoclean 0 0.29
perl 5.006 5.031009
Scalar::Util 0 1.54
strict 0 1.11
warnings 0 1.46
build_requires:
Module Need Have
------------------------------------ ----- --------
Dist::Zilla::Role::FileMunger 0 6.012
File::pushd 0 1.016
File::Spec 0 3.78
if 0 0.0608
Module::Metadata 0 1.000037
Path::Tiny 0 0.112
perl 5.006 5.031009
Test::Deep 0 1.128
Test::DZil 0 6.012
Test::Fatal 0 0.014
Test::More 0.88 1.302171
Test::Needs 0 0.002006
Test::Warnings 0 0.028
configure_requires:
Module Need Have
------------------------------------ ----- --------
Module::Build::Tiny 0.034 0.039
perl 5.006 5.031009
------------------------------
ENVIRONMENT AND OTHER CONTEXT
------------------------------
Environment variables:
AUTOMATED_TESTING = 1
LANG = en_US.UTF-8
PATH = /home/sand/bin:/usr/local/bin:/usr/local/sbin:/usr/sbin:/usr/bin:/sbin:/bin:/usr/games:/usr/local/games:/usr/local/perl/bin:/usr/X11/bin
PERL5LIB =
PERL5OPT =
PERL5_CPANPLUS_IS_RUNNING = 21464
PERL5_CPAN_IS_RUNNING = 21464
PERL_CANARY_STABILITY_NOPROMPT = 1
PERL_MM_USE_DEFAULT = 1
PERL_USE_UNSAFE_INC = 1
SHELL = /usr/bin/zsh
TERM = screen
Perl special variables (and OS-specific diagnostics, for MSWin32):
$^X = /tmp/basesmoker-reloperl-tQLC/bin/perl
$UID/$EUID = 1005 / 1005
$GID = 1005 1005
$EGID = 1005 1005
Perl module toolchain versions installed:
Module Have
------------------- --------
CPAN 2.27
CPAN::Meta 2.150010
Cwd 3.78
ExtUtils::CBuilder 0.280234
ExtUtils::Command 7.44
ExtUtils::Install 2.14
ExtUtils::MakeMaker 7.44
ExtUtils::Manifest 1.72
ExtUtils::ParseXS 3.40
File::Spec 3.78
JSON 4.02
JSON::PP 4.04
Module::Build 0.4231
Module::Signature 0.83
Parse::CPAN::Meta 2.150010
Test::Harness 3.42
Test::More 1.302171
YAML 1.30
YAML::Syck 1.32
version 0.9924
--
Summary of my perl5 (revision 5 version 31 subversion 9) configuration:
Commit id: 41fd77f86ddaa01f1a7635e15cbfd3ccb9a4643d
Platform:
osname=linux
osvers=4.15.0-88-generic
archname=x86_64-linux-ld
uname='linux k93bionic 4.15.0-88-generic #88-ubuntu smp tue feb 11 20:11:34 utc 2020 x86_64 x86_64 x86_64 gnulinux '
config_args='-Dprefix=/home/sand/src/perl/repoperls/installed-perls/host/k93bionic/v5.31.9/ca05 -Dmyhostname=k93bionic -Dinstallusrbinperl=n -Uversiononly -Dusedevel -des -Ui_db -Dlibswanted=cl pthread socket inet nsl gdbm dbm malloc dl ld sun m crypt sec util c cposix posix ucb BSD gdbm_compat -Uuseithreads -Duselongdouble -DEBUGGING=-g'
hint=recommended
useposix=true
d_sigaction=define
useithreads=undef
usemultiplicity=undef
use64bitint=define
use64bitall=define
uselongdouble=define
usemymalloc=n
default_inc_excludes_dot=define
bincompat5005=undef
Compiler:
cc='cc'
ccflags ='-fwrapv -fno-strict-aliasing -pipe -fstack-protector-strong -I/usr/local/include -D_LARGEFILE_SOURCE -D_FILE_OFFSET_BITS=64'
optimize='-O2 -g'
cppflags='-fwrapv -fno-strict-aliasing -pipe -fstack-protector-strong -I/usr/local/include'
ccversion=''
gccversion='7.4.0'
gccosandvers=''
intsize=4
longsize=8
ptrsize=8
doublesize=8
byteorder=12345678
doublekind=3
d_longlong=define
longlongsize=8
d_longdbl=define
longdblsize=16
longdblkind=3
ivtype='long'
ivsize=8
nvtype='long double'
nvsize=16
Off_t='off_t'
lseeksize=8
alignbytes=16
prototype=define
Linker and Libraries:
ld='cc'
ldflags =' -fstack-protector-strong -L/usr/local/lib'
libpth=/usr/local/lib /usr/lib/gcc/x86_64-linux-gnu/7/include-fixed /usr/include/x86_64-linux-gnu /usr/lib /lib/x86_64-linux-gnu /lib/../lib /usr/lib/x86_64-linux-gnu /usr/lib/../lib /lib
libs=-lpthread -lnsl -ldl -lm -lcrypt -lutil -lc
perllibs=-lpthread -lnsl -ldl -lm -lcrypt -lutil -lc
libc=libc-2.27.so
so=so
useshrplib=false
libperl=libperl.a
gnulibc_version='2.27'
Dynamic Linking:
dlsrc=dl_dlopen.xs
dlext=so
d_dlsymun=undef
ccdlflags='-Wl,-E'
cccdlflags='-fPIC'
lddlflags='-shared -O2 -g -L/usr/local/lib -fstack-protector-strong'
Characteristics of this binary (from libperl):
Compile-time options:
HAS_TIMES
PERLIO_LAYERS
PERL_COPY_ON_WRITE
PERL_DONT_CREATE_GVSV
PERL_MALLOC_WRAP
PERL_OP_PARENT
PERL_PRESERVE_IVUV
PERL_USE_DEVEL
USE_64_BIT_ALL
USE_64_BIT_INT
USE_LARGE_FILES
USE_LOCALE
USE_LOCALE_COLLATE
USE_LOCALE_CTYPE
USE_LOCALE_NUMERIC
USE_LOCALE_TIME
USE_LONG_DOUBLE
USE_PERLIO
USE_PERL_ATOF
Built under linux
Compiled at Feb 21 2020 04:19:49
%ENV:
PERL5LIB=""
PERL5OPT=""
PERL5_CPANPLUS_IS_RUNNING="21464"
PERL5_CPAN_IS_RUNNING="21464"
PERL_CANARY_STABILITY_NOPROMPT="1"
PERL_MM_USE_DEFAULT="1"
PERL_USE_UNSAFE_INC="1"
@INC:
/home/sand/src/perl/repoperls/installed-perls/host/k93bionic/v5.31.9/ca05/lib/site_perl/5.31.9/x86_64-linux-ld
/home/sand/src/perl/repoperls/installed-perls/host/k93bionic/v5.31.9/ca05/lib/site_perl/5.31.9
/home/sand/src/perl/repoperls/installed-perls/host/k93bionic/v5.31.9/ca05/lib/5.31.9/x86_64-linux-ld
/home/sand/src/perl/repoperls/installed-perls/host/k93bionic/v5.31.9/ca05/lib/5.31.9
.