WWW-Mechanize-Cached v1.56 Perl 5 v5.24.3 i86pc-solaris-64

Status
Pass
From
Chris Williams (BINGOS)
Dist
WWW-Mechanize-Cached v1.56
Platform
Perl 5 v5.24.3 i86pc-solaris-64
Date
2023-12-29 00:50:56
ID
534a3a1c-a5e4-11ee-98b0-b3c3213a625c
This distribution has been tested as part of the CPAN Testers
project, supporting the Perl programming language.  See
http://wiki.cpantesters.org/ for more information or email
questions to cpan-testers-discuss@perl.org


--

Dear Olaf Alders,

This is a computer-generated error report created automatically by
CPANPLUS, version 0.9914. Testers personal comments may appear
at the end of this report.


Thank you for uploading your work to CPAN.  Congratulations!
All tests were successful.

TEST RESULTS:

Below is the error stack from stage 'make test':

PERL_DL_NONLAZY=1 "/home/cpan/pit/bare/perl-5.24.3/bin/perl" "-MExtUtils::Command::MM" "-MTest::Harness" "-e" "undef *Test::Harness::Switches; test_harness(0, 'blib/lib', 'blib/arch')" t/*.t
# 
# Versions for all modules listed in MYMETA.json (including optional ones):
# 
# === Configure Requires ===
# 
#     Module              Want Have
#     ------------------- ---- ----
#     ExtUtils::MakeMaker  any 7.70
# 
# === Build Requires ===
# 
#     Module              Want Have
#     ------------------- ---- ----
#     ExtUtils::MakeMaker  any 7.70
# 
# === Test Requires ===
# 
#     Module                 Want     Have
#     ---------------------- ---- --------
#     CHI                     any     0.61
#     Cache::FileCache        any    undef
#     ExtUtils::MakeMaker     any     7.70
#     File::Spec              any     3.75
#     HTTP::Request           any     6.45
#     HTTP::Response          any     6.45
#     Path::Tiny              any    0.144
#     Test::Fatal             any    0.017
#     Test::More              any 1.302198
#     Test::Needs             any 0.002010
#     Test::RequiresInternet  any     0.05
#     Test::Warnings          any    0.032
#     URI::file               any     5.21
#     constant                any     1.33
#     lib                     any     0.63
#     strict                  any     1.11
# 
# === Test Recommends ===
# 
#     Module         Want     Have
#     ---------- -------- --------
#     CPAN::Meta 2.120900 2.150010
# 
# === Runtime Requires ===
# 
#     Module                           Want     Have
#     ---------------------------- -------- --------
#     Cache::FileCache                  any    undef
#     Carp                              any     1.40
#     Data::Dump                        any     1.25
#     LWP::UserAgent                   6.66     6.72
#     Module::Runtime                   any    0.016
#     Moo                          1.004005 2.005005
#     MooX::Types::MooseLike::Base      any     0.29
#     Storable                         2.21     3.25
#     WWW::Mechanize                    any     2.17
#     namespace::clean                  any     0.27
#     warnings                          any     1.36
# 
# === Runtime Recommends ===
# 
#     Module Want Have
#     ------ ---- ----
#     CHI     any 0.61
# 
t/00-report-prereqs.t ........ ok
t/002-bad-custom-cache.t ..... ok
t/004-cached.t ............... ok
t/005-custom-cache.t ......... ok
t/006-cached-chi.t ........... ok
t/007-clear-cache.t .......... ok
t/007-initialize-warnings.t .. ok
# reversing page order
t/cache_key.t ................ ok
t/cache_ok.t ................. ok
t/default.t .................. ok
t/is_cached.t ................ ok
t/response_cache_ok.t ........ ok
All tests successful.
Files=12, Tests=129, 15 wallclock secs ( 0.11 usr  0.05 sys +  6.56 cusr  1.20 csys =  7.92 CPU)
Result: PASS


PREREQUISITES:

Here is a list of prerequisites you specified and versions we
managed to load:

	  Module Name                        Have     Want
	  CHI                                0.61        0
	  Cache::FileCache                      0        0
	  Carp                               1.40        0
	  Data::Dump                         1.25        0
	  ExtUtils::MakeMaker                7.70        0
	  File::Spec                         3.75        0
	  HTTP::Request                      6.45        0
	  HTTP::Response                     6.45        0
	  LWP::UserAgent                     6.72     6.66
	  Module::Runtime                   0.016        0
	  Moo                            2.005005 1.004005
	  MooX::Types::MooseLike::Base       0.29        0
	  Path::Tiny                        0.144        0
	  Storable                           3.25     2.21
	  Test::Fatal                       0.017        0
	  Test::More                     1.302198        0
	  Test::Needs                    0.002010        0
	  Test::RequiresInternet             0.05        0
	  Test::Warnings                    0.032        0
	  URI::file                          5.21        0
	  WWW::Mechanize                     2.17        0
	  constant                           1.33        0
	  lib                                0.63        0
	  namespace::clean                   0.27        0
	  strict                             1.11        0
	  warnings                           1.36        0

Perl module toolchain versions installed:
	Module Name                        Have
	CPANPLUS                         0.9914
	CPANPLUS::Dist::Build              0.90
	Cwd                                3.75
	ExtUtils::CBuilder             0.280236
	ExtUtils::Command                  7.70
	ExtUtils::Install                  2.22
	ExtUtils::MakeMaker                7.70
	ExtUtils::Manifest                 1.75
	ExtUtils::ParseXS                  3.51
	File::Spec                         3.75
	Module::Build                    0.4234
	Pod::Parser                        1.63
	Pod::Simple                        3.32
	Test2                          1.302198
	Test::Harness                      3.48
	Test::More                     1.302198
	version                          0.9930

******************************** NOTE ********************************
The comments above are created mechanically, possibly without manual
checking by the sender.  As there are many people performing automatic
tests on each upload to CPAN, it is likely that you will receive
identical messages about the same problem.

If you believe that the message is mistaken, please reply to the first
one with correction and/or additional informations, and do not take
it personally.  We appreciate your patience. :)
**********************************************************************

Additional comments:


This report was machine-generated by CPANPLUS::Dist::YACSmoke 1.08.
Powered by minismokebox version 0.68

CPANPLUS is prefering Build.PL

------------------------------
ENVIRONMENT AND OTHER CONTEXT
------------------------------

Environment variables:

    AUTOMATED_TESTING = 1
    LANG = en_GB.UTF-8
    NONINTERACTIVE_TESTING = 1
    PATH = /usr/bin:/usr/sbin:/sbin:/opt/ooce/bin:/usr/gnu/bin
    PERL5LIB = /home/cpan/pit/jail/8QC63jQnDm/lib/perl5:/home/cpan/pit/bare/conf/perl-5.24.3/.cpanplus/5.24.3/build/0UC45Xgz92/WWW-Mechanize-Cached-1.56/blib/lib:/home/cpan/pit/bare/conf/perl-5.24.3/.cpanplus/5.24.3/build/0UC45Xgz92/WWW-Mechanize-Cached-1.56/blib/arch
    PERL5_CPANPLUS_IS_RUNNING = 10065
    PERL5_CPANPLUS_IS_VERSION = 0.9914
    PERL5_MINISMOKEBOX = 0.68
    PERL5_YACSMOKE_BASE = /home/cpan/pit/bare/conf/perl-5.24.3
    PERL_EXTUTILS_AUTOINSTALL = --defaultdeps
    PERL_LOCAL_LIB_ROOT = /home/cpan/pit/jail/8QC63jQnDm
    PERL_MB_OPT = --install_base "/home/cpan/pit/jail/8QC63jQnDm"
    PERL_MM_OPT = INSTALL_BASE=/home/cpan/pit/jail/8QC63jQnDm
    PERL_MM_USE_DEFAULT = 1
    PERL_USE_UNSAFE_INC = 1
    SHELL = /bin/bash
    TERM = screen.xterm-256color

Perl special variables (and OS-specific diagnostics, for MSWin32):

    Perl: $^X = /home/cpan/pit/bare/perl-5.24.3/bin/perl
    UID:  $<  = 101
    EUID: $>  = 101
    GID:  $(  = 101 101
    EGID: $)  = 101 101


-------------------------------


--

Summary of my perl5 (revision 5 version 24 subversion 3) configuration:
   
  Platform:
    osname=solaris, osvers=2.11, archname=i86pc-solaris-64
    uname='sunos ouzel 5.11 omnios-r151034-0d278a0cc5 i86pc i386 i86pc '
    config_args='-des -Dprefix=/home/cpan/pit/bare/perl-5.24.3 -Duse64bitall -Dcc=gcc'
    hint=recommended, useposix=true, d_sigaction=define
    useithreads=undef, usemultiplicity=undef
    use64bitint=define, use64bitall=define, uselongdouble=undef
    usemymalloc=n, bincompat5005=undef
  Compiler:
    cc='gcc', ccflags ='-m64 -fwrapv -fno-strict-aliasing -pipe -fstack-protector-strong -D_LARGEFILE_SOURCE -D_FILE_OFFSET_BITS=64 -D_FORTIFY_SOURCE=2 -DPERL_USE_SAFE_PUTENV',
    optimize='-O',
    cppflags='-m64 -fwrapv -fno-strict-aliasing -pipe -fstack-protector-strong'
    ccversion='', gccversion='9.3.0', gccosandvers=''
    intsize=4, longsize=8, ptrsize=8, doublesize=8, byteorder=12345678, doublekind=3
    d_longlong=define, longlongsize=8, d_longdbl=define, longdblsize=16, longdblkind=3
    ivtype='long', ivsize=8, nvtype='double', nvsize=8, Off_t='off_t', lseeksize=8
    alignbytes=8, prototype=define
  Linker and Libraries:
    ld='gcc', ldflags =' -m64 -fstack-protector-strong -L/usr/gnu/lib '
    libpth=/opt/gcc-9/lib /opt/gcc-9/lib/gcc/x86_64-pc-solaris2.11/9.3.0/include-fixed /usr/lib /usr/gnu/lib /usr/ccs/lib
    libs=-lpthread -lsocket -lnsl -ldl -lm -lc
    perllibs=-lpthread -lsocket -lnsl -ldl -lm -lc
    libc=/lib/libc.so, so=so, useshrplib=true, libperl=libperl.so
    gnulibc_version=''
  Dynamic Linking:
    dlsrc=dl_dlopen.xs, dlext=so, d_dlsymun=undef, ccdlflags='  -R /home/cpan/pit/bare/perl-5.24.3/lib/5.24.3/i86pc-solaris-64/CORE'
    cccdlflags='-fPIC', lddlflags=' -shared -m64 -L/usr/gnu/lib -fstack-protector-strong'


Characteristics of this binary (from libperl): 
  Compile-time options: HAS_TIMES PERLIO_LAYERS PERL_COPY_ON_WRITE
                        PERL_DONT_CREATE_GVSV
                        PERL_HASH_FUNC_ONE_AT_A_TIME_HARD PERL_MALLOC_WRAP
                        PERL_PRESERVE_IVUV PERL_USE_SAFE_PUTENV
                        USE_64_BIT_ALL USE_64_BIT_INT USE_LARGE_FILES
                        USE_LOCALE USE_LOCALE_COLLATE USE_LOCALE_CTYPE
                        USE_LOCALE_NUMERIC USE_LOCALE_TIME USE_PERLIO
                        USE_PERL_ATOF
  Locally applied patches:
	Devel::PatchPerl 2.00
  Built under solaris
  Compiled at Aug 19 2020 14:29:13
  %ENV:
    PERL5LIB="/home/cpan/pit/jail/8QC63jQnDm/lib/perl5:/home/cpan/pit/bare/conf/perl-5.24.3/.cpanplus/5.24.3/build/0UC45Xgz92/WWW-Mechanize-Cached-1.56/blib/lib:/home/cpan/pit/bare/conf/perl-5.24.3/.cpanplus/5.24.3/build/0UC45Xgz92/WWW-Mechanize-Cached-1.56/blib/arch"
    PERL5_CPANPLUS_IS_RUNNING="10065"
    PERL5_CPANPLUS_IS_VERSION="0.9914"
    PERL5_MINISMOKEBOX="0.68"
    PERL5_YACSMOKE_BASE="/home/cpan/pit/bare/conf/perl-5.24.3"
    PERL_EXTUTILS_AUTOINSTALL="--defaultdeps"
    PERL_LOCAL_LIB_ROOT="/home/cpan/pit/jail/8QC63jQnDm"
    PERL_MB_OPT="--install_base "/home/cpan/pit/jail/8QC63jQnDm""
    PERL_MM_OPT="INSTALL_BASE=/home/cpan/pit/jail/8QC63jQnDm"
    PERL_MM_USE_DEFAULT="1"
    PERL_USE_UNSAFE_INC="1"
  @INC:
    /home/cpan/pit/jail/8QC63jQnDm/lib/perl5/5.24.3/i86pc-solaris-64
    /home/cpan/pit/jail/8QC63jQnDm/lib/perl5/5.24.3
    /home/cpan/pit/jail/8QC63jQnDm/lib/perl5/i86pc-solaris-64
    /home/cpan/pit/jail/8QC63jQnDm/lib/perl5
    /home/cpan/pit/bare/conf/perl-5.24.3/.cpanplus/5.24.3/build/0UC45Xgz92/WWW-Mechanize-Cached-1.56/blib/lib
    /home/cpan/pit/bare/conf/perl-5.24.3/.cpanplus/5.24.3/build/0UC45Xgz92/WWW-Mechanize-Cached-1.56/blib/arch
    /home/cpan/pit/bare/perl-5.24.3/lib/site_perl/5.24.3/i86pc-solaris-64
    /home/cpan/pit/bare/perl-5.24.3/lib/site_perl/5.24.3
    /home/cpan/pit/bare/perl-5.24.3/lib/5.24.3/i86pc-solaris-64
    /home/cpan/pit/bare/perl-5.24.3/lib/5.24.3
    .