Back
From: metabase:user:cd035d39-6d5b-1014-ab3a-39c0c09612a1
Subject: PASS XML-RSS-1.56 v5.22.0
Date: 2015-06-05T17:19:23Z
This distribution has been tested as part of the CPAN Testers
project, supporting the Perl programming language. See
http://wiki.cpantesters.org/ for more information or email
questions to cpan-testers-discuss@perl.org
--
Dear Shlomi Fish,
This is a computer-generated report for XML-RSS-1.56
on perl 5.22.0, created by CPAN-Reporter-1.2014.
Thank you for uploading your work to CPAN. Congratulations!
All tests were successful.
Sections of this report:
* Tester comments
* Program output
* Prerequisites
* Environment and other context
------------------------------
TESTER COMMENTS
------------------------------
Additional comments from tester:
this report is from an automated smoke testing program
and was not reviewed by a human for accuracy
------------------------------
PROGRAM OUTPUT
------------------------------
Output from 'C:\Strawberry\perl\bin\perl.exe ./Build test':
t\load.t .............................. ok
t\pod.t ............................... ok
t\cpan-changes.t ...................... skipped: Test::CPAN::Changes required for this test
t\style-trailing-space.t .............. skipped: Test::TrailingSpace required for trailing space test.
t\version.t ........................... ok
t\render-upon-init.t .................. ok
t\encoding.t .......................... ok
t\0.9-generate.t ...................... ok
t\0.9-parse.t ......................... ok
t\0.9-strict.t ........................ ok
t\0.91-parse.t ........................ ok
t\1.0-generate.t ...................... ok
t\1.0-gen-errors-on-missing-fields.t .. ok
t\1.0-parse.t ......................... ok
t\1.0-parse-2.t ....................... ok
t\1.0-parse-exotic.t .................. ok
t\2.0-generate.t ...................... ok
t\2.0-modules.t ....................... ok
t\2.0-permalink.t ..................... ok
t\2.0-parse.t ......................... ok
t\2.0-parse-cloud.t ................... ok
t\2.0-parse-2.t ....................... ok
t\2.0-parse-self.t .................... ok
t\2.0-wo-title.t ...................... ok
t\1.0-to-2.0.t ........................ ok
t\auto_add_modules.t .................. ok
t\enclosures.t ........................ ok
t\enclosures2.t ....................... ok
t\enclosures-multi.t .................. ok
t\encode-output.t ..................... ok
t\test-generated-items.t .............. ok
t\pod-coverage.t ...................... ok
t\rss2-gt-encoding.t .................. ok
t\charset1.t .......................... ok
t\xml-header.t ........................ ok
t\add-item-insert-vs-append.t ......... ok
t\guid.t .............................. ok
t\xml-base.t .......................... ok
t\save-while-in-taint-mode.t .......... ok
All tests successful.
Files=39, Tests=454, 117 wallclock secs ( 0.47 usr + 0.33 sys = 0.80 CPU)
Result: PASS
------------------------------
PREREQUISITES
------------------------------
Prerequisite modules loaded:
requires:
Module Need Have
------------------------ ----- --------
DateTime 0 1.19
DateTime::Format::Mail 0 0.401
DateTime::Format::W3CDTF 0 0.06
HTML::Entities 0 3.69
perl 5.008 5.022000
XML::Parser 2.23 2.44
build_requires:
Module Need Have
------------------------ ----- --------
Test::Manifest 0.9 2.02
Test::More 0 1.001014
configure_requires:
Module Need Have
------------------------ ----- --------
Module::Build 0.36 0.4212
------------------------------
ENVIRONMENT AND OTHER CONTEXT
------------------------------
Environment variables:
AUTOMATED_TESTING = 1
COMSPEC = C:\WINDOWS.0\system32\cmd.exe
NONINTERACTIVE_TESTING = 1
NUMBER_OF_PROCESSORS = 1
PATH = C:\WINDOWS.0\system32;C:\strawberry\c\bin;C:\strawberry\perl\site\bin;C:\strawberry\perl\bin
PERL5LIB = C:\cpan\build\Feed-Find-0.07-E9VO99/blib/arch;C:\cpan\build\Feed-Find-0.07-E9VO99/blib/lib;C:\cpan\build\XML-Atom-0.41-6Zwyus/blib/arch;C:\cpan\build\XML-Atom-0.41-6Zwyus/blib/lib;C:\cpan\build\URI-Fetch-0.10-CaCKOh/blib/arch;C:\cpan\build\URI-Fetch-0.10-CaCKOh/blib/lib;C:\cpan\build\HTML-Scrubber-0.14-RPGtQ5/blib/arch;C:\cpan\build\HTML-Scrubber-0.14-RPGtQ5/blib/lib;C:\cpan\build\Test-Memory-Cycle-1.04-HqSfWY/blib/arch;C:\cpan\build\Test-Memory-Cycle-1.04-HqSfWY/blib/lib;C:\cpan\build\PadWalker-2.1-2eUyaL/blib/arch;C:\cpan\build\PadWalker-2.1-2eUyaL/blib/lib;C:\cpan\build\Devel-Cycle-1.12-9tCEYr/blib/arch;C:\cpan\build\Devel-Cycle-1.12-9tCEYr/blib/lib;C:\cpan\build\Test-NoTabs-1.4-U6VG4r/blib/arch;C:\cpan\build\Test-NoTabs-1.4-U6VG4r/blib/lib;C:\cpan\build\Test-CPAN-Meta-JSON-0.16-Ig7Z_q/blib/arch;C:\cpan\build\Test-CPAN-Meta-JSON-0.16-Ig7Z_q/blib/lib;C:\cpan\build\Test-CPAN-Meta-0.25-YwuX6o/blib/arch;C:\cpan\build\Test-CPAN-Meta-0.25-YwuX6o/blib/lib;C:\cpan\build\Test-EOL-1.5-HVqZva/blib/arch;C:\cpan\build\Test-EOL-1.5-HVqZva/blib/lib
PERL5OPT =
PERL5_CPANPLUS_IS_RUNNING = 3904
PERL5_CPAN_IS_RUNNING = 3904
PERL5_CPAN_IS_RUNNING_IN_RECURSION = 3912,3904
PERL_CR_SMOKER_CURRENT = XML-Feed-Aggregator-0.0401
PERL_EXTUTILS_AUTOINSTALL = --defaultdeps
PERL_MM_USE_DEFAULT = 1
PROCESSOR_IDENTIFIER = x86 Family 6 Model 14 Stepping 8, GenuineIntel
TEMP = C:\DOKUME~1\smoker\LOKALE~1\Temp
TERM = dumb
Perl special variables (and OS-specific diagnostics, for MSWin32):
$^X = C:\Strawberry\perl\bin\perl.exe
$UID/$EUID = 0 / 0
$GID = 0
$EGID = 0
Win32::GetOSName = WinXP/.Net
Win32::GetOSVersion = Service Pack 3, 5, 1, 2600, 2, 3, 0, 256, 1
Win32::FsType = NTFS
Win32::IsAdminUser = 1
Perl module toolchain versions installed:
Module Have
------------------- --------
CPAN 2.11
CPAN::Meta 2.150001
Cwd 3.56
ExtUtils::CBuilder 0.280223
ExtUtils::Command 1.20
ExtUtils::Install 2.04
ExtUtils::MakeMaker 7.04_01
ExtUtils::Manifest 1.70
ExtUtils::ParseXS 3.28
File::Spec 3.56
JSON 2.90
JSON::PP 2.27300
Module::Build 0.4212
Module::Signature n/a
Parse::CPAN::Meta 1.4414
Test::Harness 3.35
Test::More 1.001014
YAML 1.15
YAML::Syck n/a
version 0.9912
--
Summary of my perl5 (revision 5 version 22 subversion 0) configuration:
Platform:
osname=MSWin32, osvers=6.3, archname=MSWin32-x86-multi-thread-64int
uname='Win32 strawberry-perl 5.22.0.1 #1 Mon Jun 1 20:04:50 2015 i386'
config_args='undef'
hint=recommended, useposix=true, d_sigaction=undef
useithreads=define, usemultiplicity=define
use64bitint=define, use64bitall=undef, uselongdouble=undef
usemymalloc=n, bincompat5005=undef
Compiler:
cc='gcc', ccflags =' -s -O2 -DWIN32 -DPERL_TEXTMODE_SCRIPTS -DPERL_IMPLICIT_CONTEXT -DPERL_IMPLICIT_SYS -fwrapv -fno-strict-aliasing -mms-bitfields',
optimize='-s -O2',
cppflags='-DWIN32'
ccversion='', gccversion='4.9.2', gccosandvers=''
intsize=4, longsize=4, ptrsize=4, doublesize=8, byteorder=12345678, doublekind=3
d_longlong=define, longlongsize=8, d_longdbl=define, longdblsize=8, longdblkind=3
ivtype='long long', ivsize=8, nvtype='double', nvsize=8, Off_t='long long', lseeksize=8
alignbytes=8, prototype=define
Linker and Libraries:
ld='g++', ldflags ='-s -L"C:\STRAWB~1\perl\lib\CORE" -L"C:\STRAWB~1\c\lib"'
libpth=C:\STRAWB~1\c\lib C:\STRAWB~1\c\i686-w64-mingw32\lib C:\STRAWB~1\c\lib\gcc\i686-w64-mingw32\4.9.2
libs=-lmoldname -lkernel32 -luser32 -lgdi32 -lwinspool -lcomdlg32 -ladvapi32 -lshell32 -lole32 -loleaut32 -lnetapi32 -luuid -lws2_32 -lmpr -lwinmm -lversion -lodbc32 -lodbccp32 -lcomctl32
perllibs=-lmoldname -lkernel32 -luser32 -lgdi32 -lwinspool -lcomdlg32 -ladvapi32 -lshell32 -lole32 -loleaut32 -lnetapi32 -luuid -lws2_32 -lmpr -lwinmm -lversion -lodbc32 -lodbccp32 -lcomctl32
libc=, so=dll, useshrplib=true, libperl=libperl522.a
gnulibc_version=''
Dynamic Linking:
dlsrc=dl_win32.xs, dlext=xs.dll, d_dlsymun=undef, ccdlflags=' '
cccdlflags=' ', lddlflags='-mdll -s -L"C:\STRAWB~1\perl\lib\CORE" -L"C:\STRAWB~1\c\lib"'
Characteristics of this binary (from libperl):
Compile-time options: HAS_TIMES HAVE_INTERP_INTERN MULTIPLICITY
PERLIO_LAYERS PERL_DONT_CREATE_GVSV
PERL_HASH_FUNC_ONE_AT_A_TIME_HARD
PERL_IMPLICIT_CONTEXT PERL_IMPLICIT_SYS
PERL_MALLOC_WRAP PERL_NEW_COPY_ON_WRITE
PERL_PRESERVE_IVUV USE_64_BIT_INT USE_ITHREADS
USE_LARGE_FILES USE_LOCALE USE_LOCALE_COLLATE
USE_LOCALE_CTYPE USE_LOCALE_NUMERIC USE_LOCALE_TIME
USE_PERLIO USE_PERL_ATOF
Built under MSWin32
Compiled at Jun 1 2015 20:09:13
%ENV:
PERL5LIB="C:\cpan\build\Feed-Find-0.07-E9VO99/blib/arch;C:\cpan\build\Feed-Find-0.07-E9VO99/blib/lib;C:\cpan\build\XML-Atom-0.41-6Zwyus/blib/arch;C:\cpan\build\XML-Atom-0.41-6Zwyus/blib/lib;C:\cpan\build\URI-Fetch-0.10-CaCKOh/blib/arch;C:\cpan\build\URI-Fetch-0.10-CaCKOh/blib/lib;C:\cpan\build\HTML-Scrubber-0.14-RPGtQ5/blib/arch;C:\cpan\build\HTML-Scrubber-0.14-RPGtQ5/blib/lib;C:\cpan\build\Test-Memory-Cycle-1.04-HqSfWY/blib/arch;C:\cpan\build\Test-Memory-Cycle-1.04-HqSfWY/blib/lib;C:\cpan\build\PadWalker-2.1-2eUyaL/blib/arch;C:\cpan\build\PadWalker-2.1-2eUyaL/blib/lib;C:\cpan\build\Devel-Cycle-1.12-9tCEYr/blib/arch;C:\cpan\build\Devel-Cycle-1.12-9tCEYr/blib/lib;C:\cpan\build\Test-NoTabs-1.4-U6VG4r/blib/arch;C:\cpan\build\Test-NoTabs-1.4-U6VG4r/blib/lib;C:\cpan\build\Test-CPAN-Meta-JSON-0.16-Ig7Z_q/blib/arch;C:\cpan\build\Test-CPAN-Meta-JSON-0.16-Ig7Z_q/blib/lib;C:\cpan\build\Test-CPAN-Meta-0.25-YwuX6o/blib/arch;C:\cpan\build\Test-CPAN-Meta-0.25-YwuX6o/blib/lib;C:\cpan\build\Test-EOL-1.5-HVqZva/blib/arch;C:\cpan\build\Test-EOL-1.5-HVqZva/blib/lib"
PERL5_CPANPLUS_IS_RUNNING="3904"
PERL5_CPAN_IS_RUNNING="3904"
PERL5_CPAN_IS_RUNNING_IN_RECURSION="3912,3904"
PERL_CR_SMOKER_CURRENT="XML-Feed-Aggregator-0.0401"
PERL_EXTUTILS_AUTOINSTALL="--defaultdeps"
PERL_MM_USE_DEFAULT="1"
@INC:
C:\cpan\build\Feed-Find-0.07-E9VO99/blib/arch
C:\cpan\build\Feed-Find-0.07-E9VO99/blib/lib
C:\cpan\build\XML-Atom-0.41-6Zwyus/blib/arch
C:\cpan\build\XML-Atom-0.41-6Zwyus/blib/lib
C:\cpan\build\URI-Fetch-0.10-CaCKOh/blib/arch
C:\cpan\build\URI-Fetch-0.10-CaCKOh/blib/lib
C:\cpan\build\HTML-Scrubber-0.14-RPGtQ5/blib/arch
C:\cpan\build\HTML-Scrubber-0.14-RPGtQ5/blib/lib
C:\cpan\build\Test-Memory-Cycle-1.04-HqSfWY/blib/arch
C:\cpan\build\Test-Memory-Cycle-1.04-HqSfWY/blib/lib
C:\cpan\build\PadWalker-2.1-2eUyaL/blib/arch
C:\cpan\build\PadWalker-2.1-2eUyaL/blib/lib
C:\cpan\build\Devel-Cycle-1.12-9tCEYr/blib/arch
C:\cpan\build\Devel-Cycle-1.12-9tCEYr/blib/lib
C:\cpan\build\Test-NoTabs-1.4-U6VG4r/blib/arch
C:\cpan\build\Test-NoTabs-1.4-U6VG4r/blib/lib
C:\cpan\build\Test-CPAN-Meta-JSON-0.16-Ig7Z_q/blib/arch
C:\cpan\build\Test-CPAN-Meta-JSON-0.16-Ig7Z_q/blib/lib
C:\cpan\build\Test-CPAN-Meta-0.25-YwuX6o/blib/arch
C:\cpan\build\Test-CPAN-Meta-0.25-YwuX6o/blib/lib
C:\cpan\build\Test-EOL-1.5-HVqZva/blib/arch
C:\cpan\build\Test-EOL-1.5-HVqZva/blib/lib
C:/Strawberry/perl/site/lib
C:/Strawberry/perl/vendor/lib
C:/Strawberry/perl/lib
.