Tree-Predicate v0.03 Perl 5 v5.12.1 i86pc-solaris

Status
Pass
From
Chris Williams (BINGOS)
Dist
Tree-Predicate v0.03
Platform
Perl 5 v5.12.1 i86pc-solaris
Date
2010-08-14 22:57:33
ID
52f9a89e-a7f7-11df-9ebc-c4a68065c34d
This distribution has been tested as part of the CPAN Testers
project, supporting the Perl programming language.  See
http://wiki.cpantesters.org/ for more information or email
questions to cpan-testers-discuss@perl.org


--

Dear MARSHALL,
    
This is a computer-generated error report created automatically by
CPANPLUS, version 0.9007. Testers personal comments may appear 
at the end of this report.

MAKE TEST passed: PERL_DL_NONLAZY=1 /export/home/cpan/pit/bare/perl-5.12.1/bin/perl "-MExtUtils::Command::MM" "-e" "test_harness(0, 'inc', 'blib/lib', 'blib/arch')" t/*.t
# Testing Tree::Predicate 0.03, Perl 5.012001, /export/home/cpan/pit/bare/perl-5.12.1/bin/perl
t/00-load.t ....... ok
t/boilerplate.t ... ok
t/leaf.t .......... ok
t/pod-coverage.t .. skipped: Test::Pod::Coverage 1.08 required for testing POD coverage
t/pod.t ........... skipped: Test::Pod 1.22 required for testing POD
t/tree.t .......... ok
All tests successful.
Files=6, Tests=54,  3 wallclock secs ( 0.23 usr  0.54 sys +  0.83 cusr  1.11 csys =  2.71 CPU)
Result: PASS

[MSG] [Sat Aug 14 23:36:36 2010] Sending test report for 'Tree-Predicate-0.03'

This report was machine-generated by CPANPLUS::Dist::YACSmoke 0.58.
Powered by minismokebox version 0.26

------------------------------
ENVIRONMENT AND OTHER CONTEXT
------------------------------

Environment variables:

    AUTOMATED_TESTING = 1
    LC_COLLATE = en_GB.UTF-8
    LC_CTYPE = en_GB.UTF-8
    LC_MESSAGES = C
    LC_MONETARY = en_GB.UTF-8
    LC_NUMERIC = en_GB.UTF-8
    LC_TIME = en_GB.UTF-8
    PATH = /opt/SUNWspro/bin:/usr/ccs/bin:/usr/perl5/bin:/usr/local/bin:/usr/local/sbin:/usr/bin::/usr/sfw/bin
    PERL5LIB = :/export/home/cpan/pit/bare/conf/perl-5.12.1/.cpanplus/5.12.1/build/Tree-Predicate-0.03/blib/lib:/export/home/cpan/pit/bare/conf/perl-5.12.1/.cpanplus/5.12.1/build/Tree-Predicate-0.03/blib/arch
    PERL5_CPANPLUS_IS_RUNNING = 10596
    PERL5_CPANPLUS_IS_VERSION = 0.9007
    PERL5_MINISMOKEBOX = 0.26
    PERL5_YACSMOKE_BASE = /export/home/cpan/pit/bare/conf/perl-5.12.1
    PERL_EXTUTILS_AUTOINSTALL = --defaultdeps
    PERL_MM_USE_DEFAULT = 1
    SHELL = /usr/bin/bash
    TERM = vt100

Perl special variables (and OS-specific diagnostics, for MSWin32):

    Perl: $^X = /export/home/cpan/pit/bare/perl-5.12.1/bin/perl
    UID:  $<  = 100
    EUID: $>  = 100
    GID:  $(  = 100 100
    EGID: $)  = 100 100


-------------------------------


--

Summary of my perl5 (revision 5 version 12 subversion 1) configuration:
   
  Platform:
    osname=solaris, osvers=2.10, archname=i86pc-solaris
    uname='sunos solarity 5.10 generic_118855-33 i86pc i386 i86pc '
    config_args='-des -Dprefix=/export/home/cpan/pit/bare/perl-5.12.1'
    hint=recommended, useposix=true, d_sigaction=define
    useithreads=undef, usemultiplicity=undef
    useperlio=define, d_sfio=undef, uselargefiles=define, usesocks=undef
    use64bitint=undef, use64bitall=undef, uselongdouble=undef
    usemymalloc=n, bincompat5005=undef
  Compiler:
    cc='/opt/SUNWspro/bin/cc', ccflags ='-I/usr/local/include -D_LARGEFILE_SOURCE -D_FILE_OFFSET_BITS=64 -DPERL_USE_SAFE_PUTENV',
    optimize='-O',
    cppflags='-I/usr/local/include'
    ccversion='Sun C 5.8 2005/10/13', gccversion='', gccosandvers=''
    intsize=4, longsize=4, ptrsize=4, doublesize=8, byteorder=1234
    d_longlong=define, longlongsize=8, d_longdbl=define, longdblsize=12
    ivtype='long', ivsize=4, nvtype='double', nvsize=8, Off_t='off_t', lseeksize=8
    alignbytes=4, prototype=define
  Linker and Libraries:
    ld='/opt/SUNWspro/bin/cc', ldflags =' -L/usr/lib -L/usr/ccs/lib -L/opt/SUNWspro/prod/lib -L/lib -L/usr/local/lib '
    libpth=/usr/lib /usr/ccs/lib /opt/SUNWspro/prod/lib /lib /usr/local/lib
    libs=-lsocket -lnsl -ldl -lm -lc
    perllibs=-lsocket -lnsl -ldl -lm -lc
    libc=/lib/libc.so, so=so, useshrplib=false, libperl=libperl.a
    gnulibc_version=''
  Dynamic Linking:
    dlsrc=dl_dlopen.xs, dlext=so, d_dlsymun=undef, ccdlflags=' '
    cccdlflags='-KPIC', lddlflags='-G -L/usr/lib -L/usr/ccs/lib -L/opt/SUNWspro/prod/lib -L/lib -L/usr/local/lib'


Characteristics of this binary (from libperl): 
  Compile-time options: PERL_DONT_CREATE_GVSV PERL_MALLOC_WRAP
                        PERL_USE_SAFE_PUTENV USE_LARGE_FILES USE_PERLIO
                        USE_PERL_ATOF
  Built under solaris
  Compiled at Jun  5 2010 18:52:09
  %ENV:
    PERL5LIB=":/export/home/cpan/pit/bare/conf/perl-5.12.1/.cpanplus/5.12.1/build/Tree-Predicate-0.03/blib/lib:/export/home/cpan/pit/bare/conf/perl-5.12.1/.cpanplus/5.12.1/build/Tree-Predicate-0.03/blib/arch"
    PERL5_CPANPLUS_IS_RUNNING="10596"
    PERL5_CPANPLUS_IS_VERSION="0.9007"
    PERL5_MINISMOKEBOX="0.26"
    PERL5_YACSMOKE_BASE="/export/home/cpan/pit/bare/conf/perl-5.12.1"
    PERL_EXTUTILS_AUTOINSTALL="--defaultdeps"
    PERL_MM_USE_DEFAULT="1"
  @INC:
    /export/home/cpan/pit/bare/conf/perl-5.12.1/.cpanplus/5.12.1/build/Tree-Predicate-0.03/blib/lib
    /export/home/cpan/pit/bare/conf/perl-5.12.1/.cpanplus/5.12.1/build/Tree-Predicate-0.03/blib/arch
    /export/home/cpan/pit/bare/perl-5.12.1/lib/site_perl/5.12.1/i86pc-solaris
    /export/home/cpan/pit/bare/perl-5.12.1/lib/site_perl/5.12.1
    /export/home/cpan/pit/bare/perl-5.12.1/lib/5.12.1/i86pc-solaris
    /export/home/cpan/pit/bare/perl-5.12.1/lib/5.12.1
    .