Protocol-HTTP v1.1.3 Perl 5 v5.24.4 x86_64-linux-thread-multi

Status
Pass
From
David Cantrell (DCANTRELL)
Dist
Protocol-HTTP v1.1.3
Platform
Perl 5 v5.24.4 x86_64-linux-thread-multi
Date
2021-07-04 15:05:52
ID
52ed12f0-dcd9-11eb-930f-df68bb8d1a8c
This distribution has been tested as part of the CPAN Testers
project, supporting the Perl programming language.  See
http://wiki.cpantesters.org/ for more information or email
questions to cpan-testers-discuss@perl.org


--
Dear Oleg Pronin,

This is a computer-generated report for Protocol-HTTP-1.1.3
on perl 5.24.4, created by CPAN-Reporter-1.2018.

Thank you for uploading your work to CPAN.  Congratulations!
All tests were successful.

Sections of this report:

    * Tester comments
    * Program output
    * Prerequisites
    * Environment and other context

------------------------------
TESTER COMMENTS
------------------------------

Additional comments from tester:

this report is from an automated smoke testing program
and was not reviewed by a human for accuracy

------------------------------
PROGRAM OUTPUT
------------------------------

Output from '/usr/bin/make test':

"/home/david/cpantesting/perl-5.24.4/bin/perl" -MExtUtils::Command::MM -e 'cp_nonempty' -- HTTP.bs blib/arch/auto/Protocol/HTTP/HTTP.bs 644
cd clib/build && cd ../cmake_props && make  panda-protocol-http
make[1]: Entering directory '/home/david/cpantesting/perl-5.24.4/.cpan/build/Protocol-HTTP-1.1.3-cN3h9X/clib/cmake_props'
make[2]: Entering directory '/home/david/cpantesting/perl-5.24.4/.cpan/build/Protocol-HTTP-1.1.3-cN3h9X/clib/cmake_props'
make[3]: Entering directory '/home/david/cpantesting/perl-5.24.4/.cpan/build/Protocol-HTTP-1.1.3-cN3h9X/clib/cmake_props'
make[4]: Entering directory '/home/david/cpantesting/perl-5.24.4/.cpan/build/Protocol-HTTP-1.1.3-cN3h9X/clib/cmake_props'
make[4]: Leaving directory '/home/david/cpantesting/perl-5.24.4/.cpan/build/Protocol-HTTP-1.1.3-cN3h9X/clib/cmake_props'
[100%] Built target panda-protocol-http
make[3]: Leaving directory '/home/david/cpantesting/perl-5.24.4/.cpan/build/Protocol-HTTP-1.1.3-cN3h9X/clib/cmake_props'
make[2]: Leaving directory '/home/david/cpantesting/perl-5.24.4/.cpan/build/Protocol-HTTP-1.1.3-cN3h9X/clib/cmake_props'
make[1]: Leaving directory '/home/david/cpantesting/perl-5.24.4/.cpan/build/Protocol-HTTP-1.1.3-cN3h9X/clib/cmake_props'
cd clib/build && make install > /dev/null 2>&1
/usr/bin/cmake -E copy_directory clib/build/cmake_prefix/include blib/arch/Protocol/HTTP.x/i/
Skip blib/arch/Protocol/HTTP/Message.pm (unchanged)
Skip blib/arch/Protocol/HTTP/RequestParser.pm (unchanged)
Skip blib/arch/Protocol/HTTP.x/info (unchanged)
Skip blib/arch/Protocol/HTTP/ResponseParser.pm (unchanged)
Skip blib/arch/Protocol/HTTP/Cookiejar.pod (unchanged)
Skip blib/arch/Protocol/HTTP/Compression.pm (unchanged)
Skip blib/arch/Protocol/HTTP/Response.pm (unchanged)
Skip blib/arch/Protocol/HTTP/Error.pm (unchanged)
Skip blib/arch/Protocol/HTTP/Compression.pod (unchanged)
Skip blib/arch/Protocol/HTTP/Error.pod (unchanged)
Skip blib/arch/Protocol/HTTP/Request.pm (unchanged)
Skip blib/arch/Protocol/HTTP/Cookiejar.pm (unchanged)
Skip blib/arch/Protocol/HTTP/ResponseParser.pod (unchanged)
Skip blib/arch/Protocol/HTTP/RequestParser.pod (unchanged)
Skip blib/arch/Protocol/HTTP.x/i/xs/protocol/http.h (unchanged)
Skip blib/arch/Protocol/HTTP/Request.pod (unchanged)
Skip blib/arch/Protocol/HTTP.pod (unchanged)
Skip blib/arch/Protocol/HTTP/Response.pod (unchanged)
Skip blib/arch/Protocol/HTTP.pm (unchanged)
Skip blib/arch/Protocol/HTTP/Message.pod (unchanged)
make[1]: Nothing to be done for 'object'.
Running Mkbootstrap for MyTest ()
chmod 644 "MyTest.bs"
"/home/david/cpantesting/perl-5.24.4/bin/perl" -MExtUtils::Command::MM -e 'cp_nonempty' -- MyTest.bs blib/arch/auto/MyTest/MyTest.bs 644
cd clib/build && cd ../cmake_props && make  panda-protocol-http-tests
[ 44%] Built target panda-protocol-http
Scanning dependencies of target panda-protocol-http-tests
[ 47%] Building CXX object ../build/CMakeFiles/panda-protocol-http-tests.dir/tests/bench.cc.o
[ 50%] Building CXX object ../build/CMakeFiles/panda-protocol-http-tests.dir/tests/compile/chunks.cc.o
[ 52%] Building CXX object ../build/CMakeFiles/panda-protocol-http-tests.dir/tests/compile/compression.cc.o
[ 55%] Building CXX object ../build/CMakeFiles/panda-protocol-http-tests.dir/tests/compile/cookies.cc.o
[ 58%] Building CXX object ../build/CMakeFiles/panda-protocol-http-tests.dir/tests/compile/form.cc.o
[ 61%] Building CXX object ../build/CMakeFiles/panda-protocol-http-tests.dir/tests/compile/message.cc.o
[ 63%] Building CXX object ../build/CMakeFiles/panda-protocol-http-tests.dir/tests/compile/request.cc.o
[ 66%] Building CXX object ../build/CMakeFiles/panda-protocol-http-tests.dir/tests/compile/response.cc.o
[ 69%] Building CXX object ../build/CMakeFiles/panda-protocol-http-tests.dir/tests/cookie-jar.cc.o
[ 72%] Building CXX object ../build/CMakeFiles/panda-protocol-http-tests.dir/tests/header.cc.o
[ 75%] Building CXX object ../build/CMakeFiles/panda-protocol-http-tests.dir/tests/parse/chunks.cc.o
[ 77%] Building CXX object ../build/CMakeFiles/panda-protocol-http-tests.dir/tests/parse/compression.cc.o
[ 80%] Building CXX object ../build/CMakeFiles/panda-protocol-http-tests.dir/tests/parse/content-length.cc.o
[ 83%] Building CXX object ../build/CMakeFiles/panda-protocol-http-tests.dir/tests/parse/cookies.cc.o
[ 86%] Building CXX object ../build/CMakeFiles/panda-protocol-http-tests.dir/tests/parse/message.cc.o
[ 88%] Building CXX object ../build/CMakeFiles/panda-protocol-http-tests.dir/tests/parse/request.cc.o
[ 91%] Building CXX object ../build/CMakeFiles/panda-protocol-http-tests.dir/tests/parse/response.cc.o
[ 94%] Building CXX object ../build/CMakeFiles/panda-protocol-http-tests.dir/tests/parse/special-codes.cc.o
[ 97%] Building CXX object ../build/CMakeFiles/panda-protocol-http-tests.dir/tests/regression.cc.o
[100%] Linking CXX static library libpanda-protocol-http-tests.a
[100%] Built target panda-protocol-http-tests
rm -f blib/arch/auto/MyTest/MyTest.so
c++  -shared -O2 -L/usr/local/lib -fstack-protector-strong   blib/arch/auto/Protocol/HTTP/HTTP.so -Wl,--whole-archive clib/build/libpanda-protocol-http-tests.a  -Wl,--no-whole-archive -lz -o blib/arch/auto/MyTest/MyTest.so  \
      \
  
chmod 755 blib/arch/auto/MyTest/MyTest.so
cd clib/build && make install > /dev/null 2>&1
Skip blib/arch/Protocol/HTTP.pm (unchanged)
Skip blib/arch/Protocol/HTTP/Response.pm (unchanged)
Skip blib/arch/Protocol/HTTP/Message.pm (unchanged)
Skip blib/arch/Protocol/HTTP/Compression.pod (unchanged)
Skip blib/arch/Protocol/HTTP.pod (unchanged)
Skip blib/arch/Protocol/HTTP/ResponseParser.pod (unchanged)
Skip blib/arch/Protocol/HTTP/Request.pm (unchanged)
Skip blib/arch/Protocol/HTTP/Message.pod (unchanged)
Skip blib/arch/Protocol/HTTP/Response.pod (unchanged)
Skip blib/arch/Protocol/HTTP/Request.pod (unchanged)
Skip blib/arch/Protocol/HTTP/Error.pod (unchanged)
Skip blib/arch/Protocol/HTTP/Cookiejar.pod (unchanged)
Skip blib/arch/Protocol/HTTP/RequestParser.pod (unchanged)
Skip blib/arch/Protocol/HTTP/ResponseParser.pm (unchanged)
Skip blib/arch/Protocol/HTTP/Error.pm (unchanged)
Skip blib/arch/Protocol/HTTP/RequestParser.pm (unchanged)
Skip blib/arch/Protocol/HTTP/Compression.pm (unchanged)
Skip blib/arch/Protocol/HTTP/Cookiejar.pm (unchanged)
Manifying 9 pod documents
PERL_DL_NONLAZY=1 "/home/david/cpantesting/perl-5.24.4/bin/perl" "-MExtUtils::Command::MM" "-MTest::Harness" "-e" "undef *Test::Harness::Switches; test_harness(0, 'blib/lib', 'blib/arch')" t/*.t t/*/*.t
t/compile/chunks.t ........ ok
t/compile/compression.t ... ok
t/compile/cookies.t ....... ok
t/compile/form.t .......... ok
t/compile/message.t ....... ok
t/compile/request.t ....... ok
t/compile/response.t ...... ok
t/cookie-jar.t ............ ok
t/header.t ................ ok
t/parse/chunks.t .......... ok
t/parse/compression.t ..... ok
t/parse/content-length.t .. ok
t/parse/cookies.t ......... ok
t/parse/message.t ......... ok
t/parse/request.t ......... ok
t/parse/response.t ........ ok
t/parse/special-codes.t ... ok
t/regression.t ............ ok
All tests successful.
Files=18, Tests=187, 19 wallclock secs ( 0.50 usr  0.12 sys +  6.78 cusr  0.88 csys =  8.28 CPU)
Result: PASS

------------------------------
PREREQUISITES
------------------------------

Prerequisite modules loaded:

requires:

    Module             Need      Have    
    ------------------ --------- --------
    Date               v5.2.7    5.2.7   
    Export::XS         v3.0.5    3.0.5   
    next::XS           v1.0.7    1.0.7   
    URI::XS            v2.1.3    2.1.3   
    XS::Framework      v1.4.3    1.4.3   
    XS::Install        v1.3.3    1.3.3   
    XS::libboost::mini v1.76.0.0 1.76.0.0
    XS::libpanda       v1.5.3    1.5.3   
    XS::librangeV3     v1.0.2    1.0.2   

build_requires:

    Module             Need      Have    
    ------------------ --------- --------
    Date               v5.2.7    5.2.7   
    Export::XS         v3.0.5    3.0.5   
    next::XS           v1.0.7    1.0.7   
    Test::Catch        v1.0.16   1.0.16  
    Test::Deep         0         1.128   
    Test::Fatal        0         0.014   
    Test::More         0         1.302185
    Test::Simple       0.96      1.302185
    URI::XS            v2.1.3    2.1.3   
    XS::Framework      v1.4.3    1.4.3   
    XS::libboost::mini v1.76.0.0 1.76.0.0
    XS::libcatch       v2.13.4.2 2.13.4.2
    XS::libpanda       v1.5.3    1.5.3   
    XS::librangeV3     v1.0.2    1.0.2   

configure_requires:

    Module             Need      Have    
    ------------------ --------- --------
    Date               v5.2.7    5.2.7   
    Export::XS         v3.0.5    3.0.5   
    next::XS           v1.0.7    1.0.7   
    Test::Catch        v1.0.16   1.0.16  
    URI::XS            v2.1.3    2.1.3   
    XS::Framework      v1.4.3    1.4.3   
    XS::Install        v1.3.3    1.3.3   
    XS::libboost::mini v1.76.0.0 1.76.0.0
    XS::libcatch       v2.13.4.2 2.13.4.2
    XS::libpanda       v1.5.3    1.5.3   
    XS::librangeV3     v1.0.2    1.0.2   


------------------------------
ENVIRONMENT AND OTHER CONTEXT
------------------------------

Environment variables:

    AUTOMATED_TESTING = 1
    LANG = en_GB.UTF-8
    LANGUAGE = en_GB:en
    LC_TERMINAL = iTerm2
    LC_TERMINAL_VERSION = 3.4.8
    NONINTERACTIVE_TESTING = 1
    PATH = /home/david/perl5/perlbrew/bin:/home/david/perl5/perlbrew/perls/perl-5.30.2/bin:/home/david/bin:/usr/local/bin:/usr/bin:/bin:/usr/local/games:/usr/games
    PERL = 5.24.4
    PERL5LIB = 
    PERL5OPT = 
    PERL5_CPANPLUS_IS_RUNNING = 7507
    PERL5_CPAN_IS_RUNNING = 7507
    PERLBREW_HOME = /home/david/.perlbrew
    PERLBREW_MANPATH = /home/david/perl5/perlbrew/perls/perl-5.30.2/man
    PERLBREW_PATH = /home/david/perl5/perlbrew/bin:/home/david/perl5/perlbrew/perls/perl-5.30.2/bin
    PERLBREW_PERL = perl-5.30.2
    PERLBREW_ROOT = /home/david/perl5/perlbrew
    PERLBREW_SHELLRC_VERSION = 0.89
    PERLBREW_VERSION = 0.89
    PERLVER = 5.24.4
    PERL_INLINE_DIRECTORY = /home/david/.Inline-5.24.4
    PERL_MM_USE_DEFAULT = 1
    PERL_USE_UNSAFE_INC = 0
    SHELL = /bin/bash
    TERM = screen

Perl special variables (and OS-specific diagnostics, for MSWin32):

    $^X = /home/david/cpantesting/perl-5.24.4/bin/perl
    $UID/$EUID = 1000 / 1000
    $GID = 1000 24 25 27 29 30 44 46 109 1000
    $EGID = 1000 24 25 27 29 30 44 46 109 1000

Perl module toolchain versions installed:

    Module              Have      
    ------------------- ----------
    CPAN                2.11_01   
    CPAN::Meta          2.150005  
    Cwd                 3.63_01   
    ExtUtils::CBuilder  0.280225  
    ExtUtils::Command   7.62      
    ExtUtils::Install   2.06      
    ExtUtils::MakeMaker 7.62      
    ExtUtils::Manifest  1.70      
    ExtUtils::ParseXS   3.31      
    File::Spec          3.63_01   
    JSON                n/a       
    JSON::PP            2.27300_01
    Module::Build       0.4231    
    Module::Signature   n/a       
    Parse::CPAN::Meta   1.4417_001
    Test::Harness       3.36_01   
    Test::More          1.302185  
    YAML                1.30      
    YAML::Syck          n/a       
    version             0.9916    


--

Summary of my perl5 (revision 5 version 24 subversion 4) configuration:
   
  Platform:
    osname=linux, osvers=4.9.0-8-amd64, archname=x86_64-linux-thread-multi
    uname='linux pigsty 4.9.0-8-amd64 #1 smp debian 4.9.144-3 (2019-02-02) x86_64 gnulinux '
    config_args='-de -Duse64bitall -Dusethreads -Dprefix=/home/david/cpantesting/perl-5.24.4'
    hint=recommended, useposix=true, d_sigaction=define
    useithreads=define, usemultiplicity=define
    use64bitint=define, use64bitall=define, uselongdouble=undef
    usemymalloc=n, bincompat5005=undef
  Compiler:
    cc='cc', ccflags ='-D_REENTRANT -D_GNU_SOURCE -fwrapv -fno-strict-aliasing -pipe -fstack-protector-strong -I/usr/local/include -D_LARGEFILE_SOURCE -D_FILE_OFFSET_BITS=64 -D_FORTIFY_SOURCE=2',
    optimize='-O2',
    cppflags='-D_REENTRANT -D_GNU_SOURCE -fwrapv -fno-strict-aliasing -pipe -fstack-protector-strong -I/usr/local/include'
    ccversion='', gccversion='6.3.0 20170516', gccosandvers=''
    intsize=4, longsize=8, ptrsize=8, doublesize=8, byteorder=12345678, doublekind=3
    d_longlong=define, longlongsize=8, d_longdbl=define, longdblsize=16, longdblkind=3
    ivtype='long', ivsize=8, nvtype='double', nvsize=8, Off_t='off_t', lseeksize=8
    alignbytes=8, prototype=define
  Linker and Libraries:
    ld='cc', ldflags =' -fstack-protector-strong -L/usr/local/lib'
    libpth=/usr/local/lib /usr/lib/gcc/x86_64-linux-gnu/6/include-fixed /usr/include/x86_64-linux-gnu /usr/lib /lib/x86_64-linux-gnu /lib/../lib /usr/lib/x86_64-linux-gnu /usr/lib/../lib /lib
    libs=-lpthread -lnsl -ldb -ldl -lm -lcrypt -lutil -lc
    perllibs=-lpthread -lnsl -ldl -lm -lcrypt -lutil -lc
    libc=libc-2.24.so, so=so, useshrplib=false, libperl=libperl.a
    gnulibc_version='2.24'
  Dynamic Linking:
    dlsrc=dl_dlopen.xs, dlext=so, d_dlsymun=undef, ccdlflags='-Wl,-E'
    cccdlflags='-fPIC', lddlflags='-shared -O2 -L/usr/local/lib -fstack-protector-strong'


Characteristics of this binary (from libperl): 
  Compile-time options: HAS_TIMES MULTIPLICITY PERLIO_LAYERS
                        PERL_COPY_ON_WRITE PERL_DONT_CREATE_GVSV
                        PERL_HASH_FUNC_ONE_AT_A_TIME_HARD
                        PERL_IMPLICIT_CONTEXT PERL_MALLOC_WRAP
                        PERL_PRESERVE_IVUV USE_64_BIT_ALL USE_64_BIT_INT
                        USE_ITHREADS USE_LARGE_FILES USE_LOCALE
                        USE_LOCALE_COLLATE USE_LOCALE_CTYPE
                        USE_LOCALE_NUMERIC USE_LOCALE_TIME USE_PERLIO
                        USE_PERL_ATOF USE_REENTRANT_API
  Built under linux
  Compiled at Apr 25 2019 01:35:31
  %ENV:
    PERL="5.24.4"
    PERL5LIB=""
    PERL5OPT=""
    PERL5_CPANPLUS_IS_RUNNING="7507"
    PERL5_CPAN_IS_RUNNING="7507"
    PERLBREW_HOME="/home/david/.perlbrew"
    PERLBREW_MANPATH="/home/david/perl5/perlbrew/perls/perl-5.30.2/man"
    PERLBREW_PATH="/home/david/perl5/perlbrew/bin:/home/david/perl5/perlbrew/perls/perl-5.30.2/bin"
    PERLBREW_PERL="perl-5.30.2"
    PERLBREW_ROOT="/home/david/perl5/perlbrew"
    PERLBREW_SHELLRC_VERSION="0.89"
    PERLBREW_VERSION="0.89"
    PERLVER="5.24.4"
    PERL_INLINE_DIRECTORY="/home/david/.Inline-5.24.4"
    PERL_MM_USE_DEFAULT="1"
    PERL_USE_UNSAFE_INC="0"
  @INC:
    /home/david/cpantesting/perl-5.24.4/lib/site_perl/5.24.4/x86_64-linux-thread-multi
    /home/david/cpantesting/perl-5.24.4/lib/site_perl/5.24.4
    /home/david/cpantesting/perl-5.24.4/lib/5.24.4/x86_64-linux-thread-multi
    /home/david/cpantesting/perl-5.24.4/lib/5.24.4
    .