File-Serialize v1.4.0 Perl 5 v5.20.0 darwin-2level

Status
Pass
From
Neil Bowers
Dist
File-Serialize v1.4.0
Platform
Perl 5 v5.20.0 darwin-2level
Date
2021-06-07 12:31:46
ID
52d50d84-c78c-11eb-a396-c1c9ed01cbbc
This distribution has been tested as part of the CPAN Testers
project, supporting the Perl programming language.  See
http://wiki.cpantesters.org/ for more information or email
questions to cpan-testers-discuss@perl.org


--
Dear Yanick Champoux,

This is a computer-generated report for File-Serialize-1.4.0
on perl 5.20.0, created by CPAN-Reporter-1.2018.

Thank you for uploading your work to CPAN.  Congratulations!
All tests were successful.

Sections of this report:

    * Tester comments
    * Program output
    * Prerequisites
    * Environment and other context

------------------------------
TESTER COMMENTS
------------------------------

Additional comments from tester:

none provided

------------------------------
PROGRAM OUTPUT
------------------------------

Output from '/usr/bin/make test':

PERL_DL_NONLAZY=1 "/usr/local/perl/520/bin/perl" "-MExtUtils::Command::MM" "-MTest::Harness" "-e" "undef *Test::Harness::Switches; test_harness(0, 'blib/lib', 'blib/arch')" t/*.t
t/00-compile.t .......... ok
# 
# Versions for all modules listed in MYMETA.json (including optional ones):
# 
# === Configure Requires ===
# 
#     Module              Want Have
#     ------------------- ---- ----
#     ExtUtils::MakeMaker  any 7.62
# 
# === Build Requires ===
# 
#     Module              Want Have
#     ------------------- ---- ----
#     ExtUtils::MakeMaker  any 7.62
# 
# === Test Requires ===
# 
#     Module              Want     Have
#     ------------------- ---- --------
#     ExtUtils::MakeMaker  any     7.62
#     File::Spec           any     3.47
#     IO::Handle           any     1.35
#     IPC::Open3           any     1.16
#     Test2::V0            any 0.000135
#     Test::Exception      any     0.32
#     Test::More           any 1.302177
#     Test::Requires       any     0.07
#     Test::Warnings       any    0.021
#     utf8                 any     1.13
# 
# === Test Recommends ===
# 
#     Module         Want     Have
#     ---------- -------- --------
#     CPAN::Meta 2.120900 2.143240
# 
# === Runtime Requires ===
# 
#     Module            Want     Have
#     ----------------- ---- --------
#     Class::Load        any     0.21
#     Exporter::Tiny     any 1.002002
#     List::AllUtils     any     0.18
#     List::MoreUtils    any     0.33
#     List::Util        1.41     1.55
#     Module::Info       any     0.36
#     Module::Pluggable  any      5.1
#     Module::Runtime    any    0.014
#     Moo                any 2.000002
#     Path::Tiny         any    0.118
#     Role::Tiny         any 2.000001
#     feature            any     1.36
#     parent             any    0.228
#     strict             any     1.08
#     warnings           any     1.23
# 
# === Runtime Recommends ===
# 
#     Module        Want     Have
#     ------------- ---- --------
#     JSON5          any  missing
#     JSON::MaybeXS  any 1.003005
#     YAML::Tiny     any     1.62
# 
t/00-report-prereqs.t ... ok
t/add_extension.t ....... ok
t/basic.t ............... ok
Subroutine Path::Tiny::spew_utf8 redefined at t/defaults.t line 12.
t/defaults.t ............ ok
t/json-allow-non-ref.t .. ok
t/markdown.t ............ ok
t/precedence.t .......... ok
t/serializer.t .......... ok
t/transerialize.t ....... ok
t/utf8-yaml.t ........... ok
t/utf8.t ................ ok
All tests successful.
Files=12, Tests=52,  3 wallclock secs ( 0.05 usr  0.02 sys +  2.29 cusr  0.57 csys =  2.93 CPU)
Result: PASS

------------------------------
PREREQUISITES
------------------------------

Prerequisite modules loaded:

requires:

    Module              Need     Have    
    ------------------- -------- --------
    Class::Load         0        0.21    
    Exporter::Tiny      0        1.002002
    feature             0        1.36    
    List::AllUtils      0        0.18    
    List::MoreUtils     0        0.33    
    List::Util          1.41     1.55    
    Module::Info        0        0.36    
    Module::Pluggable   0        5.1     
    Module::Runtime     0        0.014   
    Moo                 0        2.000002
    parent              0        0.228   
    Path::Tiny          0        0.118   
    perl                5.020000 5.020000
    Role::Tiny          0        2.000001
    strict              0        1.08    
    warnings            0        1.23    

build_requires:

    Module              Need     Have    
    ------------------- -------- --------
    ExtUtils::MakeMaker 0        7.62    
    File::Spec          0        3.47    
    IO::Handle          0        1.35    
    IPC::Open3          0        1.16    
    Test2::V0           0        0.000135
    Test::Exception     0        0.32    
    Test::More          0        1.302177
    Test::Requires      0        0.07    
    Test::Warnings      0        0.021   
    utf8                0        1.13    

configure_requires:

    Module              Need     Have    
    ------------------- -------- --------
    ExtUtils::MakeMaker 0        7.62    


------------------------------
ENVIRONMENT AND OTHER CONTEXT
------------------------------

Environment variables:

    PATH = /usr/local/apache/bin:/usr/local/bin:/usr/local/bin:/usr/bin:/bin:/usr/sbin:/sbin:/Applications/VMware Fusion.app/Contents/Public:/usr/local/go/bin:/opt/X11/bin:/usr/local/git/bin
    PERL5LIB = 
    PERL5OPT = 
    PERL5_CPANPLUS_IS_RUNNING = 85711
    PERL5_CPAN_IS_RUNNING = 85711
    SHELL = /bin/sh
    TERM = xterm

Perl special variables (and OS-specific diagnostics, for MSWin32):

    $^X = /usr/local/perl/520/bin/perl
    $UID/$EUID = 0 / 0
    $GID = 0 0 1 2 3 4 5 8 9 12 20 29 61 80 701 702 33
    $EGID = 0 0 1 2 3 4 5 8 9 12 20 29 61 80 701 702 33

Perl module toolchain versions installed:

    Module              Have    
    ------------------- --------
    CPAN                2.05    
    CPAN::Meta          2.143240
    Cwd                 3.47    
    ExtUtils::CBuilder  0.280216
    ExtUtils::Command   7.62    
    ExtUtils::Install   2.06    
    ExtUtils::MakeMaker 7.62    
    ExtUtils::Manifest  1.70    
    ExtUtils::ParseXS   3.35    
    File::Spec          3.47    
    JSON                2.90    
    JSON::PP            2.27203 
    Module::Build       0.4231  
    Module::Signature   0.73    
    Parse::CPAN::Meta   1.4414  
    Test::Harness       3.30    
    Test::More          1.302177
    YAML                1.30    
    YAML::Syck          n/a     
    version             0.9929  


--

Summary of my perl5 (revision 5 version 20 subversion 0) configuration:
   
  Platform:
    osname=darwin, osvers=12.5.0, archname=darwin-2level
    uname='darwin tucumcari 12.5.0 darwin kernel version 12.5.0: sun sep 29 13:33:47 pdt 2013; root:xnu-2050.48.12~1release_x86_64 x86_64 '
    config_args='-Dprefix=/usr/local/perl/520'
    hint=recommended, useposix=true, d_sigaction=define
    useithreads=undef, usemultiplicity=undef
    use64bitint=define, use64bitall=define, uselongdouble=undef
    usemymalloc=n, bincompat5005=undef
  Compiler:
    cc='gcc', ccflags ='-fno-common -DPERL_DARWIN -fno-strict-aliasing -pipe -fstack-protector -I/usr/local/include -I/opt/local/include',
    optimize='-O3',
    cppflags='-fno-common -DPERL_DARWIN -fno-strict-aliasing -pipe -fstack-protector -I/usr/local/include -I/opt/local/include'
    ccversion='', gccversion='4.2.1 (Based on Apple Inc. build 5658) (LLVM build 2336.11.00)', gccosandvers=''
    intsize=4, longsize=8, ptrsize=8, doublesize=8, byteorder=12345678
    d_longlong=define, longlongsize=8, d_longdbl=define, longdblsize=16
    ivtype='long', ivsize=8, nvtype='double', nvsize=8, Off_t='off_t', lseeksize=8
    alignbytes=8, prototype=define
  Linker and Libraries:
    ld='env MACOSX_DEPLOYMENT_TARGET=10.3 gcc', ldflags =' -fstack-protector -L/usr/local/lib -L/opt/local/lib'
    libpth=/usr/local/lib /usr/lib /opt/local/lib
    libs=-lgdbm -ldbm -ldl -lm -lutil -lc
    perllibs=-ldl -lm -lutil -lc
    libc=, so=dylib, useshrplib=false, libperl=libperl.a
    gnulibc_version=''
  Dynamic Linking:
    dlsrc=dl_dlopen.xs, dlext=bundle, d_dlsymun=undef, ccdlflags=' '
    cccdlflags=' ', lddlflags=' -bundle -undefined dynamic_lookup -L/usr/local/lib -L/opt/local/lib -fstack-protector'


Characteristics of this binary (from libperl): 
  Compile-time options: HAS_TIMES PERLIO_LAYERS PERL_DONT_CREATE_GVSV
                        PERL_HASH_FUNC_ONE_AT_A_TIME_HARD PERL_MALLOC_WRAP
                        PERL_NEW_COPY_ON_WRITE PERL_PRESERVE_IVUV
                        USE_64_BIT_ALL USE_64_BIT_INT USE_LARGE_FILES
                        USE_LOCALE USE_LOCALE_COLLATE USE_LOCALE_CTYPE
                        USE_LOCALE_NUMERIC USE_PERLIO USE_PERL_ATOF
  Built under darwin
  Compiled at May 27 2014 16:26:34
  %ENV:
    PERL5LIB=""
    PERL5OPT=""
    PERL5_CPANPLUS_IS_RUNNING="85711"
    PERL5_CPAN_IS_RUNNING="85711"
  @INC:
    /usr/local/perl/520/lib/site_perl/5.20.0/darwin-2level
    /usr/local/perl/520/lib/site_perl/5.20.0
    /usr/local/perl/520/lib/5.20.0/darwin-2level
    /usr/local/perl/520/lib/5.20.0
    .