Back
From: metabase:user:a4f2d470-4833-11e2-8578-301e0d1e1f01
Subject: PASS Acme-Constructor-Pythonic-0.002 v5.20.0 GNU/Linux
Date: 2014-05-29T15:17:18Z
This distribution has been tested as part of the CPAN Testers
project, supporting the Perl programming language. See
http://wiki.cpantesters.org/ for more information or email
questions to cpan-testers-discuss@perl.org
--
Acme-Constructor-Pythonic-0.002 ... PASS
Perl : v5.20.0
System : linux
Local Versions :
Test::More : 1.001002
Exporter::Tiny : 0.038
ExtUtils::MakeMaker : 6.98
Module::Runtime : 0.014
Test Output :
PERL_DL_NONLAZY=1 /home/tai/perl5/perlbrew/perls/perl-5.20.0/bin/perl "-MExtUtils::Command::MM" "-MTest::Harness" "-e" "undef *Test::Harness::Switches; test_harness(0, 'blib/lib', 'blib/arch')" t/*.t
t/01basic.t .... ok
t/02moose.t .... ok
t/03subname.t .. skipped: need Sub::Identify
All tests successful.
Files=3, Tests=5, 2 wallclock secs ( 0.12 usr 0.00 sys + 1.37 cusr 0.10 csys = 1.59 CPU)
Result: PASS
--
Summary of my perl5 (revision 5 version 20 subversion 0) configuration:
Platform:
osname=linux, osvers=3.13.0-24-generic, archname=i686-linux-thread-multi
uname='linux miranda 3.13.0-24-generic #47-ubuntu smp fri may 2 23:31:42 utc 2014 i686 i686 i686 gnulinux '
config_args='-de -Dprefix=/home/tai/perl5/perlbrew/perls/perl-5.20.0 -Dusethreads -Duselargefiles -Aeval:scriptdir=/home/tai/perl5/perlbrew/perls/perl-5.20.0/bin'
hint=recommended, useposix=true, d_sigaction=define
useithreads=define, usemultiplicity=define
use64bitint=undef, use64bitall=undef, uselongdouble=undef
usemymalloc=n, bincompat5005=undef
Compiler:
cc='cc', ccflags ='-D_REENTRANT -D_GNU_SOURCE -fwrapv -fno-strict-aliasing -pipe -fstack-protector -I/usr/local/include -D_LARGEFILE_SOURCE -D_FILE_OFFSET_BITS=64',
optimize='-O2',
cppflags='-D_REENTRANT -D_GNU_SOURCE -fwrapv -fno-strict-aliasing -pipe -fstack-protector -I/usr/local/include'
ccversion='', gccversion='4.8.2', gccosandvers=''
intsize=4, longsize=4, ptrsize=4, doublesize=8, byteorder=1234
d_longlong=define, longlongsize=8, d_longdbl=define, longdblsize=12
ivtype='long', ivsize=4, nvtype='double', nvsize=8, Off_t='off_t', lseeksize=8
alignbytes=4, prototype=define
Linker and Libraries:
ld='cc', ldflags =' -fstack-protector -L/usr/local/lib'
libpth=/usr/local/lib /usr/lib/gcc/i686-linux-gnu/4.8/include-fixed /usr/include/i386-linux-gnu /usr/lib /lib/i386-linux-gnu /lib/../lib /usr/lib/i386-linux-gnu /usr/lib/../lib /lib
libs=-lnsl -ldl -lm -lcrypt -lutil -lpthread -lc
perllibs=-lnsl -ldl -lm -lcrypt -lutil -lpthread -lc
libc=, so=so, useshrplib=false, libperl=libperl.a
gnulibc_version='2.19'
Dynamic Linking:
dlsrc=dl_dlopen.xs, dlext=so, d_dlsymun=undef, ccdlflags='-Wl,-E'
cccdlflags='-fPIC', lddlflags='-shared -O2 -L/usr/local/lib -fstack-protector'
Characteristics of this binary (from libperl):
Compile-time options: HAS_TIMES MULTIPLICITY PERLIO_LAYERS
PERL_DONT_CREATE_GVSV
PERL_HASH_FUNC_ONE_AT_A_TIME_HARD
PERL_IMPLICIT_CONTEXT PERL_MALLOC_WRAP
PERL_NEW_COPY_ON_WRITE PERL_PRESERVE_IVUV
USE_ITHREADS USE_LARGE_FILES USE_LOCALE
USE_LOCALE_COLLATE USE_LOCALE_CTYPE
USE_LOCALE_NUMERIC USE_PERLIO USE_PERL_ATOF
USE_REENTRANT_API
Built under linux
Compiled at May 28 2014 08:24:40
%ENV:
PERL5LIB="/home/tai/.perlbrew/libs/perl-5.20.0@default/lib/perl5"
PERLBREW_CSHRC_VERSION="0.63"
PERLBREW_HOME="/home/tai/.perlbrew"
PERLBREW_LIB="default"
PERLBREW_MANPATH="/home/tai/.perlbrew/libs/perl-5.20.0@default/man:/home/tai/perl5/perlbrew/perls/perl-5.20.0/man"
PERLBREW_PATH="/home/tai/.perlbrew/libs/perl-5.20.0@default/bin:/home/tai/perl5/perlbrew/bin:/home/tai/perl5/perlbrew/perls/perl-5.20.0/bin"
PERLBREW_PERL="perl-5.20.0"
PERLBREW_ROOT="/home/tai/perl5/perlbrew"
PERLBREW_VERSION="0.63"
PERLDOC="-n nroff"
PERL_LOCAL_LIB_ROOT="/home/tai/.perlbrew/libs/perl-5.20.0@default"
PERL_MB_OPT="--install_base /home/tai/.perlbrew/libs/perl-5.20.0@default"
PERL_MM_OPT="INSTALL_BASE=/home/tai/.perlbrew/libs/perl-5.20.0@default"
PERL_MM_USE_DEFAULT="1"
@INC:
/home/tai/.perlbrew/libs/perl-5.20.0@default/lib/perl5/i686-linux-thread-multi
/home/tai/.perlbrew/libs/perl-5.20.0@default/lib/perl5
/home/tai/perl5/perlbrew/perls/perl-5.20.0/lib/site_perl/5.20.0/i686-linux-thread-multi
/home/tai/perl5/perlbrew/perls/perl-5.20.0/lib/site_perl/5.20.0
/home/tai/perl5/perlbrew/perls/perl-5.20.0/lib/5.20.0/i686-linux-thread-multi
/home/tai/perl5/perlbrew/perls/perl-5.20.0/lib/5.20.0
.