AnyEvent v7.17 Perl 5 v5.26.1 x86_64-linux

Status
Pass
From
Dist
AnyEvent v7.17
Platform
Perl 5 v5.26.1 x86_64-linux
Date
2020-07-09 10:16:58
ID
52a01d88-c1cd-11ea-94dd-f825fbe9a61b
This distribution has been tested as part of the CPAN Testers
project, supporting the Perl programming language.  See
http://wiki.cpantesters.org/ for more information or email
questions to cpan-testers-discuss@perl.org


--
Dear MLEHMANN,

This is a computer-generated report for AnyEvent-7.17
on perl 5.26.1, created by App::cpanminus::reporter 0.17 (1.7043).

Thank you for uploading your work to CPAN.  Congratulations!
All tests were successful.

Sections of this report:

    * Tester comments
    * Program output
    * Prerequisites
    * Environment and other context

------------------------------
TESTER COMMENTS
------------------------------

Additional comments from tester:

none provided

------------------------------
PROGRAM OUTPUT
------------------------------

Output from '':

Building and testing AnyEvent-7.17
cp lib/AnyEvent/Impl/Glib.pm blib/lib/AnyEvent/Impl/Glib.pm
cp lib/AnyEvent/Impl/Perl.pm blib/lib/AnyEvent/Impl/Perl.pm
cp lib/AnyEvent/Impl/Event.pm blib/lib/AnyEvent/Impl/Event.pm
cp lib/AnyEvent/DNS.pm blib/lib/AnyEvent/DNS.pm
cp lib/AnyEvent/Util/uts46data.pl blib/lib/AnyEvent/Util/uts46data.pl
cp lib/AnyEvent/Impl/UV.pm blib/lib/AnyEvent/Impl/UV.pm
cp lib/AnyEvent/Util/idna.pl blib/lib/AnyEvent/Util/idna.pl
cp lib/AnyEvent/Log.pm blib/lib/AnyEvent/Log.pm
cp lib/AnyEvent/IO/IOAIO.pm blib/lib/AnyEvent/IO/IOAIO.pm
cp lib/AE.pm blib/lib/AE.pm
cp lib/AnyEvent.pm blib/lib/AnyEvent.pm
cp lib/AnyEvent/constants.pl blib/arch/AnyEvent/constants.pl
cp lib/AnyEvent/Impl/FLTK.pm blib/lib/AnyEvent/Impl/FLTK.pm
cp lib/AnyEvent/FAQ.pod blib/lib/AnyEvent/FAQ.pod
cp lib/AnyEvent/Intro.pod blib/lib/AnyEvent/Intro.pod
cp lib/AnyEvent/Loop.pm blib/lib/AnyEvent/Loop.pm
cp lib/AnyEvent/Impl/Tk.pm blib/lib/AnyEvent/Impl/Tk.pm
cp lib/AnyEvent/Handle.pm blib/lib/AnyEvent/Handle.pm
cp lib/AnyEvent/IO/Perl.pm blib/lib/AnyEvent/IO/Perl.pm
cp lib/AnyEvent/Impl/Cocoa.pm blib/lib/AnyEvent/Impl/Cocoa.pm
cp lib/AnyEvent/Impl/EV.pm blib/lib/AnyEvent/Impl/EV.pm
cp lib/AnyEvent/Impl/IOAsync.pm blib/lib/AnyEvent/Impl/IOAsync.pm
cp lib/AnyEvent/Impl/Qt.pm blib/lib/AnyEvent/Impl/Qt.pm
cp lib/AnyEvent/TLS.pm blib/lib/AnyEvent/TLS.pm
cp lib/AnyEvent/Impl/Irssi.pm blib/lib/AnyEvent/Impl/Irssi.pm
cp lib/AnyEvent/Util.pm blib/lib/AnyEvent/Util.pm
cp lib/AnyEvent/Impl/EventLib.pm blib/lib/AnyEvent/Impl/EventLib.pm
cp lib/AnyEvent/Socket.pm blib/lib/AnyEvent/Socket.pm
cp lib/AnyEvent/IO.pm blib/lib/AnyEvent/IO.pm
cp lib/AnyEvent/Debug.pm blib/lib/AnyEvent/Debug.pm
cp lib/AnyEvent/Impl/POE.pm blib/lib/AnyEvent/Impl/POE.pm
cp lib/AnyEvent/Strict.pm blib/lib/AnyEvent/Strict.pm
"/home/julien/perl5/perlbrew/perls/perl-5.26.1/bin/perl" "-Iblib/arch" "-Iblib/lib" constants.pl.PL constants.pl 
Manifying 29 pod documents
Skip blib/lib/AE.pm (unchanged)
Skip blib/lib/AnyEvent/Loop.pm (unchanged)
Skip blib/lib/AnyEvent/Strict.pm (unchanged)
Skip blib/lib/AnyEvent/Impl/FLTK.pm (unchanged)
Skip blib/lib/AnyEvent/IO/Perl.pm (unchanged)
Skip blib/lib/AnyEvent/Impl/IOAsync.pm (unchanged)
Skip blib/lib/AnyEvent/Impl/EventLib.pm (unchanged)
Skip blib/lib/AnyEvent/Impl/Cocoa.pm (unchanged)
Skip blib/lib/AnyEvent/Impl/Irssi.pm (unchanged)
Skip blib/lib/AnyEvent/TLS.pm (unchanged)
Skip blib/lib/AnyEvent/Impl/Tk.pm (unchanged)
Skip blib/lib/AnyEvent/DNS.pm (unchanged)
Skip blib/lib/AnyEvent/Socket.pm (unchanged)
Skip blib/lib/AnyEvent/Util.pm (unchanged)
Skip blib/lib/AnyEvent/IO.pm (unchanged)
Skip blib/lib/AnyEvent/Impl/Glib.pm (unchanged)
Skip blib/lib/AnyEvent/Util/idna.pl (unchanged)
Skip blib/lib/AnyEvent/Impl/EV.pm (unchanged)
Skip blib/lib/AnyEvent/FAQ.pod (unchanged)
Skip blib/lib/AnyEvent/Intro.pod (unchanged)
Skip blib/lib/AnyEvent/Impl/Qt.pm (unchanged)
Skip blib/lib/AnyEvent/IO/IOAIO.pm (unchanged)
Skip blib/lib/AnyEvent/Log.pm (unchanged)
Skip blib/lib/AnyEvent/Util/uts46data.pl (unchanged)
cp lib/AnyEvent/constants.pl blib/arch/AnyEvent/constants.pl
Skip blib/lib/AnyEvent/Impl/Perl.pm (unchanged)
Skip blib/lib/AnyEvent/Impl/POE.pm (unchanged)
Skip blib/lib/AnyEvent.pm (unchanged)
Skip blib/lib/AnyEvent/Debug.pm (unchanged)
Skip blib/lib/AnyEvent/Handle.pm (unchanged)
Skip blib/lib/AnyEvent/Impl/UV.pm (unchanged)
Skip blib/lib/AnyEvent/Impl/Event.pm (unchanged)
"/home/julien/perl5/perlbrew/perls/perl-5.26.1/bin/perl" "-Iblib/arch" "-Iblib/lib" constants.pl.PL constants.pl 
PERL_DL_NONLAZY=1 "/home/julien/perl5/perlbrew/perls/perl-5.26.1/bin/perl" "-MExtUtils::Command::MM" "-MTest::Harness" "-e" "undef *Test::Harness::Switches; test_harness(0, 'blib/lib', 'blib/arch')" t/*.t t/handle/*.t
t/00_load.t ................ ok
t/01_basic.t ............... ok
t/02_signals.t ............. ok
t/03_child.t ............... ok
t/04_condvar.t ............. ok
t/05_dns.t ................. ok
t/06_socket.t .............. ok
t/07_io.t .................. ok
t/08_idna.t ................ ok
t/09_multi.t ............... ok
t/10_loadall.t ............. ok
t/11_io_perl.t ............. ok
t/12_io_ioaio.t ............ skipped: AnyEvent::IO::IOAIO not loadable
t/13_weaken.t .............. ok
t/61_fltk_01_basic.t ....... skipped: PERL_ANYEVENT_LOOP_TESTS not true
t/61_fltk_02_signals.t ..... skipped: PERL_ANYEVENT_LOOP_TESTS not true
t/61_fltk_03_child.t ....... skipped: PERL_ANYEVENT_LOOP_TESTS not true
t/61_fltk_04_condvar.t ..... skipped: PERL_ANYEVENT_LOOP_TESTS not true
t/61_fltk_05_dns.t ......... skipped: PERL_ANYEVENT_LOOP_TESTS not true
t/61_fltk_07_io.t .......... skipped: PERL_ANYEVENT_LOOP_TESTS not true
t/61_fltk_09_multi.t ....... skipped: PERL_ANYEVENT_LOOP_TESTS not true
t/62_cocoa_01_basic.t ...... skipped: PERL_ANYEVENT_LOOP_TESTS not true
t/62_cocoa_02_signals.t .... skipped: PERL_ANYEVENT_LOOP_TESTS not true
t/62_cocoa_03_child.t ...... skipped: PERL_ANYEVENT_LOOP_TESTS not true
t/62_cocoa_04_condvar.t .... skipped: PERL_ANYEVENT_LOOP_TESTS not true
t/62_cocoa_05_dns.t ........ skipped: PERL_ANYEVENT_LOOP_TESTS not true
t/62_cocoa_07_io.t ......... skipped: PERL_ANYEVENT_LOOP_TESTS not true
t/62_cocoa_09_multi.t ...... skipped: PERL_ANYEVENT_LOOP_TESTS not true
t/64_glib_01_basic.t ....... skipped: PERL_ANYEVENT_LOOP_TESTS not true
t/64_glib_02_signals.t ..... skipped: PERL_ANYEVENT_LOOP_TESTS not true
t/64_glib_03_child.t ....... skipped: PERL_ANYEVENT_LOOP_TESTS not true
t/64_glib_04_condvar.t ..... skipped: PERL_ANYEVENT_LOOP_TESTS not true
t/64_glib_05_dns.t ......... skipped: PERL_ANYEVENT_LOOP_TESTS not true
t/64_glib_07_io.t .......... skipped: PERL_ANYEVENT_LOOP_TESTS not true
t/64_glib_09_multi.t ....... skipped: PERL_ANYEVENT_LOOP_TESTS not true
t/65_event_01_basic.t ...... skipped: PERL_ANYEVENT_LOOP_TESTS not true
t/65_event_02_signals.t .... skipped: PERL_ANYEVENT_LOOP_TESTS not true
t/65_event_03_child.t ...... skipped: PERL_ANYEVENT_LOOP_TESTS not true
t/65_event_04_condvar.t .... skipped: PERL_ANYEVENT_LOOP_TESTS not true
t/65_event_05_dns.t ........ skipped: PERL_ANYEVENT_LOOP_TESTS not true
t/65_event_07_io.t ......... skipped: PERL_ANYEVENT_LOOP_TESTS not true
t/65_event_09_multi.t ...... skipped: PERL_ANYEVENT_LOOP_TESTS not true
t/66_ioasync_01_basic.t .... skipped: PERL_ANYEVENT_LOOP_TESTS not true
t/66_ioasync_02_signals.t .. skipped: PERL_ANYEVENT_LOOP_TESTS not true
t/66_ioasync_03_child.t .... skipped: PERL_ANYEVENT_LOOP_TESTS not true
t/66_ioasync_04_condvar.t .. skipped: PERL_ANYEVENT_LOOP_TESTS not true
t/66_ioasync_05_dns.t ...... skipped: PERL_ANYEVENT_LOOP_TESTS not true
t/66_ioasync_07_io.t ....... skipped: PERL_ANYEVENT_LOOP_TESTS not true
t/66_ioasync_09_multi.t .... skipped: PERL_ANYEVENT_LOOP_TESTS not true
t/67_tk_01_basic.t ......... skipped: PERL_ANYEVENT_LOOP_TESTS not true
t/67_tk_02_signals.t ....... skipped: PERL_ANYEVENT_LOOP_TESTS not true
t/67_tk_03_child.t ......... skipped: PERL_ANYEVENT_LOOP_TESTS not true
t/67_tk_04_condvar.t ....... skipped: PERL_ANYEVENT_LOOP_TESTS not true
t/67_tk_05_dns.t ........... skipped: PERL_ANYEVENT_LOOP_TESTS not true
t/67_tk_07_io.t ............ skipped: PERL_ANYEVENT_LOOP_TESTS not true
t/67_tk_09_multi.t ......... skipped: PERL_ANYEVENT_LOOP_TESTS not true
t/68_poe_01_basic.t ........ skipped: PERL_ANYEVENT_LOOP_TESTS not true
t/68_poe_02_signals.t ...... skipped: PERL_ANYEVENT_LOOP_TESTS not true
t/68_poe_03_child.t ........ skipped: PERL_ANYEVENT_LOOP_TESTS not true
t/68_poe_04_condvar.t ...... skipped: PERL_ANYEVENT_LOOP_TESTS not true
t/68_poe_05_dns.t .......... skipped: PERL_ANYEVENT_LOOP_TESTS not true
t/68_poe_07_io.t ........... skipped: PERL_ANYEVENT_LOOP_TESTS not true
t/68_poe_09_multi.t ........ skipped: PERL_ANYEVENT_LOOP_TESTS not true
t/69_ev_01_basic.t ......... skipped: PERL_ANYEVENT_LOOP_TESTS not true
t/69_ev_02_signals.t ....... skipped: PERL_ANYEVENT_LOOP_TESTS not true
t/69_ev_03_child.t ......... skipped: PERL_ANYEVENT_LOOP_TESTS not true
t/69_ev_04_condvar.t ....... skipped: PERL_ANYEVENT_LOOP_TESTS not true
t/69_ev_05_dns.t ........... skipped: PERL_ANYEVENT_LOOP_TESTS not true
t/69_ev_07_io.t ............ skipped: PERL_ANYEVENT_LOOP_TESTS not true
t/69_ev_09_multi.t ......... skipped: PERL_ANYEVENT_LOOP_TESTS not true
t/70_uv_01_basic.t ......... skipped: PERL_ANYEVENT_LOOP_TESTS not true
t/70_uv_02_signals.t ....... skipped: PERL_ANYEVENT_LOOP_TESTS not true
t/70_uv_03_child.t ......... skipped: PERL_ANYEVENT_LOOP_TESTS not true
t/70_uv_04_condvar.t ....... skipped: PERL_ANYEVENT_LOOP_TESTS not true
t/70_uv_05_dns.t ........... skipped: PERL_ANYEVENT_LOOP_TESTS not true
t/70_uv_07_io.t ............ skipped: PERL_ANYEVENT_LOOP_TESTS not true
t/70_uv_09_multi.t ......... skipped: PERL_ANYEVENT_LOOP_TESTS not true
t/80_ssltest.t ............. ok
t/81_hosts.t ............... ok
t/handle/01_readline.t ..... ok
t/handle/02_write.t ........ ok
t/handle/03_http_req.t ..... skipped: PERL_ANYEVENT_NET_TESTS environment variable not set
t/handle/04_listen.t ....... ok
All tests successful.
Files=83, Tests=672,  9 wallclock secs ( 0.21 usr  0.11 sys +  1.69 cusr  0.28 csys =  2.29 CPU)
Result: PASS

------------------------------
PREREQUISITES
------------------------------

Prerequisite modules loaded:

    No requirements found

------------------------------
ENVIRONMENT AND OTHER CONTEXT
------------------------------

Environment variables:

    LANG = en_GB.UTF-8
    LANGUAGE = en_GB
    LC_CTYPE = en_GB.UTF-8
    PATH = /home/julien/.nvm/versions/node/v12.16.1/bin:/home/julien/bin:/usr/local/bin:/home/julien/perl5/perlbrew/bin:/home/julien/perl5/perlbrew/perls/perl-5.26.1/bin:/usr/local/sbin:/usr/local/bin:/usr/sbin:/usr/bin:/sbin:/bin:/usr/games:/usr/local/games:/home/julien/.fzf/bin
    PERLBREW_HOME = /home/julien/.perlbrew
    PERLBREW_MANPATH = /home/julien/perl5/perlbrew/perls/perl-5.26.1/man
    PERLBREW_PATH = /home/julien/perl5/perlbrew/bin:/home/julien/perl5/perlbrew/perls/perl-5.26.1/bin
    PERLBREW_PERL = perl-5.26.1
    PERLBREW_ROOT = /home/julien/perl5/perlbrew
    PERLBREW_SHELLRC_VERSION = 0.86
    PERLBREW_VERSION = 0.86
    SHELL = /bin/zsh
    TERM = xterm

Perl special variables (and OS-specific diagnostics, for MSWin32):

    EGID = 1000 4 24 27 30 46 113 127 1000
    EUID = 1000
    EXECUTABLE_NAME = /home/julien/perl5/perlbrew/perls/perl-5.26.1/bin/perl
    GID = 1000 4 24 27 30 46 113 127 1000
    UID = 1000

Perl module toolchain versions installed:

    Module              Have      
    ------------------- ----------
    CPAN                2.18      
    CPAN::Meta          2.150010  
    Cwd                 3.75      
    ExtUtils::CBuilder  0.280225  
    ExtUtils::Command   7.44      
    ExtUtils::Install   2.06      
    ExtUtils::MakeMaker 7.44      
    ExtUtils::Manifest  1.70      
    ExtUtils::ParseXS   3.34      
    File::Spec          3.75      
    JSON                4.02      
    JSON::PP            2.27400_02
    Module::Build       0.4224    
    Module::Signature   n/a       
    Parse::CPAN::Meta   2.150010  
    Test::Harness       3.38      
    Test::More          1.302175  
    YAML                1.29      
    YAML::Syck          1.30      
    version             0.9917    


--

Summary of my perl5 (revision 5 version 26 subversion 1) configuration:
   
  Platform:
    osname=linux
    osvers=4.13.0-36-generic
    archname=x86_64-linux
    uname='linux julienfiegehenn 4.13.0-36-generic #40~16.04.1-ubuntu smp fri feb 16 23:25:58 utc 2018 x86_64 x86_64 x86_64 gnulinux '
    config_args='-de -Dprefix=/home/julien/perl5/perlbrew/perls/perl-5.26.1 -Aeval:scriptdir=/home/julien/perl5/perlbrew/perls/perl-5.26.1/bin'
    hint=recommended
    useposix=true
    d_sigaction=define
    useithreads=undef
    usemultiplicity=undef
    use64bitint=define
    use64bitall=define
    uselongdouble=undef
    usemymalloc=n
    default_inc_excludes_dot=define
    bincompat5005=undef
  Compiler:
    cc='cc'
    ccflags ='-fwrapv -fno-strict-aliasing -pipe -fstack-protector-strong -I/usr/local/include -D_LARGEFILE_SOURCE -D_FILE_OFFSET_BITS=64'
    optimize='-O2'
    cppflags='-fwrapv -fno-strict-aliasing -pipe -fstack-protector-strong -I/usr/local/include'
    ccversion=''
    gccversion='5.4.0 20160609'
    gccosandvers=''
    intsize=4
    longsize=8
    ptrsize=8
    doublesize=8
    byteorder=12345678
    doublekind=3
    d_longlong=define
    longlongsize=8
    d_longdbl=define
    longdblsize=16
    longdblkind=3
    ivtype='long'
    ivsize=8
    nvtype='double'
    nvsize=8
    Off_t='off_t'
    lseeksize=8
    alignbytes=8
    prototype=define
  Linker and Libraries:
    ld='cc'
    ldflags =' -fstack-protector-strong -L/usr/local/lib'
    libpth=/usr/local/lib /usr/lib/gcc/x86_64-linux-gnu/5/include-fixed /usr/include/x86_64-linux-gnu /usr/lib /lib/x86_64-linux-gnu /lib/../lib /usr/lib/x86_64-linux-gnu /usr/lib/../lib /lib
    libs=-lpthread -lnsl -ldl -lm -lcrypt -lutil -lc
    perllibs=-lpthread -lnsl -ldl -lm -lcrypt -lutil -lc
    libc=libc-2.23.so
    so=so
    useshrplib=false
    libperl=libperl.a
    gnulibc_version='2.23'
  Dynamic Linking:
    dlsrc=dl_dlopen.xs
    dlext=so
    d_dlsymun=undef
    ccdlflags='-Wl,-E'
    cccdlflags='-fPIC'
    lddlflags='-shared -O2 -L/usr/local/lib -fstack-protector-strong'


Characteristics of this binary (from libperl): 
  Compile-time options:
    HAS_TIMES
    PERLIO_LAYERS
    PERL_COPY_ON_WRITE
    PERL_DONT_CREATE_GVSV
    PERL_MALLOC_WRAP
    PERL_OP_PARENT
    PERL_PRESERVE_IVUV
    USE_64_BIT_ALL
    USE_64_BIT_INT
    USE_LARGE_FILES
    USE_LOCALE
    USE_LOCALE_COLLATE
    USE_LOCALE_CTYPE
    USE_LOCALE_NUMERIC
    USE_LOCALE_TIME
    USE_PERLIO
    USE_PERL_ATOF
  Locally applied patches:
    Devel::PatchPerl 1.48
  Built under linux
  Compiled at Mar 12 2018 10:48:46
  %ENV:
    PERLBREW_HOME="/home/julien/.perlbrew"
    PERLBREW_MANPATH="/home/julien/perl5/perlbrew/perls/perl-5.26.1/man"
    PERLBREW_PATH="/home/julien/perl5/perlbrew/bin:/home/julien/perl5/perlbrew/perls/perl-5.26.1/bin"
    PERLBREW_PERL="perl-5.26.1"
    PERLBREW_ROOT="/home/julien/perl5/perlbrew"
    PERLBREW_SHELLRC_VERSION="0.86"
    PERLBREW_VERSION="0.86"
  @INC:
    /home/julien/perl5/perlbrew/perls/perl-5.26.1/lib/site_perl/5.26.1/x86_64-linux
    /home/julien/perl5/perlbrew/perls/perl-5.26.1/lib/site_perl/5.26.1
    /home/julien/perl5/perlbrew/perls/perl-5.26.1/lib/5.26.1/x86_64-linux
    /home/julien/perl5/perlbrew/perls/perl-5.26.1/lib/5.26.1