Back
From: metabase:user:20a45eae-6c1a-1014-abaf-4bc2b30e56df
Subject: PASS Math-Complex-1.59 v5.8.8 Windows (Cygwin)
Date: 2014-07-23T20:24:46Z
This distribution has been tested as part of the CPAN Testers
project, supporting the Perl programming language. See
http://wiki.cpantesters.org/ for more information or email
questions to cpan-testers-discuss@perl.org
--
Dear Andrew Main (Zefram),
This is a computer-generated report for Math-Complex-1.59
on perl 5.8.8, created by CPAN-Reporter-1.2010.
Thank you for uploading your work to CPAN. Congratulations!
All tests were successful.
Sections of this report:
* Tester comments
* Program output
* Prerequisites
* Environment and other context
------------------------------
TESTER COMMENTS
------------------------------
Additional comments from tester:
this report is from an automated smoke testing program
and was not reviewed by a human for accuracy
------------------------------
PROGRAM OUTPUT
------------------------------
Output from '/usr/bin/make test':
PERL_DL_NONLAZY=1 /opt/perl5/cygwin_nt-6.1-wow64/1.7.28/i686/perl/5.8.8/cygwin-multi/bin/perl.exe "-MExtUtils::Command::MM" "-e" "test_harness(0, 'blib/lib', 'blib/arch')" t/*.t
t/Complex.t ....... ok
t/pod-coverage.t .. skipped: Test::Pod::Coverage 1.00 required for testing POD coverage
t/pod.t ........... skipped: Test::Pod 1.00 required for testing POD
t/Trig.t .......... ok
t/underbar.t ...... ok
All tests successful.
Files=5, Tests=1231, 2 wallclock secs ( 0.11 usr 0.12 sys + 1.06 cusr 0.51 csys = 1.80 CPU)
Result: PASS
------------------------------
PREREQUISITES
------------------------------
Prerequisite modules loaded:
requires:
Module Need Have
------------------- ---- --------
Config 0 0
Exporter 0 5.70
ExtUtils::MakeMaker 0 6.68
overload 0 1.04
Scalar::Util 1.11 1.18
strict 0 1.03
Test::More 0 1.001002
warnings 0 1.05
build_requires:
Module Need Have
------------------- ---- --------
ExtUtils::MakeMaker 0 6.68
configure_requires:
Module Need Have
------------------- ---- --------
ExtUtils::MakeMaker 0 6.68
------------------------------
ENVIRONMENT AND OTHER CONTEXT
------------------------------
Environment variables:
AUTOMATED_TESTING = 1
COMSPEC = C:\Windows\system32\cmd.exe
LD_LIBRARY_PATH =
NUMBER_OF_PROCESSORS = 4
PATH = /opt/perl5/cygwin_nt-6.1-wow64/1.7.28/i686/bin/5.8.8/cygwin-multi:/opt/perl5/cygwin_nt-6.1-wow64/1.7.28/i686/perl/5.8.8/cygwin-multi/local/bin:/opt/perl5/cygwin_nt-6.1-wow64/1.7.28/i686/perl/5.8.8/cygwin-multi/bin:/usr/local/bin:/usr/bin
PERL5LIB = /opt/perl5/cygwin_nt-6.1-wow64/1.7.28/i686/perl/5.8.8/cygwin-multi/local/lib/site_perl/5.8.8:/opt/perl5/cygwin_nt-6.1-wow64/1.7.28/i686/perl/5.8.8/cygwin-multi/local/lib/5.8.8:/opt/perl5/cygwin_nt-6.1-wow64/1.7.28/i686/perl/5.8.8/cygwin-multi/local/lib/perl5
PERL5OPT =
PERL5_CPANPLUS_IS_RUNNING = 9100
PERL5_CPAN_IS_RUNNING = 9100
PERL_CPAN_REPORTER_CONFIG = /cygdrive/c/peter/.cpanreporter/config-cygdrive-c-peter.ini
PERL_EXTUTILS_AUTOINSTALL = 1
PERL_MM_USE_DEFAULT = 1
PERL_MY_PREFIX = /opt/perl5
PERL_MY_SOURCE_DIR = /cygdrive/c/src/perl
PERL_TEST_CRITIC = 1
PROCESSOR_IDENTIFIER = Intel64 Family 6 Model 37 Stepping 5, GenuineIntel
SHELL = /usr/bin/bash
TEMP = /tmp
TERM = xterm
Perl special variables (and OS-specific diagnostics, for MSWin32):
$^X = /opt/perl5/cygwin_nt-6.1-wow64/1.7.28/i686/perl/5.8.8/cygwin-multi/bin/perl
$UID/$EUID = 22755 / 22755
$GID = 10513 67201 31369 49625 30321 56531 45099 51837 51926 51916 65646 65644 23333 50556 74690 49381 20955 20667 57206 55368 43366 51289 17963 61702 51645 11073 51528 20077 42734 12778 12669 12652 18761 43061 30568 43044 72481 59435 18818 51781 10513 45205 80915 44776 10571 545
$EGID = 10513 67201 31369 49625 30321 56531 45099 51837 51926 51916 65646 65644 23333 50556 74690 49381 20955 20667 57206 55368 43366 51289 17963 61702 51645 11073 51528 20077 42734 12778 12669 12652 18761 43061 30568 43044 72481 59435 18818 51781 10513 45205 80915 44776 10571 545
Perl module toolchain versions installed:
Module Have
------------------- --------
CPAN 2.05
CPAN::Meta 2.141520
Cwd 3.33
ExtUtils::CBuilder 0.280216
ExtUtils::Command 1.18
ExtUtils::Install 1.68
ExtUtils::MakeMaker 6.68
ExtUtils::Manifest 1.64
ExtUtils::ParseXS 3.24
File::Spec 3.33
JSON n/a
JSON::PP 2.27203
Module::Build 0.4206
Module::Signature n/a
Parse::CPAN::Meta 1.4414
Test::Harness 3.30
Test::More 1.001002
YAML 0.90
YAML::Syck n/a
version 0.88
--
Summary of my perl5 (revision 5 version 8 subversion 8) configuration:
Platform:
osname=cygwin, osvers=1.7.28(0.27153), archname=cygwin-multi
uname='cygwin_nt-6.1-wow64 osl069 1.7.28(0.27153) 2014-02-09 21:06 i686 cygwin '
config_args='-de -Dmksymlinks -Dcc=gcc -Uinc_version_list -Uinstallusrbinperl -Uusethreads -Dusemultiplicity -Uuse64bitint -Uuselongdouble -Dprefix=/opt/perl5/cygwin_nt-6.1-wow64/1.7.28/i686/perl/5.8.8/cygwin-multi'
hint=recommended, useposix=true, d_sigaction=define
usethreads=undef use5005threads=undef useithreads=undef usemultiplicity=define
useperlio=define d_sfio=undef uselargefiles=define usesocks=undef
use64bitint=undef use64bitall=undef uselongdouble=undef
usemymalloc=y, bincompat5005=undef
Compiler:
cc='gcc', ccflags ='-DPERL_USE_SAFE_PUTENV -fno-strict-aliasing -pipe -Wdeclaration-after-statement',
optimize='-O2',
cppflags='-DPERL_USE_SAFE_PUTENV -fno-strict-aliasing -pipe -Wdeclaration-after-statement'
ccversion='', gccversion='4.8.2', gccosandvers=''
intsize=4, longsize=4, ptrsize=4, doublesize=8, byteorder=1234
d_longlong=define, longlongsize=8, d_longdbl=define, longdblsize=12
ivtype='long', ivsize=4, nvtype='double', nvsize=8, Off_t='off_t', lseeksize=8
alignbytes=8, prototype=define
Linker and Libraries:
ld='ld2', ldflags =' -L/usr/local/lib'
libpth=/usr/local/lib /usr/lib /lib
libs=-lgdbm -ldb -ldl -lcrypt -lgdbm_compat
perllibs=-ldl -lcrypt -lgdbm_compat
libc=/usr/lib/libc.a, so=dll, useshrplib=true, libperl=libperl.a
gnulibc_version=''
Dynamic Linking:
dlsrc=dl_dlopen.xs, dlext=dll, d_dlsymun=undef, ccdlflags=' '
cccdlflags=' ', lddlflags=' -L/usr/local/lib'
Characteristics of this binary (from libperl):
Compile-time options: MULTIPLICITY MYMALLOC PERL_IMPLICIT_CONTEXT
PERL_USE_SAFE_PUTENV USE_LARGE_FILES USE_PERLIO
Built under cygwin
Compiled at Feb 18 2014 16:01:34
%ENV:
PERL5LIB="/opt/perl5/cygwin_nt-6.1-wow64/1.7.28/i686/perl/5.8.8/cygwin-multi/local/lib/site_perl/5.8.8:/opt/perl5/cygwin_nt-6.1-wow64/1.7.28/i686/perl/5.8.8/cygwin-multi/local/lib/5.8.8:/opt/perl5/cygwin_nt-6.1-wow64/1.7.28/i686/perl/5.8.8/cygwin-multi/local/lib/perl5"
PERL5OPT=""
PERL5_CPANPLUS_IS_RUNNING="9100"
PERL5_CPAN_IS_RUNNING="9100"
PERL_CPAN_REPORTER_CONFIG="/cygdrive/c/peter/.cpanreporter/config-cygdrive-c-peter.ini"
PERL_EXTUTILS_AUTOINSTALL="1"
PERL_MM_USE_DEFAULT="1"
PERL_MY_PREFIX="/opt/perl5"
PERL_MY_SOURCE_DIR="/cygdrive/c/src/perl"
PERL_TEST_CRITIC="1"
CYGWIN="codepage:utf8 nodosfilewarning"
@INC:
/opt/perl5/cygwin_nt-6.1-wow64/1.7.28/i686/perl/5.8.8/cygwin-multi/local/lib/site_perl/5.8.8/cygwin-multi
/opt/perl5/cygwin_nt-6.1-wow64/1.7.28/i686/perl/5.8.8/cygwin-multi/local/lib/site_perl/5.8.8
/opt/perl5/cygwin_nt-6.1-wow64/1.7.28/i686/perl/5.8.8/cygwin-multi/local/lib/5.8.8/cygwin-multi
/opt/perl5/cygwin_nt-6.1-wow64/1.7.28/i686/perl/5.8.8/cygwin-multi/local/lib/5.8.8
/opt/perl5/cygwin_nt-6.1-wow64/1.7.28/i686/perl/5.8.8/cygwin-multi/local/lib/perl5/cygwin-multi
/opt/perl5/cygwin_nt-6.1-wow64/1.7.28/i686/perl/5.8.8/cygwin-multi/local/lib/perl5
/opt/perl5/cygwin_nt-6.1-wow64/1.7.28/i686/perl/5.8.8/cygwin-multi/lib/5.8.8/cygwin-multi
/opt/perl5/cygwin_nt-6.1-wow64/1.7.28/i686/perl/5.8.8/cygwin-multi/lib/5.8.8
/opt/perl5/cygwin_nt-6.1-wow64/1.7.28/i686/perl/5.8.8/cygwin-multi/lib/site_perl/5.8.8/cygwin-multi
/opt/perl5/cygwin_nt-6.1-wow64/1.7.28/i686/perl/5.8.8/cygwin-multi/lib/site_perl/5.8.8
/opt/perl5/cygwin_nt-6.1-wow64/1.7.28/i686/perl/5.8.8/cygwin-multi/lib/site_perl
.