HTTP-Async v0.33 Perl 5 v5.27.9 amd64-freebsd
- Status
- Pass
- From
- Slaven Rezić (SREZIC)
- Dist
-
HTTP-Async v0.33
- Platform
- Perl 5 v5.27.9 amd64-freebsd
- Date
- 2018-03-04 10:46:40
- ID
- 525554de-1f99-11e8-a9ee-8902f93afcff
This distribution has been tested as part of the CPAN Testers
project, supporting the Perl programming language. See
http://wiki.cpantesters.org/ for more information or email
questions to cpan-testers-discuss@perl.org
--
Dear Alex Balhatchet,
This is a computer-generated report for HTTP-Async-0.33
on perl 5.27.9, created by CPAN-Reporter-1.2018.
Thank you for uploading your work to CPAN. Congratulations!
All tests were successful.
Sections of this report:
* Tester comments
* Program output
* Prerequisites
* Environment and other context
------------------------------
TESTER COMMENTS
------------------------------
Additional comments from tester:
none provided
------------------------------
PROGRAM OUTPUT
------------------------------
Output from '/usr/bin/make test':
PERL_DL_NONLAZY=1 "/usr/perl5.27.9p/bin/perl5.27.9" "-MExtUtils::Command::MM" "-MTest::Harness" "-e" "undef *Test::Harness::Switches; test_harness(0, 'blib/lib', 'blib/arch')" t/*.t
t/bad-connections.t ....... ok
t/bad-headers.t ........... ok
t/bad-hosts.t ............. ok
t/cookies.t ............... ok
t/dead-connection.t ....... ok
t/headers.t ............... ok
t/invalid-options.t ....... ok
t/key_aliases.t ........... ok
t/local-addr.t ............ skipped: test requires Sys::HostIP to be installed
t/make-url-absolute.t ..... ok
t/not-modified.t .......... ok
t/peer-addr.t ............. ok
t/pod-coverage.t .......... ok
t/pod.t ................... ok
t/polite.t ................ ok
t/poll-interval.t ......... ok
t/proxy-with-https.t ...... skipped: enable these tests by setting REAL_SERVERS
t/proxy.t ................. ok
t/real-servers.t .......... skipped: enable these tests by setting REAL_SERVERS
t/redirects.t ............. ok
t/release-cpan-changes.t .. ok
t/remove.t ................ ok
t/setup.t ................. ok
t/strip-host-from-uri.t ... ok
t/template.t .............. skipped: just a template to base other tests on
t/timeout.t ............... ok
All tests successful.
Files=26, Tests=197, 47 wallclock secs ( 0.09 usr 0.07 sys + 5.09 cusr 2.41 csys = 7.65 CPU)
Result: PASS
------------------------------
PREREQUISITES
------------------------------
Prerequisite modules loaded:
requires:
Module Need Have
-------------------------- ----- --------
Carp 0 1.46
Data::Dumper 0 2.170
HTTP::Request 0 6.14
HTTP::Response 0 6.14
HTTP::Server::Simple::CGI 0 0
HTTP::Status 0 6.14
IO::Select 0 1.23
LWP::UserAgent 0 6.32
Net::EmptyPort 0 0
Net::HTTP 0 6.17
Net::HTTP::NB 0 6.17
Net::HTTPS::NB 0.13 0.15
perl 5.006 5.027009
Test::Fatal 0 0.014
Test::HTTP::Server::Simple 0 0.11
Test::More 0 1.302122
Time::HiRes 0 1.9753
URI 0 1.73
URI::Escape 0 3.31
build_requires:
Module Need Have
-------------------------- ----- --------
ExtUtils::MakeMaker 0 7.32
configure_requires:
Module Need Have
-------------------------- ----- --------
ExtUtils::MakeMaker 0 7.32
------------------------------
ENVIRONMENT AND OTHER CONTEXT
------------------------------
Environment variables:
PATH = /usr/local/bin:/usr/bin:/bin:/usr/local/sbin:/usr/sbin:/sbin:/home/cpansand/bin/freebsd11.1:/home/cpansand/bin/sh:/home/cpansand/bin:/usr/games:/home/cpansand/devel:/home/eserte/src/srezic-misc/scripts
PERL5LIB = /home/cpansand/.cpan/build/2018030418/Test-HTTP-Server-Simple-0.11-2/blib/arch:/home/cpansand/.cpan/build/2018030418/Test-HTTP-Server-Simple-0.11-2/blib/lib:/home/cpansand/.cpan/build/2018030418/Net-HTTPS-NB-0.15-2/blib/arch:/home/cpansand/.cpan/build/2018030418/Net-HTTPS-NB-0.15-2/blib/lib:/home/cpansand/.cpan/build/2018030418/Test-TCP-2.19-1/blib/arch:/home/cpansand/.cpan/build/2018030418/Test-TCP-2.19-1/blib/lib:/home/cpansand/.cpan/build/2018030418/Test-SharedFork-0.35-1/blib/arch:/home/cpansand/.cpan/build/2018030418/Test-SharedFork-0.35-1/blib/lib:/home/cpansand/.cpan/build/2018030418/HTTP-Server-Simple-0.52-1/blib/arch:/home/cpansand/.cpan/build/2018030418/HTTP-Server-Simple-0.52-1/blib/lib
PERL5OPT =
PERL5_CPANPLUS_IS_RUNNING = 96745
PERL5_CPAN_IS_RUNNING = 96745
PERL5_CPAN_IS_RUNNING_IN_RECURSION = 92805,96745
PERLDOC = -MPod::Perldoc::ToTextOverstrike
PERL_BATCH = yes
PERL_CANARY_STABILITY_NOPROMPT = 1
PERL_CPAN_REPORTER_CONFIG = /var/tmp/cpansmoker-1023/2018030418/cpanreporter_000_config.ini
PERL_EXTUTILS_AUTOINSTALL = --defaultdeps
PERL_USE_UNSAFE_INC = 1
SHELL = /usr/local/bin/zsh
TERM = screen
TMPDIR = /var/tmp/cpansmoker-1023/2018030418
Perl special variables (and OS-specific diagnostics, for MSWin32):
$^X = /usr/perl5.27.9p/bin/perl5.27.9
$UID/$EUID = 1023 / 1023
$GID = 1023 1023
$EGID = 1023 1023
Perl module toolchain versions installed:
Module Have
------------------- --------
CPAN 2.20
CPAN::Meta 2.150010
Cwd 3.74
ExtUtils::CBuilder 0.280230
ExtUtils::Command 7.32
ExtUtils::Install 2.14
ExtUtils::MakeMaker 7.32
ExtUtils::Manifest 1.70
ExtUtils::ParseXS 3.38
File::Spec 3.74
JSON 2.97001
JSON::PP 2.97001
Module::Build 0.4224
Module::Signature n/a
Parse::CPAN::Meta 2.150010
Test::Harness 3.39
Test::More 1.302122
YAML 1.24
YAML::Syck 1.30
version 0.9918
--
Summary of my perl5 (revision 5 version 27 subversion 9) configuration:
Platform:
osname=freebsd
osvers=11.1-release-p4
archname=amd64-freebsd
uname='freebsd ali2.bbbike.org 11.1-release-p4 freebsd 11.1-release-p4 #0: tue nov 14 06:12:40 utc 2017 root@amd64-builder.daemonology.net:usrobjusrsrcsysgeneric amd64 '
config_args='-ds -e -Dprefix=/usr/perl5.27.9p -Dusedevel -Dusemallocwrap=no -Dcf_email=srezic@cpan.org -Doptimize=-O2 -pipe'
hint=recommended
useposix=true
d_sigaction=define
useithreads=undef
usemultiplicity=undef
use64bitint=define
use64bitall=define
uselongdouble=undef
usemymalloc=n
default_inc_excludes_dot=define
bincompat5005=undef
Compiler:
cc='cc'
ccflags ='-DHAS_FPSETMASK -DHAS_FLOATINGPOINT_H -fno-strict-aliasing -pipe -fstack-protector-strong -I/usr/local/include -D_FORTIFY_SOURCE=2'
optimize='-O2 -pipe'
cppflags='-DHAS_FPSETMASK -DHAS_FLOATINGPOINT_H -fno-strict-aliasing -pipe -fstack-protector-strong -I/usr/local/include'
ccversion=''
gccversion='4.2.1 Compatible FreeBSD Clang 4.0.0 (tags/RELEASE_400/final 297347)'
gccosandvers=''
intsize=4
longsize=8
ptrsize=8
doublesize=8
byteorder=12345678
doublekind=3
d_longlong=define
longlongsize=8
d_longdbl=define
longdblsize=16
longdblkind=3
ivtype='long'
ivsize=8
nvtype='double'
nvsize=8
Off_t='off_t'
lseeksize=8
alignbytes=8
prototype=define
Linker and Libraries:
ld='cc'
ldflags ='-pthread -Wl,-E -fstack-protector-strong -L/usr/local/lib'
libpth=/usr/lib /usr/local/lib /usr/bin/../lib/clang/4.0.0/lib /usr/lib
libs=-lpthread -lgdbm -lm -lcrypt -lutil -lc
perllibs=-lpthread -lm -lcrypt -lutil -lc
libc=
so=so
useshrplib=false
libperl=libperl.a
gnulibc_version=''
Dynamic Linking:
dlsrc=dl_dlopen.xs
dlext=so
d_dlsymun=undef
ccdlflags=' '
cccdlflags='-DPIC -fPIC'
lddlflags='-shared -L/usr/local/lib -fstack-protector-strong'
Characteristics of this binary (from libperl):
Compile-time options:
HAS_TIMES
PERLIO_LAYERS
PERL_COPY_ON_WRITE
PERL_DONT_CREATE_GVSV
PERL_OP_PARENT
PERL_PRESERVE_IVUV
PERL_USE_DEVEL
USE_64_BIT_ALL
USE_64_BIT_INT
USE_LARGE_FILES
USE_LOCALE
USE_LOCALE_COLLATE
USE_LOCALE_CTYPE
USE_LOCALE_NUMERIC
USE_LOCALE_TIME
USE_PERLIO
USE_PERL_ATOF
Built under freebsd
Compiled at Feb 21 2018 05:05:29
%ENV:
PERL5LIB="/home/cpansand/.cpan/build/2018030418/Test-HTTP-Server-Simple-0.11-2/blib/arch:/home/cpansand/.cpan/build/2018030418/Test-HTTP-Server-Simple-0.11-2/blib/lib:/home/cpansand/.cpan/build/2018030418/Net-HTTPS-NB-0.15-2/blib/arch:/home/cpansand/.cpan/build/2018030418/Net-HTTPS-NB-0.15-2/blib/lib:/home/cpansand/.cpan/build/2018030418/Test-TCP-2.19-1/blib/arch:/home/cpansand/.cpan/build/2018030418/Test-TCP-2.19-1/blib/lib:/home/cpansand/.cpan/build/2018030418/Test-SharedFork-0.35-1/blib/arch:/home/cpansand/.cpan/build/2018030418/Test-SharedFork-0.35-1/blib/lib:/home/cpansand/.cpan/build/2018030418/HTTP-Server-Simple-0.52-1/blib/arch:/home/cpansand/.cpan/build/2018030418/HTTP-Server-Simple-0.52-1/blib/lib"
PERL5OPT=""
PERL5_CPANPLUS_IS_RUNNING="96745"
PERL5_CPAN_IS_RUNNING="96745"
PERL5_CPAN_IS_RUNNING_IN_RECURSION="92805,96745"
PERLDOC="-MPod::Perldoc::ToTextOverstrike"
PERL_BATCH="yes"
PERL_CANARY_STABILITY_NOPROMPT="1"
PERL_CPAN_REPORTER_CONFIG="/var/tmp/cpansmoker-1023/2018030418/cpanreporter_000_config.ini"
PERL_EXTUTILS_AUTOINSTALL="--defaultdeps"
PERL_USE_UNSAFE_INC="1"
@INC:
/home/cpansand/.cpan/build/2018030418/Test-HTTP-Server-Simple-0.11-2/blib/arch
/home/cpansand/.cpan/build/2018030418/Test-HTTP-Server-Simple-0.11-2/blib/lib
/home/cpansand/.cpan/build/2018030418/Net-HTTPS-NB-0.15-2/blib/arch
/home/cpansand/.cpan/build/2018030418/Net-HTTPS-NB-0.15-2/blib/lib
/home/cpansand/.cpan/build/2018030418/Test-TCP-2.19-1/blib/arch
/home/cpansand/.cpan/build/2018030418/Test-TCP-2.19-1/blib/lib
/home/cpansand/.cpan/build/2018030418/Test-SharedFork-0.35-1/blib/arch
/home/cpansand/.cpan/build/2018030418/Test-SharedFork-0.35-1/blib/lib
/home/cpansand/.cpan/build/2018030418/HTTP-Server-Simple-0.52-1/blib/arch
/home/cpansand/.cpan/build/2018030418/HTTP-Server-Simple-0.52-1/blib/lib
/usr/perl5.27.9p/lib/site_perl/5.27.9/amd64-freebsd
/usr/perl5.27.9p/lib/site_perl/5.27.9
/usr/perl5.27.9p/lib/5.27.9/amd64-freebsd
/usr/perl5.27.9p/lib/5.27.9
.