Crypt-OpenSSL-PKCS10 v0.35 Perl 5 v5.18.0 i686-linux-thread-multi
- Status
- Pass
- From
- Chris Williams (BINGOS)
- Dist
-
Crypt-OpenSSL-PKCS10 v0.35
- Platform
- Perl 5 v5.18.0 i686-linux-thread-multi
- Date
- 2025-02-10 20:12:15
- ID
- 5251e3ea-e7eb-11ef-98b0-b3c3213a625c
This distribution has been tested as part of the CPAN Testers
project, supporting the Perl programming language. See
http://wiki.cpantesters.org/ for more information or email
questions to cpan-testers-discuss@perl.org
--
Dear TIMLEGGE,
This is a computer-generated error report created automatically by
CPANPLUS, version 0.9914. Testers personal comments may appear
at the end of this report.
Thank you for uploading your work to CPAN. Congratulations!
All tests were successful.
TEST RESULTS:
Below is the error stack from stage 'make test':
"/home/cpan/pit/thr/perl-5.18.0/bin/perl" -MExtUtils::Command::MM -e 'cp_nonempty' -- PKCS10.bs blib/arch/auto/Crypt/OpenSSL/PKCS10/PKCS10.bs 644
PERL_DL_NONLAZY=1 "/home/cpan/pit/thr/perl-5.18.0/bin/perl" "-MExtUtils::Command::MM" "-MTest::Harness" "-e" "undef *Test::Harness::Switches; test_harness(0, 'blib/lib', 'blib/arch')" t/*.t
# OpenSSL 3.0.11 19 Sep 2023 (Library: OpenSSL 3.0.11 19 Sep 2023)
t/00-openssl-version.t .. ok
t/10-rsa-keys.t ......... ok
t/20-ec.t ............... ok
t/30-ec-keys.t .......... ok
t/author-pod-spell.t .... skipped: these tests are for testing by the author
t/author-pod-syntax.t ... skipped: these tests are for testing by the author
-----BEGIN CERTIFICATE REQUEST-----
MIIBPzCBqQIBADAAMIGfMA0GCSqGSIb3DQEBAQUAA4GNADCBiQKBgQDDeFzumh2t
NZp/2VeBcvNEZkhlLJoVA+vksxqE/4In+7obKmI2orObnA7M/5TmFIySZbJvlIBc
dxvDAzNrLWnVlvhVMlvhj3OB//Z/lWErQ5GSxvJZ2xRMzQgz07C73VJ1NTeiQsop
fQyB839XAil8ylIj7r6SpldqUcF4H3ZI+QIDAQABoAAwDQYJKoZIhvcNAQELBQAD
gYEAHbH4HGKskpBGDh7SHp22O8qpI0wYIfXrKHuMTFdJNIC+TCsTjwzNzAmiC33r
qJ9tKpUtmak6ekhqq02m2+hySbsUrGD9zL/AvEth/AI84qJFl47zzM4PJlMnmAnB
IzFnkWq3mzVOjFCQQrEeGsVZV0v1jZ/qYA/ncEjhFE4ndQ0=
-----END CERTIFICATE REQUEST-----
-----BEGIN PRIVATE KEY-----
MIICeAIBADANBgkqhkiG9w0BAQEFAASCAmIwggJeAgEAAoGBAMN4XO6aHa01mn/Z
V4Fy80RmSGUsmhUD6+SzGoT/gif7uhsqYjais5ucDsz/lOYUjJJlsm+UgFx3G8MD
M2stadWW+FUyW+GPc4H/9n+VYStDkZLG8lnbFEzNCDPTsLvdUnU1N6JCyil9DIHz
f1cCKXzKUiPuvpKmV2pRwXgfdkj5AgMBAAECgYEAgXZgpq9wZF4SXAcJS/VkZbMQ
0+G8k5qrTCfLsra/79drpb5mmiUcrD2qF+BXMCQADp5IllpWwecpffnKvnuvkdx/
bchPGdpC3UCy+AcM62iI/d4TRrmJf0olHTM/8cC3bSK63e7LKTTAZK1Q7n0ZMnND
lCMq+AcD3gzXp1I8VeECQQDwN4c9LSVrpAgcaPBqxjC7NHh/Ph7oNVxgMX7RubtI
zZqdPGd3e8zMff8PvwQw/w5cbPvrwnu3Fq+oxNQIRDoFAkEA0FAws0Z6gEikuKaq
9O4HXpfUoe8DzKngrhz6MtPJVmJybP+H+Yza7T9XsiQpo2+ghcHqIKTmttjNt7Wk
a+nhZQJBAJBPG4yx8XgP69t9Y2kRtTbRl84BOLoRTHRxZ5mAtbVP5yGspw/NrMPw
sWj5PQBeSXdW9aS1inL8Svzdee+ZZS0CQC6wmonEFTblkU31xUGKjEpOW5FEAiUA
OmSsCAQWZf0fqaf2iiKLyJH+bYh3BIImReNU+EYCz9dRtqIja0voquUCQQCrsKs1
9SQok5TZWiVdEgfHLJ2fwNmMeL50A2Z6vOkIaldlNrC7CPMy4LnkWYya5fOew/jb
m/jiWsEmjv8SY337
-----END PRIVATE KEY-----
Public-Key: (1024 bit)
Modulus:
00:c3:78:5c:ee:9a:1d:ad:35:9a:7f:d9:57:81:72:
f3:44:66:48:65:2c:9a:15:03:eb:e4:b3:1a:84:ff:
82:27:fb:ba:1b:2a:62:36:a2:b3:9b:9c:0e:cc:ff:
94:e6:14:8c:92:65:b2:6f:94:80:5c:77:1b:c3:03:
33:6b:2d:69:d5:96:f8:55:32:5b:e1:8f:73:81:ff:
f6:7f:95:61:2b:43:91:92:c6:f2:59:db:14:4c:cd:
08:33:d3:b0:bb:dd:52:75:35:37:a2:42:ca:29:7d:
0c:81:f3:7f:57:02:29:7c:ca:52:23:ee:be:92:a6:
57:6a:51:c1:78:1f:76:48:f9
Exponent: 65537 (0x10001)
-----BEGIN CERTIFICATE REQUEST-----
MIIBPzCBqQIBADAAMIGfMA0GCSqGSIb3DQEBAQUAA4GNADCBiQKBgQDa1ILpMhsC
D80iTW9yRD/zywSUNz4D/s2Gj9Jz8x/+YP1OOh2sVsQjQtJl6/9zuVKjo0JOGuhr
4tausvKMIGS9xo0xEDDDXiMoibeCj+hOb+9glNDqmAzNynCnD6vzP4Yq87CykEes
Fd1B8+kBjIaNak4fEnaAfkXhLpeWJ54KkwIDAQABoAAwDQYJKoZIhvcNAQELBQAD
gYEA2D/qpGUth/YOHvDEkqfkg9lAqwS2vTiU9OfLLKfSDG+fSaUEt8y0XNQq5Dvv
zhsptx4Y4Gya7wY4iUpF6Rm7AuPLylLFQEGxz5MddytBaV25TqG5hitd1GCFt68W
Nrx+iNGKVS8A1+dVh5QeJ142hLKP+7qmHtFKeIt+wHb8ynY=
-----END CERTIFICATE REQUEST-----
Public-Key: (1024 bit)
Modulus:
00:da:d4:82:e9:32:1b:02:0f:cd:22:4d:6f:72:44:
3f:f3:cb:04:94:37:3e:03:fe:cd:86:8f:d2:73:f3:
1f:fe:60:fd:4e:3a:1d:ac:56:c4:23:42:d2:65:eb:
ff:73:b9:52:a3:a3:42:4e:1a:e8:6b:e2:d6:ae:b2:
f2:8c:20:64:bd:c6:8d:31:10:30:c3:5e:23:28:89:
b7:82:8f:e8:4e:6f:ef:60:94:d0:ea:98:0c:cd:ca:
70:a7:0f:ab:f3:3f:86:2a:f3:b0:b2:90:47:ac:15:
dd:41:f3:e9:01:8c:86:8d:6a:4e:1f:12:76:80:7e:
45:e1:2e:97:96:27:9e:0a:93
Exponent: 65537 (0x10001)
rsa
-----BEGIN PUBLIC KEY-----
MIGfMA0GCSqGSIb3DQEBAQUAA4GNADCBiQKBgQDa1ILpMhsCD80iTW9yRD/zywSU
Nz4D/s2Gj9Jz8x/+YP1OOh2sVsQjQtJl6/9zuVKjo0JOGuhr4tausvKMIGS9xo0x
EDDDXiMoibeCj+hOb+9glNDqmAzNynCnD6vzP4Yq87CykEesFd1B8+kBjIaNak4f
EnaAfkXhLpeWJ54KkwIDAQAB
-----END PUBLIC KEY-----
-----BEGIN CERTIFICATE REQUEST-----
MIIBPzCBqQIBADAAMIGfMA0GCSqGSIb3DQEBAQUAA4GNADCBiQKBgQDZjYTL/jzq
UIKa2HxagaiY4qcZdZeekhf+RHR/KD4qUqh7kYdHvCVzvJoOerlLWEan3tVNTKLp
Iqa0LQGokuQWjaEcnyAoVdxnfeV/KItNXILG9qcMdl9DBq2dx3E3VS9Kkj4+H9jD
Krx+CecHRBKQAdPBq+AeqfPw/wW0uERQ2wIDAQABoAAwDQYJKoZIhvcNAQEMBQAD
gYEAXarK4Yb1ZnBNnpvoj2VC87fSARIc/LW1FUHtL8h96ui3EDad82Z/OexdYzdb
fHZ+O0iNrJrAdWK6WbNZnhfq6z/QmnavdEb3KsVaSYPxzIlCYgTJfRGd2FOszMlL
rfea+bwdBbhSLvq5DHV6iSUNij/6jRaQgROfeqYXAWBps38=
-----END CERTIFICATE REQUEST-----
Public-Key: (1024 bit)
Modulus:
00:d9:8d:84:cb:fe:3c:ea:50:82:9a:d8:7c:5a:81:
a8:98:e2:a7:19:75:97:9e:92:17:fe:44:74:7f:28:
3e:2a:52:a8:7b:91:87:47:bc:25:73:bc:9a:0e:7a:
b9:4b:58:46:a7:de:d5:4d:4c:a2:e9:22:a6:b4:2d:
01:a8:92:e4:16:8d:a1:1c:9f:20:28:55:dc:67:7d:
e5:7f:28:8b:4d:5c:82:c6:f6:a7:0c:76:5f:43:06:
ad:9d:c7:71:37:55:2f:4a:92:3e:3e:1f:d8:c3:2a:
bc:7e:09:e7:07:44:12:90:01:d3:c1:ab:e0:1e:a9:
f3:f0:ff:05:b4:b8:44:50:db
Exponent: 65537 (0x10001)
rsa
-----BEGIN PUBLIC KEY-----
MIGfMA0GCSqGSIb3DQEBAQUAA4GNADCBiQKBgQDZjYTL/jzqUIKa2HxagaiY4qcZ
dZeekhf+RHR/KD4qUqh7kYdHvCVzvJoOerlLWEan3tVNTKLpIqa0LQGokuQWjaEc
nyAoVdxnfeV/KItNXILG9qcMdl9DBq2dx3E3VS9Kkj4+H9jDKrx+CecHRBKQAdPB
q+AeqfPw/wW0uERQ2wIDAQAB
-----END PUBLIC KEY-----
-----BEGIN CERTIFICATE REQUEST-----
MIICJzCCAZACAQAwKTELMAkGA1UEBhMCUk8xDDAKBgNVBAoMA1VUSTEMMAoGA1UE
CwwDc3NpMIGfMA0GCSqGSIb3DQEBAQUAA4GNADCBiQKBgQC9QWMYrsFXKfMXMRqq
hqIXHykuBxiGGDAinn4GYS4ZBnAJsTpS0CD26DMsw8RDcDdgU+rRXGj7ZgmXe5ZS
t0MaWOqqLmin7bX6ggCPeeitbpZW9lIehJddVI4yilmLUzRfIYb+xJhQKAsxpTA9
lyDE3zoiKFMvZBB6XewxQO7zHQIDAQABoIG9MIG6BgkqhkiG9w0BCQ4xgawwgakw
DgYDVR0PAQH/BAQDAgWgMC4GA1UdJQQnMCUGCCsGAQUFBwMBBglghkgBhvhCBAEG
CisGAQQBgjcKAwMGAisEMBwGA1UdEQQVMBOBEXN0ZXZlQG9wZW5zc2wub3JnMB0G
A1UdDgQWBBSQegX1VcOlpcRtE0xQr2cWa7eqQjAZBgMqAwMEEhYQTXkgbmV3IGV4
dGVuc2lvbjAPBgMqAwQECB4GAGEAYgBjMA0GCSqGSIb3DQEBCwUAA4GBAHcFr7yh
kA7I//Zp+HbXicxRLzuEV3mF6CDSZV8DQZ9dsky8ufsFj0TdyyeFUkXxlfpbLk3+
zlJqm6WsFGZQJzxmyvh+mG9guKnH6Vtn9jue3p/wEwIQsh2NMFFqDjxJ+FCnw8iN
Rn59gd3NMt9kcn54A3k8eYSI6a8lkVJrPrWq
-----END CERTIFICATE REQUEST-----
Public-Key: (1024 bit)
Modulus:
00:bd:41:63:18:ae:c1:57:29:f3:17:31:1a:aa:86:
a2:17:1f:29:2e:07:18:86:18:30:22:9e:7e:06:61:
2e:19:06:70:09:b1:3a:52:d0:20:f6:e8:33:2c:c3:
c4:43:70:37:60:53:ea:d1:5c:68:fb:66:09:97:7b:
96:52:b7:43:1a:58:ea:aa:2e:68:a7:ed:b5:fa:82:
00:8f:79:e8:ad:6e:96:56:f6:52:1e:84:97:5d:54:
8e:32:8a:59:8b:53:34:5f:21:86:fe:c4:98:50:28:
0b:31:a5:30:3d:97:20:c4:df:3a:22:28:53:2f:64:
10:7a:5d:ec:31:40:ee:f3:1d
Exponent: 65537 (0x10001)
-----BEGIN PUBLIC KEY-----
MIGfMA0GCSqGSIb3DQEBAQUAA4GNADCBiQKBgQC9QWMYrsFXKfMXMRqqhqIXHyku
BxiGGDAinn4GYS4ZBnAJsTpS0CD26DMsw8RDcDdgU+rRXGj7ZgmXe5ZSt0MaWOqq
Lmin7bX6ggCPeeitbpZW9lIehJddVI4yilmLUzRfIYb+xJhQKAsxpTA9lyDE3zoi
KFMvZBB6XewxQO7zHQIDAQAB
-----END PUBLIC KEY-----
t/Mytest.t .............. ok
t/release-kwalitee.t .... skipped: these tests are for release candidate testing
t/release-meta-json.t ... skipped: these tests are for release candidate testing
All tests successful.
Files=9, Tests=102, 16 wallclock secs ( 0.04 usr 0.00 sys + 15.34 cusr 0.18 csys = 15.56 CPU)
Result: PASS
PREREQUISITES:
Here is a list of prerequisites you specified and versions we
managed to load:
Module Name Have Want
Crypt::OpenSSL::Guess 0.15 0.11
Crypt::OpenSSL::RSA 0.33 0
Exporter 5.68 0
File::Slurper 0.014 0
File::Spec::Functions 3.75 0
File::Temp 0.2311 0
Import::Into 1.002005 0
Test::Lib 0.003 0
Test::More 1.302199 0
XSLoader 0.16 0
Perl module toolchain versions installed:
Module Name Have
CPANPLUS 0.9914
CPANPLUS::Dist::Build 0.90
Cwd 3.75
ExtUtils::CBuilder 0.280236
ExtUtils::Command 7.70
ExtUtils::Install 2.22
ExtUtils::MakeMaker 7.70
ExtUtils::Manifest 1.75
ExtUtils::ParseXS 3.51
File::Spec 3.75
Module::Build 0.4234
Pod::Parser 1.60
Pod::Simple 3.28
Test2 1.302199
Test::Harness 3.48
Test::More 1.302199
version 0.9932
******************************** NOTE ********************************
The comments above are created mechanically, possibly without manual
checking by the sender. As there are many people performing automatic
tests on each upload to CPAN, it is likely that you will receive
identical messages about the same problem.
If you believe that the message is mistaken, please reply to the first
one with correction and/or additional informations, and do not take
it personally. We appreciate your patience. :)
**********************************************************************
Additional comments:
This report was machine-generated by CPANPLUS::Dist::YACSmoke 1.08.
Powered by minismokebox version 0.68
CPANPLUS is prefering Build.PL
------------------------------
ENVIRONMENT AND OTHER CONTEXT
------------------------------
Environment variables:
AUTOMATED_TESTING = 1
LANG = en_GB.UTF-8
LANGUAGE = en_GB:en
NONINTERACTIVE_TESTING = 1
PATH = /usr/local/bin:/usr/bin:/bin:/usr/local/games:/usr/games
PERL5LIB = /home/cpan/pit/jail/Qb4aVyf006/lib/perl5:/home/cpan/pit/thr/conf/perl-5.18.0/.cpanplus/5.18.0/build/mtg61LIjRP/Crypt-OpenSSL-PKCS10-0.35/blib/lib:/home/cpan/pit/thr/conf/perl-5.18.0/.cpanplus/5.18.0/build/mtg61LIjRP/Crypt-OpenSSL-PKCS10-0.35/blib/arch
PERL5_CPANPLUS_IS_RUNNING = 1420
PERL5_CPANPLUS_IS_VERSION = 0.9914
PERL5_MINISMOKEBOX = 0.68
PERL5_YACSMOKE_BASE = /home/cpan/pit/thr/conf/perl-5.18.0
PERL_EXTUTILS_AUTOINSTALL = --defaultdeps
PERL_LOCAL_LIB_ROOT = /home/cpan/pit/jail/Qb4aVyf006
PERL_MB_OPT = --install_base "/home/cpan/pit/jail/Qb4aVyf006"
PERL_MM_OPT = INSTALL_BASE=/home/cpan/pit/jail/Qb4aVyf006
PERL_MM_USE_DEFAULT = 1
SHELL = /bin/bash
TERM = screen.xterm-256color
Perl special variables (and OS-specific diagnostics, for MSWin32):
Perl: $^X = /home/cpan/pit/thr/perl-5.18.0/bin/perl
UID: $< = 1001
EUID: $> = 1001
GID: $( = 1001 1001
EGID: $) = 1001 1001
-------------------------------
--
Summary of my perl5 (revision 5 version 18 subversion 0) configuration:
Platform:
osname=linux, osvers=5.10.0-12-686, archname=i686-linux-thread-multi
uname='linux dagobah 5.10.0-12-686 #1 smp debian 5.10.103-1 (2022-03-07) i686 gnulinux '
config_args='-des -Dprefix=/home/cpan/pit/thr/perl-5.18.0 -Dusethreads'
hint=recommended, useposix=true, d_sigaction=define
useithreads=define, usemultiplicity=define
useperlio=define, d_sfio=undef, uselargefiles=define, usesocks=undef
use64bitint=undef, use64bitall=undef, uselongdouble=undef
usemymalloc=n, bincompat5005=undef
Compiler:
cc='cc', ccflags ='-D_REENTRANT -D_GNU_SOURCE -fwrapv -fno-strict-aliasing -pipe -fstack-protector -I/usr/local/include -D_LARGEFILE_SOURCE -D_FILE_OFFSET_BITS=64',
optimize='-O2',
cppflags='-D_REENTRANT -D_GNU_SOURCE -fwrapv -fno-strict-aliasing -pipe -fstack-protector -I/usr/local/include'
ccversion='', gccversion='10.2.1 20210110', gccosandvers=''
intsize=4, longsize=4, ptrsize=4, doublesize=8, byteorder=1234
d_longlong=define, longlongsize=8, d_longdbl=define, longdblsize=12
ivtype='long', ivsize=4, nvtype='double', nvsize=8, Off_t='off_t', lseeksize=8
alignbytes=4, prototype=define
Linker and Libraries:
ld='cc', ldflags =' -fstack-protector -L/usr/local/lib'
libpth=/usr/local/lib /lib/i386-linux-gnu /lib/../lib /usr/lib/i386-linux-gnu /usr/lib/../lib /lib /usr/lib /lib64 /usr/lib64
libs=-lnsl -lgdbm -ldl -lm -lcrypt -lutil -lpthread -lc
perllibs=-lnsl -ldl -lm -lcrypt -lutil -lpthread -lc
libc=libc-2.31.so, so=so, useshrplib=false, libperl=libperl.a
gnulibc_version='2.31'
Dynamic Linking:
dlsrc=dl_dlopen.xs, dlext=so, d_dlsymun=undef, ccdlflags='-Wl,-E'
cccdlflags='-fPIC', lddlflags='-shared -O2 -L/usr/local/lib -fstack-protector'
Characteristics of this binary (from libperl):
Compile-time options: HAS_TIMES MULTIPLICITY PERLIO_LAYERS
PERL_DONT_CREATE_GVSV
PERL_HASH_FUNC_ONE_AT_A_TIME_HARD
PERL_IMPLICIT_CONTEXT PERL_MALLOC_WRAP
PERL_PRESERVE_IVUV PERL_SAWAMPERSAND USE_ITHREADS
USE_LARGE_FILES USE_LOCALE USE_LOCALE_COLLATE
USE_LOCALE_CTYPE USE_LOCALE_NUMERIC USE_PERLIO
USE_PERL_ATOF USE_REENTRANT_API
Locally applied patches:
Devel::PatchPerl 2.08
Built under linux
Compiled at Mar 18 2022 02:33:30
%ENV:
PERL5LIB="/home/cpan/pit/jail/Qb4aVyf006/lib/perl5:/home/cpan/pit/thr/conf/perl-5.18.0/.cpanplus/5.18.0/build/mtg61LIjRP/Crypt-OpenSSL-PKCS10-0.35/blib/lib:/home/cpan/pit/thr/conf/perl-5.18.0/.cpanplus/5.18.0/build/mtg61LIjRP/Crypt-OpenSSL-PKCS10-0.35/blib/arch"
PERL5_CPANPLUS_IS_RUNNING="1420"
PERL5_CPANPLUS_IS_VERSION="0.9914"
PERL5_MINISMOKEBOX="0.68"
PERL5_YACSMOKE_BASE="/home/cpan/pit/thr/conf/perl-5.18.0"
PERL_EXTUTILS_AUTOINSTALL="--defaultdeps"
PERL_LOCAL_LIB_ROOT="/home/cpan/pit/jail/Qb4aVyf006"
PERL_MB_OPT="--install_base "/home/cpan/pit/jail/Qb4aVyf006""
PERL_MM_OPT="INSTALL_BASE=/home/cpan/pit/jail/Qb4aVyf006"
PERL_MM_USE_DEFAULT="1"
@INC:
/home/cpan/pit/jail/Qb4aVyf006/lib/perl5/5.18.0/i686-linux-thread-multi
/home/cpan/pit/jail/Qb4aVyf006/lib/perl5/5.18.0
/home/cpan/pit/jail/Qb4aVyf006/lib/perl5/i686-linux-thread-multi
/home/cpan/pit/jail/Qb4aVyf006/lib/perl5
/home/cpan/pit/thr/conf/perl-5.18.0/.cpanplus/5.18.0/build/mtg61LIjRP/Crypt-OpenSSL-PKCS10-0.35/blib/lib
/home/cpan/pit/thr/conf/perl-5.18.0/.cpanplus/5.18.0/build/mtg61LIjRP/Crypt-OpenSSL-PKCS10-0.35/blib/arch
/home/cpan/pit/thr/perl-5.18.0/lib/site_perl/5.18.0/i686-linux-thread-multi
/home/cpan/pit/thr/perl-5.18.0/lib/site_perl/5.18.0
/home/cpan/pit/thr/perl-5.18.0/lib/5.18.0/i686-linux-thread-multi
/home/cpan/pit/thr/perl-5.18.0/lib/5.18.0
.