Report for Email-Simple-Test-TraceHeaders-0.091702

Back
From: metabase:user:b9873d6c-0edb-11e3-9167-276afc227de1
Subject: PASS Email-Simple-Test-TraceHeaders-0.091702 v5.18.1 GNU/Linux
Date: 2013-09-17T13:01:51Z

This distribution has been tested as part of the CPAN Testers
project, supporting the Perl programming language.  See
http://wiki.cpantesters.org/ for more information or email
questions to cpan-testers-discuss@perl.org


--
Dear Ricardo SIGNES,

This is a computer-generated report for Email-Simple-Test-TraceHeaders-0.091702
on perl 5.18.1, created by CPAN-Reporter-1.2010.

Thank you for uploading your work to CPAN.  Congratulations!
All tests were successful.

Sections of this report:

    * Tester comments
    * Program output
    * Prerequisites
    * Environment and other context

------------------------------
TESTER COMMENTS
------------------------------

Additional comments from tester:

this report is from an automated smoke testing program
and was not reviewed by a human for accuracy

------------------------------
PROGRAM OUTPUT
------------------------------

Output from '/usr/bin/make test':

PERL_DL_NONLAZY=1 /home/fperrad/perl5/perlbrew/perls/perl-5.18.1/bin/perl "-MExtUtils::Command::MM" "-e" "test_harness(0, 'blib/lib', 'blib/arch')" t/*.t
t/00-compile.t ................ ok
# 
# 
# Generated by Dist::Zilla::Plugin::ReportVersions::Tiny v1.09
# perl: 5.018001 (wanted any version) on linux from /home/fperrad/perl5/perlbrew/perls/perl-5.18.1/bin/perl
# 
# Capture::Tiny                                 => 0.22       (want any version)
# Carp                                          => 1.29       (want any version)
# Email::Date::Format                           => 1.004      (want any version)
# Email::Simple                                 => 2.202      (want any version)
# Email::Simple::Creator                        => 2.202      (want any version)
# ExtUtils::MakeMaker                           => 6.66       (want 6.30)   
# Sub::Exporter                                 => 0.986      (want any version)
# Sub::Exporter::Util                           => 0.986      (want any version)
# Test::More                                    => 0.98       (want 0.96)   
# Test::Pod                                     => module not found. (want 1.41)   
# blib                                          => 1.06       (want any version)
# strict                                        => 1.07       (want any version)
# version                                       => 0.9902     (want 0.9901) 
# warnings                                      => 1.18       (want any version)
# 
# Thanks for using my code.  I hope it works for you.
# If not, please try and include this output in the bug report.
# That will help me reproduce the issue and solve your problem.
# 
t/000-report-versions-tiny.t .. ok
t/basic.t ..................... ok
All tests successful.
Files=3, Tests=8,  9 wallclock secs ( 0.22 usr  0.02 sys +  2.04 cusr  0.21 csys =  2.49 CPU)
Result: PASS

------------------------------
PREREQUISITES
------------------------------

Prerequisite modules loaded:

requires:

    Module                 Need Have 
    ---------------------- ---- -----
    Carp                   0    1.29 
    Email::Date::Format    0    1.004
    Email::Simple          0    2.202
    Email::Simple::Creator 0    2.202
    strict                 0    1.07 
    Sub::Exporter          0    0.986
    Sub::Exporter::Util    0    0.986
    Test::More             0.88 0.98 
    warnings               0    1.18 

build_requires:

    Module                 Need Have 
    ---------------------- ---- -----
    blib                   0    1.06 
    Capture::Tiny          0    0.22 
    Test::More             0.96 0.98 

configure_requires:

    Module                 Need Have 
    ---------------------- ---- -----
    ExtUtils::MakeMaker    6.30 6.66 


------------------------------
ENVIRONMENT AND OTHER CONTEXT
------------------------------

Environment variables:

    AUTOMATED_TESTING = 1
    LANG = en_US.UTF-8
    LC_ALL = C
    PATH = /home/fperrad/perl5/perlbrew/bin:/home/fperrad/perl5/perlbrew/perls/perl-5.18.1/bin:/usr/local/bin:/usr/bin:/bin:/usr/local/games:/usr/games:/usr/sbin:/sbin
    PERL5LIB = /home/fperrad/.cpan/build/Email-Simple-2.202-YJ2zOy/blib/arch:/home/fperrad/.cpan/build/Email-Simple-2.202-YJ2zOy/blib/lib:/home/fperrad/.cpan/build/Email-Date-Format-1.004-PYcCGh/blib/arch:/home/fperrad/.cpan/build/Email-Date-Format-1.004-PYcCGh/blib/lib
    PERL5OPT = 
    PERL5_CPANPLUS_IS_RUNNING = 21341
    PERL5_CPAN_IS_RUNNING = 21341
    PERL5_CPAN_IS_RUNNING_IN_RECURSION = 3047,21341
    PERLBREW_BASHRC_VERSION = 0.66
    PERLBREW_HOME = /home/fperrad/.perlbrew
    PERLBREW_MANPATH = /home/fperrad/perl5/perlbrew/perls/perl-5.18.1/man
    PERLBREW_PATH = /home/fperrad/perl5/perlbrew/bin:/home/fperrad/perl5/perlbrew/perls/perl-5.18.1/bin
    PERLBREW_PERL = perl-5.18.1
    PERLBREW_ROOT = /home/fperrad/perl5/perlbrew
    PERLBREW_VERSION = 0.66
    PERL_CR_SMOKER_CURRENT = Email-Simple-Test-TraceHeaders-0.091702
    PERL_EXTUTILS_AUTOINSTALL = --defaultdeps
    PERL_MM_USE_DEFAULT = 1
    SHELL = /bin/bash
    TERM = xterm

Perl special variables (and OS-specific diagnostics, for MSWin32):

    $^X = /home/fperrad/perl5/perlbrew/perls/perl-5.18.1/bin/perl
    $UID/$EUID = 1000 / 1000
    $GID = 1001 24 25 27 29 30 44 46 104 1001
    $EGID = 1001 24 25 27 29 30 44 46 104 1001

Perl module toolchain versions installed:

    Module              Have    
    ------------------- --------
    CPAN                2.00    
    CPAN::Meta          2.120921
    Cwd                 3.40    
    ExtUtils::CBuilder  0.280210
    ExtUtils::Command   1.17    
    ExtUtils::Install   1.59    
    ExtUtils::MakeMaker 6.66    
    ExtUtils::Manifest  1.63    
    ExtUtils::ParseXS   3.18    
    File::Spec          3.40    
    JSON                2.59    
    JSON::PP            2.27202 
    Module::Build       0.4003  
    Module::Signature   n/a     
    Parse::CPAN::Meta   1.4404  
    Test::Harness       3.26    
    Test::More          0.98    
    YAML                0.84    
    YAML::Syck          n/a     
    version             0.9902  


--

Summary of my perl5 (revision 5 version 18 subversion 1) configuration:
   
  Platform:
    osname=linux, osvers=2.6.31.14.27-efikamx, archname=armv7l-linux
    uname='linux efika 2.6.31.14.27-efikamx #1 sun mar 18 20:13:21 edt 2012 armv7l gnulinux '
    config_args='-de -Dprefix=/home/fperrad/perl5/perlbrew/perls/perl-5.18.1 -Aeval:scriptdir=/home/fperrad/perl5/perlbrew/perls/perl-5.18.1/bin'
    hint=recommended, useposix=true, d_sigaction=define
    useithreads=undef, usemultiplicity=undef
    useperlio=define, d_sfio=undef, uselargefiles=define, usesocks=undef
    use64bitint=undef, use64bitall=undef, uselongdouble=undef
    usemymalloc=n, bincompat5005=undef
  Compiler:
    cc='cc', ccflags ='-fno-strict-aliasing -pipe -fstack-protector -I/usr/local/include -D_LARGEFILE_SOURCE -D_FILE_OFFSET_BITS=64',
    optimize='-O2',
    cppflags='-fno-strict-aliasing -pipe -fstack-protector -I/usr/local/include'
    ccversion='', gccversion='4.6.3', gccosandvers=''
    intsize=4, longsize=4, ptrsize=4, doublesize=8, byteorder=1234
    d_longlong=define, longlongsize=8, d_longdbl=define, longdblsize=8
    ivtype='long', ivsize=4, nvtype='double', nvsize=8, Off_t='off_t', lseeksize=8
    alignbytes=8, prototype=define
  Linker and Libraries:
    ld='cc', ldflags =' -fstack-protector -L/usr/local/lib'
    libpth=/usr/local/lib /lib/arm-linux-gnueabihf /lib /usr/lib/arm-linux-gnueabihf /usr/lib
    libs=-lnsl -lgdbm -ldb -ldl -lm -lcrypt -lutil -lc -lgdbm_compat
    perllibs=-lnsl -ldl -lm -lcrypt -lutil -lc
    libc=, so=so, useshrplib=false, libperl=libperl.a
    gnulibc_version='2.13'
  Dynamic Linking:
    dlsrc=dl_dlopen.xs, dlext=so, d_dlsymun=undef, ccdlflags='-Wl,-E'
    cccdlflags='-fPIC', lddlflags='-shared -O2 -L/usr/local/lib -fstack-protector'


Characteristics of this binary (from libperl): 
  Compile-time options: HAS_TIMES PERLIO_LAYERS PERL_DONT_CREATE_GVSV
                        PERL_HASH_FUNC_ONE_AT_A_TIME_HARD PERL_MALLOC_WRAP
                        PERL_PRESERVE_IVUV PERL_SAWAMPERSAND USE_LARGE_FILES
                        USE_LOCALE USE_LOCALE_COLLATE USE_LOCALE_CTYPE
                        USE_LOCALE_NUMERIC USE_PERLIO USE_PERL_ATOF
  Built under linux
  Compiled at Sep 10 2013 17:09:04
  %ENV:
    PERL5LIB="/home/fperrad/.cpan/build/Email-Simple-2.202-YJ2zOy/blib/arch:/home/fperrad/.cpan/build/Email-Simple-2.202-YJ2zOy/blib/lib:/home/fperrad/.cpan/build/Email-Date-Format-1.004-PYcCGh/blib/arch:/home/fperrad/.cpan/build/Email-Date-Format-1.004-PYcCGh/blib/lib"
    PERL5OPT=""
    PERL5_CPANPLUS_IS_RUNNING="21341"
    PERL5_CPAN_IS_RUNNING="21341"
    PERL5_CPAN_IS_RUNNING_IN_RECURSION="3047,21341"
    PERLBREW_BASHRC_VERSION="0.66"
    PERLBREW_HOME="/home/fperrad/.perlbrew"
    PERLBREW_MANPATH="/home/fperrad/perl5/perlbrew/perls/perl-5.18.1/man"
    PERLBREW_PATH="/home/fperrad/perl5/perlbrew/bin:/home/fperrad/perl5/perlbrew/perls/perl-5.18.1/bin"
    PERLBREW_PERL="perl-5.18.1"
    PERLBREW_ROOT="/home/fperrad/perl5/perlbrew"
    PERLBREW_VERSION="0.66"
    PERL_CR_SMOKER_CURRENT="Email-Simple-Test-TraceHeaders-0.091702"
    PERL_EXTUTILS_AUTOINSTALL="--defaultdeps"
    PERL_MM_USE_DEFAULT="1"
  @INC:
    /home/fperrad/.cpan/build/Email-Simple-2.202-YJ2zOy/blib/arch
    /home/fperrad/.cpan/build/Email-Simple-2.202-YJ2zOy/blib/lib
    /home/fperrad/.cpan/build/Email-Date-Format-1.004-PYcCGh/blib/arch
    /home/fperrad/.cpan/build/Email-Date-Format-1.004-PYcCGh/blib/lib
    /home/fperrad/perl5/perlbrew/perls/perl-5.18.1/lib/site_perl/5.18.1/armv7l-linux
    /home/fperrad/perl5/perlbrew/perls/perl-5.18.1/lib/site_perl/5.18.1
    /home/fperrad/perl5/perlbrew/perls/perl-5.18.1/lib/5.18.1/armv7l-linux
    /home/fperrad/perl5/perlbrew/perls/perl-5.18.1/lib/5.18.1
    .