JSON-PP v4.17_01 Perl 5 v5.30.0 MSWin32-x64-multi-thread

Status
Pass
From
twata
Dist
JSON-PP v4.17_01
Platform
Perl 5 v5.30.0 MSWin32-x64-multi-thread
Date
2023-08-05 13:36:08
ID
51f850f4-754e-1014-a732-09d6efaa1848
This distribution has been tested as part of the CPAN Testers
project, supporting the Perl programming language.  See
http://wiki.cpantesters.org/ for more information or email
questions to cpan-testers-discuss@perl.org


--
Dear Kenichi Ishigaki,

This is a computer-generated report for JSON-PP-4.17_01
on perl 5.30.0, created by CPAN-Reporter-1.2018.

Thank you for uploading your work to CPAN.  Congratulations!
All tests were successful.

Sections of this report:

    * Tester comments
    * Program output
    * Prerequisites
    * Environment and other context

------------------------------
TESTER COMMENTS
------------------------------

Additional comments from tester:

none provided

------------------------------
PROGRAM OUTPUT
------------------------------

Output from 'C:\strawberry\c\bin\gmake.exe test':

"C:\Strawberry\perl\bin\perl.exe" "-MExtUtils::Command::MM" "-MTest::Harness" "-e" "undef *Test::Harness::Switches; test_harness(0, 'blib\lib', 'blib\arch')" t/*.t
t/000_load.t .......................... ok
t/001_utf8.t .......................... ok
t/002_error.t ......................... ok
t/003_types.t ......................... ok
t/004_dwiw_encode.t ................... ok
t/005_dwiw_decode.t ................... ok
t/006_pc_pretty.t ..................... ok
t/007_pc_esc.t ........................ ok
t/008_pc_base.t ....................... ok
t/009_pc_extra_number.t ............... ok
t/010_pc_keysort.t .................... ok
t/011_pc_expo.t ....................... ok
t/012_blessed.t ....................... ok
t/013_limit.t ......................... ok
t/014_latin1.t ........................ ok
t/015_prefix.t ........................ ok
t/016_tied.t .......................... ok
t/017_relaxed.t ....................... ok
t/018_json_checker.t .................. ok
t/019_incr.t .......................... ok
t/020_faihu.t ......................... ok
t/020_unknown.t ....................... ok
t/021_evans.t ......................... ok
t/022_comment_at_eof.t ................ ok
t/052_object.t ........................ ok
t/099_binary00.t ...................... ok
t/099_binary01.t ...................... ok
t/099_binary02.t ...................... ok
t/099_binary03.t ...................... ok
t/099_binary04.t ...................... ok
t/099_binary05.t ...................... ok
t/099_binary06.t ...................... ok
t/099_binary07.t ...................... ok
t/099_binary08.t ...................... ok
t/099_binary09.t ...................... ok
t/099_binary10.t ...................... ok
t/099_binary11.t ...................... ok
t/099_binary12.t ...................... ok
t/099_binary13.t ...................... ok
t/099_binary14.t ...................... ok
t/099_binary15.t ...................... ok
t/104_sortby.t ........................ ok
t/105_esc_slash.t ..................... ok
t/106_allow_barekey.t ................. ok
t/107_allow_singlequote.t ............. ok
t/108_decode.t ........................ ok
t/109_encode.t ........................ ok
t/110_bignum.t ........................ ok
t/112_upgrade.t ....................... ok
t/113_overloaded_eq.t ................. ok
t/114_decode_prefix.t ................. ok
t/115_tie_ixhash.t .................... ok
t/116_incr_parse_fixed.t .............. ok
t/117_numbers.t ....................... ok
t/118_boolean_values.t ................ ok
t/119_incr_parse_utf8.t ............... ok
t/120_incr_parse_truncated.t .......... ok
t/121_reentrant.t ..................... ok
t/core_bools.t ........................ ok
t/gh_28_json_test_suite.t ............. ok
t/gh_29_trailing_false_value.t ........ ok
t/rt_116998_wrong_character_offset.t .. ok
t/rt_122270_old_xs_boolean.t .......... ok
t/rt_90071_incr_parse.t ............... ok
t/zero-mojibake.t ..................... ok
All tests successful.
Files=65, Tests=25921, 115 wallclock secs ( 2.20 usr +  0.28 sys =  2.48 CPU)
Result: PASS

------------------------------
PREREQUISITES
------------------------------

Prerequisite modules loaded:

requires:

    Module              Need Have    
    ------------------- ---- --------
    Scalar::Util        1.08 1.63    
    Test::More          0    1.302195

build_requires:

    Module              Need Have    
    ------------------- ---- --------
    ExtUtils::MakeMaker 0    7.70    

configure_requires:

    Module              Need Have    
    ------------------- ---- --------
    ExtUtils::MakeMaker 0    7.70    


------------------------------
ENVIRONMENT AND OTHER CONTEXT
------------------------------

Environment variables:

    COMSPEC = C:\WINDOWS\system32\cmd.exe
    NONINTERACTIVE_TESTING = 1
    NUMBER_OF_PROCESSORS = 4
    PATH = C:\home\sunlight\perl5\bin;C:\WINDOWS\system32;C:\WINDOWS;C:\WINDOWS\System32\Wbem;C:\WINDOWS\System32\WindowsPowerShell\v1.0\;C:\Strawberry\c\bin;C:\Strawberry\perl\site\bin;C:\Strawberry\perl\bin
    PERL5LIB = C:\home\sunlight\perl5\lib\perl5
    PERL5OPT = 
    PERL5_CPANPLUS_IS_RUNNING = 11024
    PERL5_CPAN_IS_RUNNING = 11024
    PERL_LOCAL_LIB_ROOT = C:\home\sunlight\perl5
    PERL_MB_OPT = --install_base "C:\\home\\sunlight\\perl5"
    PERL_MM_OPT = INSTALL_BASE=C:\\home\\sunlight\\perl5
    PERL_MM_USE_DEFAULT = 1
    PERL_USE_UNSAFE_INC = 1
    PROCESSOR_IDENTIFIER = Intel64 Family 6 Model 58 Stepping 9, GenuineIntel
    TEMP = C:\Users\USER\AppData\Local\Temp
    TERM = dumb

Perl special variables (and OS-specific diagnostics, for MSWin32):

    $^X = C:\Strawberry\perl\bin\perl.exe
    $UID/$EUID = 0 / 0
    $GID = 0
    $EGID = 0
    Win32::GetOSName = Win8.1
    Win32::GetOSVersion = , 6, 3, 9600, 2, 0, 0, 256, 1
    Win32::FsType = NTFS
    Win32::IsAdminUser = 0

Perl module toolchain versions installed:

    Module              Have    
    ------------------- --------
    CPAN                2.34    
    CPAN::Meta          2.150010
    Cwd                 3.78    
    ExtUtils::CBuilder  0.280235
    ExtUtils::Command   7.70    
    ExtUtils::Install   2.22    
    ExtUtils::MakeMaker 7.70    
    ExtUtils::Manifest  1.72    
    ExtUtils::ParseXS   3.44    
    File::Spec          3.78    
    JSON                4.10    
    JSON::PP            4.16    
    Module::Build       0.42_35 
    Module::Signature   0.88    
    Parse::CPAN::Meta   2.150010
    Test::Harness       3.45_02 
    Test::More          1.302195
    YAML                1.29    
    YAML::Syck          n/a     
    version             0.9924  


--

Summary of my perl5 (revision 5 version 30 subversion 0) configuration:
   
  Platform:
    osname=MSWin32
    osvers=10.0.17763.529
    archname=MSWin32-x64-multi-thread
    uname='Win32 strawberry-perl 5.30.0.1 #1 Thu May 23 12:20:46 2019 x64'
    config_args='undef'
    hint=recommended
    useposix=true
    d_sigaction=undef
    useithreads=define
    usemultiplicity=define
    use64bitint=define
    use64bitall=undef
    uselongdouble=undef
    usemymalloc=n
    default_inc_excludes_dot=define
    bincompat5005=undef
  Compiler:
    cc='gcc'
    ccflags =' -s -O2 -DWIN32 -DWIN64 -DCONSERVATIVE -D__USE_MINGW_ANSI_STDIO -DPERL_TEXTMODE_SCRIPTS -DPERL_IMPLICIT_CONTEXT -DPERL_IMPLICIT_SYS -DUSE_PERLIO -fwrapv -fno-strict-aliasing -mms-bitfields'
    optimize='-s -O2'
    cppflags='-DWIN32'
    ccversion=''
    gccversion='8.3.0'
    gccosandvers=''
    intsize=4
    longsize=4
    ptrsize=8
    doublesize=8
    byteorder=12345678
    doublekind=3
    d_longlong=define
    longlongsize=8
    d_longdbl=define
    longdblsize=16
    longdblkind=3
    ivtype='long long'
    ivsize=8
    nvtype='double'
    nvsize=8
    Off_t='long long'
    lseeksize=8
    alignbytes=8
    prototype=define
  Linker and Libraries:
    ld='g++'
    ldflags ='-s -L"C:\strawberry\perl\lib\CORE" -L"C:\strawberry\c\lib"'
    libpth=C:\strawberry\c\lib C:\strawberry\c\x86_64-w64-mingw32\lib C:\strawberry\c\lib\gcc\x86_64-w64-mingw32\8.3.0
    libs= -lmoldname -lkernel32 -luser32 -lgdi32 -lwinspool -lcomdlg32 -ladvapi32 -lshell32 -lole32 -loleaut32 -lnetapi32 -luuid -lws2_32 -lmpr -lwinmm -lversion -lodbc32 -lodbccp32 -lcomctl32
    perllibs= -lmoldname -lkernel32 -luser32 -lgdi32 -lwinspool -lcomdlg32 -ladvapi32 -lshell32 -lole32 -loleaut32 -lnetapi32 -luuid -lws2_32 -lmpr -lwinmm -lversion -lodbc32 -lodbccp32 -lcomctl32
    libc=
    so=dll
    useshrplib=true
    libperl=libperl530.a
    gnulibc_version=''
  Dynamic Linking:
    dlsrc=dl_win32.xs
    dlext=xs.dll
    d_dlsymun=undef
    ccdlflags=' '
    cccdlflags=' '
    lddlflags='-mdll -s -L"C:\strawberry\perl\lib\CORE" -L"C:\strawberry\c\lib"'


Characteristics of this binary (from libperl): 
  Compile-time options:
    HAS_TIMES
    HAVE_INTERP_INTERN
    MULTIPLICITY
    PERLIO_LAYERS
    PERL_COPY_ON_WRITE
    PERL_DONT_CREATE_GVSV
    PERL_IMPLICIT_CONTEXT
    PERL_IMPLICIT_SYS
    PERL_MALLOC_WRAP
    PERL_OP_PARENT
    PERL_PRESERVE_IVUV
    USE_64_BIT_INT
    USE_ITHREADS
    USE_LARGE_FILES
    USE_LOCALE
    USE_LOCALE_COLLATE
    USE_LOCALE_CTYPE
    USE_LOCALE_NUMERIC
    USE_LOCALE_TIME
    USE_PERLIO
    USE_PERL_ATOF
  Built under MSWin32
  Compiled at May 23 2019 12:26:54
  %ENV:
    PERL5LIB="C:\home\sunlight\perl5\lib\perl5"
    PERL5_CPANPLUS_IS_RUNNING="11024"
    PERL5_CPAN_IS_RUNNING="11024"
    PERL_LOCAL_LIB_ROOT="C:\home\sunlight\perl5"
    PERL_MB_OPT="--install_base "C:\\home\\sunlight\\perl5""
    PERL_MM_OPT="INSTALL_BASE=C:\\home\\sunlight\\perl5"
    PERL_MM_USE_DEFAULT="1"
    PERL_USE_UNSAFE_INC="1"
  @INC:
    C:\home\sunlight\perl5\lib\perl5/5.30.0/MSWin32-x64-multi-thread
    C:\home\sunlight\perl5\lib\perl5/5.30.0
    C:\home\sunlight\perl5\lib\perl5/MSWin32-x64-multi-thread
    C:\home\sunlight\perl5\lib\perl5
    C:/Strawberry/perl/site/lib
    C:/Strawberry/perl/vendor/lib
    C:/Strawberry/perl/lib
    .