Report for Crypt-SSLeay-0.72

Back
From: metabase:user:919240cc-3a5a-11e3-97e0-aee51455ead1
Subject: PASS Crypt-SSLeay-0.72 v5.22.1 GNU/Linux
Date: 2016-04-08T14:36:45Z

This distribution has been tested as part of the CPAN Testers
project, supporting the Perl programming language.  See
http://wiki.cpantesters.org/ for more information or email
questions to cpan-testers-discuss@perl.org


--
Dear NANIS,

This is a computer-generated report for Crypt-SSLeay-0.72
on perl 5.22.1, created by App::cpanminus::reporter 0.13 (1.7039).

Thank you for uploading your work to CPAN.  Congratulations!
All tests were successful.

Sections of this report:

    * Tester comments
    * Program output
    * Prerequisites
    * Environment and other context

------------------------------
TESTER COMMENTS
------------------------------

Additional comments from tester:

none provided

------------------------------
PROGRAM OUTPUT
------------------------------

Output from '':

Building and testing Crypt-SSLeay-0.72
cp lib/Crypt/SSLeay/Version.pm blib/lib/Crypt/SSLeay/Version.pm
cp lib/Net/SSL.pm blib/lib/Net/SSL.pm
cp lib/Crypt/SSLeay/CTX.pm blib/lib/Crypt/SSLeay/CTX.pm
cp lib/Crypt/SSLeay/Conn.pm blib/lib/Crypt/SSLeay/Conn.pm
cp lib/Crypt/SSLeay/MainContext.pm blib/lib/Crypt/SSLeay/MainContext.pm
cp lib/Crypt/SSLeay/X509.pm blib/lib/Crypt/SSLeay/X509.pm
cp SSLeay.pm blib/lib/Crypt/SSLeay.pm
cp lib/Crypt/SSLeay/Err.pm blib/lib/Crypt/SSLeay/Err.pm
Running Mkbootstrap for Crypt::SSLeay ()
chmod 644 "SSLeay.bs"
"/home/ilmari/perl5/perlbrew/perls/22.1/bin/perl" "/home/ilmari/perl5/perlbrew/perls/22.1/lib/5.22.1/ExtUtils/xsubpp"  -typemap "/home/ilmari/perl5/perlbrew/perls/22.1/lib/5.22.1/ExtUtils/typemap" -typemap "typemap"  SSLeay.xs > SSLeay.xsc && mv SSLeay.xsc SSLeay.c
ccache gcc -c   -fwrapv -fno-strict-aliasing -pipe -fstack-protector-strong -I/usr/local/include -D_LARGEFILE_SOURCE -D_FILE_OFFSET_BITS=64 -D_FORTIFY_SOURCE=2 -O2   -DVERSION=\"0.72\" -DXS_VERSION=\"0.72\" -fPIC "-I/home/ilmari/perl5/perlbrew/perls/22.1/lib/5.22.1/x86_64-linux/CORE"   SSLeay.c
rm -f blib/arch/auto/Crypt/SSLeay/SSLeay.so
LD_RUN_PATH="/usr/lib/x86_64-linux-gnu:/lib/x86_64-linux-gnu" gcc  -shared -O2 -L/usr/local/lib -fstack-protector-strong SSLeay.o  -o blib/arch/auto/Crypt/SSLeay/SSLeay.so 	\
   -lssl -lcrypto -lz  	\
  
chmod 755 blib/arch/auto/Crypt/SSLeay/SSLeay.so
"/home/ilmari/perl5/perlbrew/perls/22.1/bin/perl" -MExtUtils::Command::MM -e 'cp_nonempty' -- SSLeay.bs blib/arch/auto/Crypt/SSLeay/SSLeay.bs 644
Manifying 3 pod documents
Running Mkbootstrap for Crypt::SSLeay ()
chmod 644 "SSLeay.bs"
PERL_DL_NONLAZY=1 "/home/ilmari/perl5/perlbrew/perls/22.1/bin/perl" "-MExtUtils::Command::MM" "-MTest::Harness" "-e" "undef *Test::Harness::Switches; test_harness(0, 'blib/lib', 'blib/arch')" t/*.t
t/00-basic.t ..... ok
t/01-connect.t ... ok
# Reading configuration from 'test.config' on linux
# network_tests : 0
t/02-live.t ...... skipped: Network tests disabled
t/03-version.t ... ok
t/boilerplate.t .. ok
t/manifest.t ..... skipped: Author tests not required for installation
All tests successful.
Files=6, Tests=43,  0 wallclock secs ( 0.04 usr  0.00 sys +  0.27 cusr  0.02 csys =  0.33 CPU)
Result: PASS

------------------------------
PREREQUISITES
------------------------------

Prerequisite modules loaded:

    No requirements found

------------------------------
ENVIRONMENT AND OTHER CONTEXT
------------------------------

Environment variables:

    LANG = en_GB.UTF-8
    LANGUAGE = en_GB:en
    PATH = /home/ilmari/src/git-hub/lib:/home/ilmari/bin:/home/ilmari/.rakudobrew/bin:/home/ilmari/.perlbrew/libs/22.1@std/bin:/home/ilmari/perl5/perlbrew/bin:/home/ilmari/perl5/perlbrew/perls/22.1/bin:/usr/local/bin:/usr/bin:/bin:/usr/local/games:/usr/games
    PERL5LIB = /home/ilmari/.perlbrew/libs/22.1@std/lib/perl5
    PERLBREW = command perlbrew
    PERLBREW_BASHRC_VERSION = 0.71
    PERLBREW_HOME = /home/ilmari/.perlbrew
    PERLBREW_LIB = std
    PERLBREW_MANPATH = /home/ilmari/.perlbrew/libs/22.1@std/man:/home/ilmari/perl5/perlbrew/perls/22.1/man
    PERLBREW_PATH = /home/ilmari/.perlbrew/libs/22.1@std/bin:/home/ilmari/perl5/perlbrew/bin:/home/ilmari/perl5/perlbrew/perls/22.1/bin
    PERLBREW_PERL = 22.1
    PERLBREW_ROOT = /home/ilmari/perl5/perlbrew
    PERLBREW_VERSION = 0.71
    PERLDOC_PAGER = less -iR
    PERL_LOCAL_LIB_ROOT = /home/ilmari/.perlbrew/libs/22.1@std
    PERL_MB_OPT = --install_base /home/ilmari/.perlbrew/libs/22.1@std
    PERL_MM_OPT = INSTALL_BASE=/home/ilmari/.perlbrew/libs/22.1@std
    SHELL = /bin/bash
    TERM = xterm

Perl special variables (and OS-specific diagnostics, for MSWin32):

    EGID = 1000 4 24 25 27 29 30 44 46 102 108 113 115 119 126 134 1000
    EUID = 1000
    EXECUTABLE_NAME = /home/ilmari/perl5/perlbrew/perls/22.1/bin/perl
    GID = 1000 4 24 25 27 29 30 44 46 102 108 113 115 119 126 134 1000
    UID = 1000

Perl module toolchain versions installed:

    Module              Have    
    ------------------- --------
    CPAN                2.11    
    CPAN::Meta          2.150001
    Cwd                 3.62    
    ExtUtils::CBuilder  0.280221
    ExtUtils::Command   1.20    
    ExtUtils::Install   2.04    
    ExtUtils::MakeMaker 7.04_01 
    ExtUtils::Manifest  1.70    
    ExtUtils::ParseXS   3.28    
    File::Spec          3.62    
    JSON                2.90    
    JSON::PP            2.27300 
    Module::Build       0.4214  
    Module::Signature   0.79    
    Parse::CPAN::Meta   1.4414  
    Test::Harness       3.35    
    Test::More          1.001014
    YAML                1.15    
    YAML::Syck          n/a     
    version             0.9909  


--

Summary of my perl5 (revision 5 version 22 subversion 1) configuration:
   
  Platform:
    osname=linux, osvers=3.16.0-4-amd64, archname=x86_64-linux
    uname='linux garkbit 3.16.0-4-amd64 #1 smp debian 3.16.7-ckt11-1+deb8u4 (2015-09-19) x86_64 gnulinux '
    config_args='-de -Dprefix=/home/ilmari/perl5/perlbrew/perls/22.1 -Dman1dir=none -Dman3dir=none -Dcccdlflags=-fPIC -Duseshrplib -Dcc=ccache gcc -Dld=gcc -Aeval:scriptdir=/home/ilmari/perl5/perlbrew/perls/22.1/bin'
    hint=recommended, useposix=true, d_sigaction=define
    useithreads=undef, usemultiplicity=undef
    use64bitint=define, use64bitall=define, uselongdouble=undef
    usemymalloc=n, bincompat5005=undef
  Compiler:
    cc='ccache gcc', ccflags ='-fwrapv -fno-strict-aliasing -pipe -fstack-protector-strong -I/usr/local/include -D_LARGEFILE_SOURCE -D_FILE_OFFSET_BITS=64 -D_FORTIFY_SOURCE=2',
    optimize='-O2',
    cppflags='-fwrapv -fno-strict-aliasing -pipe -fstack-protector-strong -I/usr/local/include'
    ccversion='', gccversion='4.9.2', gccosandvers=''
    intsize=4, longsize=8, ptrsize=8, doublesize=8, byteorder=12345678, doublekind=3
    d_longlong=define, longlongsize=8, d_longdbl=define, longdblsize=16, longdblkind=3
    ivtype='long', ivsize=8, nvtype='double', nvsize=8, Off_t='off_t', lseeksize=8
    alignbytes=8, prototype=define
  Linker and Libraries:
    ld='gcc', ldflags =' -fstack-protector-strong -L/usr/local/lib'
    libpth=/usr/local/lib /usr/lib/gcc/x86_64-linux-gnu/4.9/include-fixed /usr/include/x86_64-linux-gnu /usr/lib /lib/x86_64-linux-gnu /lib/../lib /usr/lib/x86_64-linux-gnu /usr/lib/../lib /lib
    libs=-lpthread -lnsl -lgdbm -ldb -ldl -lm -lcrypt -lutil -lc -lgdbm_compat
    perllibs=-lpthread -lnsl -ldl -lm -lcrypt -lutil -lc
    libc=libc-2.19.so, so=so, useshrplib=true, libperl=libperl.so
    gnulibc_version='2.19'
  Dynamic Linking:
    dlsrc=dl_dlopen.xs, dlext=so, d_dlsymun=undef, ccdlflags='-Wl,-E -Wl,-rpath,/home/ilmari/perl5/perlbrew/perls/22.1/lib/5.22.1/x86_64-linux/CORE'
    cccdlflags='-fPIC', lddlflags='-shared -O2 -L/usr/local/lib -fstack-protector-strong'


Characteristics of this binary (from libperl): 
  Compile-time options: HAS_TIMES PERLIO_LAYERS PERL_DONT_CREATE_GVSV
                        PERL_HASH_FUNC_ONE_AT_A_TIME_HARD PERL_MALLOC_WRAP
                        PERL_NEW_COPY_ON_WRITE PERL_PRESERVE_IVUV
                        USE_64_BIT_ALL USE_64_BIT_INT USE_LARGE_FILES
                        USE_LOCALE USE_LOCALE_COLLATE USE_LOCALE_CTYPE
                        USE_LOCALE_NUMERIC USE_LOCALE_TIME USE_PERLIO
                        USE_PERL_ATOF
  Locally applied patches:
	Devel::PatchPerl 1.38
  Built under linux
  Compiled at Dec 18 2015 10:47:21
  %ENV:
    PERL5LIB="/home/ilmari/.perlbrew/libs/22.1@std/lib/perl5"
    PERLBREW="command perlbrew"
    PERLBREW_BASHRC_VERSION="0.71"
    PERLBREW_HOME="/home/ilmari/.perlbrew"
    PERLBREW_LIB="std"
    PERLBREW_MANPATH="/home/ilmari/.perlbrew/libs/22.1@std/man:/home/ilmari/perl5/perlbrew/perls/22.1/man"
    PERLBREW_PATH="/home/ilmari/.perlbrew/libs/22.1@std/bin:/home/ilmari/perl5/perlbrew/bin:/home/ilmari/perl5/perlbrew/perls/22.1/bin"
    PERLBREW_PERL="22.1"
    PERLBREW_ROOT="/home/ilmari/perl5/perlbrew"
    PERLBREW_VERSION="0.71"
    PERLDOC_PAGER="less -iR"
    PERL_LOCAL_LIB_ROOT="/home/ilmari/.perlbrew/libs/22.1@std"
    PERL_MB_OPT="--install_base /home/ilmari/.perlbrew/libs/22.1@std"
    PERL_MM_OPT="INSTALL_BASE=/home/ilmari/.perlbrew/libs/22.1@std"
  @INC:
    /home/ilmari/.perlbrew/libs/22.1@std/lib/perl5/x86_64-linux
    /home/ilmari/.perlbrew/libs/22.1@std/lib/perl5
    /home/ilmari/perl5/perlbrew/perls/22.1/lib/site_perl/5.22.1/x86_64-linux
    /home/ilmari/perl5/perlbrew/perls/22.1/lib/site_perl/5.22.1
    /home/ilmari/perl5/perlbrew/perls/22.1/lib/5.22.1/x86_64-linux
    /home/ilmari/perl5/perlbrew/perls/22.1/lib/5.22.1
    .