Report for WWW-Google-Contacts-0.39

Back
From: metabase:user:320bfe00-2aae-11df-837a-5e0a49663a4f
Subject: PASS WWW-Google-Contacts-0.39 v5.12.0 GNU/Linux
Date: 2017-05-03T06:47:03Z

This distribution has been tested as part of the CPAN Testers
project, supporting the Perl programming language.  See
http://wiki.cpantesters.org/ for more information or email
questions to cpan-testers-discuss@perl.org


--
Dear Magnus Erixzon,

This is a computer-generated report for WWW-Google-Contacts-0.39
on perl 5.12.0, created by CPAN-Reporter-1.2018.

Thank you for uploading your work to CPAN.  Congratulations!
All tests were successful.

Sections of this report:

    * Tester comments
    * Program output
    * Prerequisites
    * Environment and other context

------------------------------
TESTER COMMENTS
------------------------------

Additional comments from tester:

this report is from an automated smoke testing program
and was not reviewed by a human for accuracy

------------------------------
PROGRAM OUTPUT
------------------------------

Output from '/usr/bin/make test':

PERL_DL_NONLAZY=1 "/home/sand/src/perl/repoperls/installed-perls/host/k93msid/v5.12.0/89ad/bin/perl" "-MExtUtils::Command::MM" "-MTest::Harness" "-e" "undef *Test::Harness::Switches; test_harness(0, 'blib/lib', 'blib/arch')" t/*.t
# Testing WWW::Google::Contacts 0.39, Perl 5.012000, /home/sand/src/perl/repoperls/installed-perls/host/k93msid/v5.12.0/89ad/bin/perl
t/00-load.t ....................... ok
t/01-basics.t ..................... ok
t/10-list-contacts-ONLINE.t ....... skipped: no TEST_GOOGLE_USERNAME or TEST_GOOGLE_PASSWORD set in the environment
t/20.group_members.t .............. skipped: no TEST_GOOGLE_USERNAME or TEST_GOOGLE_PASSWORD set in the environment
t/21.add_to_group.t ............... skipped: no TEST_GOOGLE_USERNAME or TEST_GOOGLE_PASSWORD set in the environment
t/22.change_email_type.t .......... skipped: no TEST_GOOGLE_USERNAME or TEST_GOOGLE_PASSWORD set in the environment
t/23.set_contact_values.t ......... skipped: no TEST_GOOGLE_USERNAME or TEST_GOOGLE_PASSWORD set in the environment
t/24.set_priority.t ............... skipped: no TEST_GOOGLE_USERNAME or TEST_GOOGLE_PASSWORD set in the environment
t/25.set_organization.t ........... skipped: no TEST_GOOGLE_USERNAME or TEST_GOOGLE_PASSWORD set in the environment
t/26.language.t ................... skipped: no TEST_GOOGLE_USERNAME or TEST_GOOGLE_PASSWORD set in the environment
t/27.relation.t ................... skipped: no TEST_GOOGLE_USERNAME or TEST_GOOGLE_PASSWORD set in the environment
t/33.photo.t ...................... skipped: no TEST_GOOGLE_USERNAME or TEST_GOOGLE_PASSWORD set in the environment
t/50.types.t ...................... ok
t/60.getting_user_defined.t ....... skipped: no TEST_GOOGLE_USERNAME or TEST_GOOGLE_PASSWORD set in the environment
t/61.utf8.t ....................... skipped: no TEST_GOOGLE_USERNAME or TEST_GOOGLE_PASSWORD set in the environment
t/9999.deprecated.get_contact.t ... ok
t/9999.deprecated.get_contacts.t .. ok
t/9999.deprecated.get_groups.t .... ok
t/release-pod-coverage.t .......... skipped: these tests are for release candidate testing
t/release-pod-syntax.t ............ skipped: these tests are for release candidate testing
t/type_relation.t ................. ok
t/yomi_name.t ..................... ok
All tests successful.
Files=22, Tests=57, 28 wallclock secs ( 0.05 usr  0.11 sys + 14.10 cusr  0.92 csys = 15.18 CPU)
Result: PASS

------------------------------
PREREQUISITES
------------------------------

Prerequisite modules loaded:

requires:

    Module                      Need Have   
    --------------------------- ---- -------
    Class::MOP                  1.09 2.2004 
  ! Crypt::SSLeay               0    n/a    
    File::Slurp                 0    9999.19
    LWP::UserAgent              0    6.26   
    Moose                       0    2.2004 
    MooseX::Role::Parameterized 0    1.09   
    MooseX::Types               0    0.50   
    Net::Google::AuthSub        0    0.5    
    Perl6::Junction             0    1.60000
    Try::Tiny                   0    0.28   
    XML::Simple                 0    2.24   

configure_requires:

    Module                      Need Have   
    --------------------------- ---- -------
    ExtUtils::MakeMaker         6.30 7.24   


------------------------------
ENVIRONMENT AND OTHER CONTEXT
------------------------------

Environment variables:

    AUTOMATED_TESTING = 1
    LANG = en_US.UTF-8
    PATH = /home/sand/bin:/usr/local/bin:/usr/bin:/bin:/usr/games:/usr/local/perl/bin:/usr/X11/bin:/sbin:/usr/sbin
    PERL5LIB = 
    PERL5OPT = 
    PERL5_CPANPLUS_IS_RUNNING = 8264
    PERL5_CPAN_IS_RUNNING = 8264
    PERL_CANARY_STABILITY_NOPROMPT = 1
    PERL_MM_USE_DEFAULT = 1
    PERL_USE_UNSAFE_INC = 1
    SHELL = /usr/bin/zsh
    TERM = screen

Perl special variables (and OS-specific diagnostics, for MSWin32):

    $^X = /home/sand/src/perl/repoperls/installed-perls/host/k93msid/v5.12.0/89ad/bin/perl
    $UID/$EUID = 1005 / 1005
    $GID = 1005 1005
    $EGID = 1005 1005

Perl module toolchain versions installed:

    Module              Have    
    ------------------- --------
    CPAN                2.18    
    CPAN::Meta          2.150010
    Cwd                 3.62    
    ExtUtils::CBuilder  0.280224
    ExtUtils::Command   7.24    
    ExtUtils::Install   1.55    
    ExtUtils::MakeMaker 7.24    
    ExtUtils::Manifest  1.70    
    ExtUtils::ParseXS   3.30    
    File::Spec          3.62    
    JSON                2.90    
    JSON::PP            2.27400 
    Module::Build       0.4222  
    Module::Signature   0.81    
    Parse::CPAN::Meta   2.150010
    Test::Harness       3.39    
    Test::More          1.302083
    YAML                1.23    
    YAML::Syck          1.29    
    version             0.9917  


--

Summary of my perl5 (revision 5 version 12 subversion 0) configuration:
  Derived from: 6d52c880307229a35c23215c596700e716bd7c32
  Platform:
    osname=linux, osvers=4.9.0-2-amd64, archname=x86_64-linux
    uname='linux k93msid 4.9.0-2-amd64 #1 smp debian 4.9.18-1 (2017-03-30) x86_64 gnulinux '
    config_args='-Dprefix=/home/sand/src/perl/repoperls/installed-perls/host/k93msid/v5.12.0/89ad -Dmyhostname=k93msid -Dinstallusrbinperl=n -Uversiononly -Dusedevel -des -Ui_db -Dlibswanted=cl pthread socket inet nsl gdbm dbm malloc dl ld sun m crypt sec util c cposix posix ucb BSD gdbm_compat -Uuseithreads -Uuselongdouble -DDEBUGGING=-g'
    hint=recommended, useposix=true, d_sigaction=define
    useithreads=undef, usemultiplicity=undef
    useperlio=define, d_sfio=undef, uselargefiles=define, usesocks=undef
    use64bitint=define, use64bitall=define, uselongdouble=undef
    usemymalloc=n, bincompat5005=undef
  Compiler:
    cc='cc', ccflags ='-fno-strict-aliasing -pipe -fstack-protector -I/usr/local/include -D_LARGEFILE_SOURCE -D_FILE_OFFSET_BITS=64',
    optimize='-O2 -g',
    cppflags='-fno-strict-aliasing -pipe -fstack-protector -I/usr/local/include'
    ccversion='', gccversion='6.3.0 20170406', gccosandvers=''
    intsize=4, longsize=8, ptrsize=8, doublesize=8, byteorder=12345678
    d_longlong=define, longlongsize=8, d_longdbl=define, longdblsize=16
    ivtype='long', ivsize=8, nvtype='double', nvsize=8, Off_t='off_t', lseeksize=8
    alignbytes=8, prototype=define
  Linker and Libraries:
    ld='cc', ldflags =' -fstack-protector -L/usr/local/lib'
    libpth=/usr/local/lib /lib/x86_64-linux-gnu /lib/../lib /usr/lib/x86_64-linux-gnu /usr/lib/../lib /lib /usr/lib
    libs=-lpthread -lnsl -ldl -lm -lcrypt -lutil -lc
    perllibs=-lpthread -lnsl -ldl -lm -lcrypt -lutil -lc
    libc=libc-2.24.so, so=so, useshrplib=false, libperl=libperl.a
    gnulibc_version='2.24'
  Dynamic Linking:
    dlsrc=dl_dlopen.xs, dlext=so, d_dlsymun=undef, ccdlflags='-Wl,-E'
    cccdlflags='-fPIC', lddlflags='-shared -O2 -g -L/usr/local/lib -fstack-protector'


Characteristics of this binary (from libperl): 
  Compile-time options: PERL_DONT_CREATE_GVSV PERL_MALLOC_WRAP PERL_USE_DEVEL
                        USE_64_BIT_ALL USE_64_BIT_INT USE_LARGE_FILES
                        USE_PERLIO USE_PERL_ATOF
  Locally applied patches:
	uncommitted-changes
  Built under linux
  Compiled at Apr 17 2017 09:30:27
  %ENV:
    PERL5LIB=""
    PERL5OPT=""
    PERL5_CPANPLUS_IS_RUNNING="8264"
    PERL5_CPAN_IS_RUNNING="8264"
    PERL_CANARY_STABILITY_NOPROMPT="1"
    PERL_MM_USE_DEFAULT="1"
    PERL_USE_UNSAFE_INC="1"
  @INC:
    /home/sand/src/perl/repoperls/installed-perls/host/k93msid/v5.12.0/89ad/lib/site_perl/5.12.0/x86_64-linux
    /home/sand/src/perl/repoperls/installed-perls/host/k93msid/v5.12.0/89ad/lib/site_perl/5.12.0
    /home/sand/src/perl/repoperls/installed-perls/host/k93msid/v5.12.0/89ad/lib/5.12.0/x86_64-linux
    /home/sand/src/perl/repoperls/installed-perls/host/k93msid/v5.12.0/89ad/lib/5.12.0
    .