Text-Substitute v0.01 Perl 5 v5.10.1 i386-freebsd-64int
        
            - Status
 
            - Pass
 
            - From
 
            - Chris Williams (BINGOS)
 
            - Dist
 
            - 
                Text-Substitute v0.01
            
 
            - Platform
 
            - Perl 5 v5.10.1 i386-freebsd-64int
 
            - Date
 
            - 2018-10-25 16:02:03
 
            - ID
 
            - 5087104a-d86f-11e8-98d5-bb14e5798fec
 
        
        This distribution has been tested as part of the CPAN Testers
project, supporting the Perl programming language.  See
http://wiki.cpantesters.org/ for more information or email
questions to cpan-testers-discuss@perl.org
--
Dear JV,
This is a computer-generated error report created automatically by
CPANPLUS, version 0.9176. Testers personal comments may appear
at the end of this report.
Thank you for uploading your work to CPAN.  Congratulations!
All tests were successful.
TEST RESULTS:
Below is the error stack from stage 'make test':
PERL_DL_NONLAZY=1 "/usr/home/cpan/pit/64bit/perl-5.10.1/bin/perl" "-MExtUtils::Command::MM" "-MTest::Harness" "-e" "undef *Test::Harness::Switches; test_harness(0, 'blib/lib', 'blib/arch')" t/*.t
Unicode character 0xfdd0 is illegal at /usr/home/cpan/pit/64bit/conf/perl-5.10.1/.cpanplus/5.10.1/build/n_FV5DoxmR/Text-Substitute-0.01/blib/lib/Text/Substitute.pm line 103.
Unicode character 0xfdd1 is illegal at /usr/home/cpan/pit/64bit/conf/perl-5.10.1/.cpanplus/5.10.1/build/n_FV5DoxmR/Text-Substitute-0.01/blib/lib/Text/Substitute.pm line 104.
Unicode character 0xfdd2 is illegal at /usr/home/cpan/pit/64bit/conf/perl-5.10.1/.cpanplus/5.10.1/build/n_FV5DoxmR/Text-Substitute-0.01/blib/lib/Text/Substitute.pm line 105.
Unicode character 0xfdd3 is illegal at /usr/home/cpan/pit/64bit/conf/perl-5.10.1/.cpanplus/5.10.1/build/n_FV5DoxmR/Text-Substitute-0.01/blib/lib/Text/Substitute.pm line 106.
Unicode character 0xfdd4 is illegal at /usr/home/cpan/pit/64bit/conf/perl-5.10.1/.cpanplus/5.10.1/build/n_FV5DoxmR/Text-Substitute-0.01/blib/lib/Text/Substitute.pm line 109.
Unicode character 0xfdd5 is illegal at /usr/home/cpan/pit/64bit/conf/perl-5.10.1/.cpanplus/5.10.1/build/n_FV5DoxmR/Text-Substitute-0.01/blib/lib/Text/Substitute.pm line 110.
Unicode character 0xfdd5 is illegal at /usr/home/cpan/pit/64bit/conf/perl-5.10.1/.cpanplus/5.10.1/build/n_FV5DoxmR/Text-Substitute-0.01/blib/lib/Text/Substitute.pm line 123.
Unicode character 0xfdd0 is illegal at /usr/home/cpan/pit/64bit/conf/perl-5.10.1/.cpanplus/5.10.1/build/n_FV5DoxmR/Text-Substitute-0.01/blib/lib/Text/Substitute.pm line 126.
Unicode character 0xfdd1 is illegal at /usr/home/cpan/pit/64bit/conf/perl-5.10.1/.cpanplus/5.10.1/build/n_FV5DoxmR/Text-Substitute-0.01/blib/lib/Text/Substitute.pm line 127.
Unicode character 0xfdd2 is illegal at /usr/home/cpan/pit/64bit/conf/perl-5.10.1/.cpanplus/5.10.1/build/n_FV5DoxmR/Text-Substitute-0.01/blib/lib/Text/Substitute.pm line 128.
Unicode character 0xfdd3 is illegal at /usr/home/cpan/pit/64bit/conf/perl-5.10.1/.cpanplus/5.10.1/build/n_FV5DoxmR/Text-Substitute-0.01/blib/lib/Text/Substitute.pm line 129.
Unicode character 0xfdd4 is illegal at /usr/home/cpan/pit/64bit/conf/perl-5.10.1/.cpanplus/5.10.1/build/n_FV5DoxmR/Text-Substitute-0.01/blib/lib/Text/Substitute.pm line 132.
t/00-load.t .... ok
Unicode character 0xfdd5 is illegal at /usr/home/cpan/pit/64bit/conf/perl-5.10.1/.cpanplus/5.10.1/build/n_FV5DoxmR/Text-Substitute-0.01/blib/lib/Text/Substitute.pm line 133.
Unicode character 0xfdd4 is illegal at /usr/home/cpan/pit/64bit/conf/perl-5.10.1/.cpanplus/5.10.1/build/n_FV5DoxmR/Text-Substitute-0.01/blib/lib/Text/Substitute.pm line 196.
# Testing Text::Substitute 0.01, Perl 5.010001, /usr/home/cpan/pit/64bit/perl-5.10.1/bin/perl
Unicode character 0xfdd0 is illegal at /usr/home/cpan/pit/64bit/conf/perl-5.10.1/.cpanplus/5.10.1/build/n_FV5DoxmR/Text-Substitute-0.01/blib/lib/Text/Substitute.pm line 103.
Unicode character 0xfdd1 is illegal at /usr/home/cpan/pit/64bit/conf/perl-5.10.1/.cpanplus/5.10.1/build/n_FV5DoxmR/Text-Substitute-0.01/blib/lib/Text/Substitute.pm line 104.
Unicode character 0xfdd2 is illegal at /usr/home/cpan/pit/64bit/conf/perl-5.10.1/.cpanplus/5.10.1/build/n_FV5DoxmR/Text-Substitute-0.01/blib/lib/Text/Substitute.pm line 105.
Unicode character 0xfdd3 is illegal at /usr/home/cpan/pit/64bit/conf/perl-5.10.1/.cpanplus/5.10.1/build/n_FV5DoxmR/Text-Substitute-0.01/blib/lib/Text/Substitute.pm line 106.
Unicode character 0xfdd4 is illegal at /usr/home/cpan/pit/64bit/conf/perl-5.10.1/.cpanplus/5.10.1/build/n_FV5DoxmR/Text-Substitute-0.01/blib/lib/Text/Substitute.pm line 109.
Unicode character 0xfdd5 is illegal at /usr/home/cpan/pit/64bit/conf/perl-5.10.1/.cpanplus/5.10.1/build/n_FV5DoxmR/Text-Substitute-0.01/blib/lib/Text/Substitute.pm line 110.
Unicode character 0xfdd5 is illegal at /usr/home/cpan/pit/64bit/conf/perl-5.10.1/.cpanplus/5.10.1/build/n_FV5DoxmR/Text-Substitute-0.01/blib/lib/Text/Substitute.pm line 123.
Unicode character 0xfdd0 is illegal at /usr/home/cpan/pit/64bit/conf/perl-5.10.1/.cpanplus/5.10.1/build/n_FV5DoxmR/Text-Substitute-0.01/blib/lib/Text/Substitute.pm line 126.
Unicode character 0xfdd1 is illegal at /usr/home/cpan/pit/64bit/conf/perl-5.10.1/.cpanplus/5.10.1/build/n_FV5DoxmR/Text-Substitute-0.01/blib/lib/Text/Substitute.pm line 127.
Unicode character 0xfdd2 is illegal at /usr/home/cpan/pit/64bit/conf/perl-5.10.1/.cpanplus/5.10.1/build/n_FV5DoxmR/Text-Substitute-0.01/blib/lib/Text/Substitute.pm line 128.
Unicode character 0xfdd3 is illegal at /usr/home/cpan/pit/64bit/conf/perl-5.10.1/.cpanplus/5.10.1/build/n_FV5DoxmR/Text-Substitute-0.01/blib/lib/Text/Substitute.pm line 129.
Unicode character 0xfdd4 is illegal at /usr/home/cpan/pit/64bit/conf/perl-5.10.1/.cpanplus/5.10.1/build/n_FV5DoxmR/Text-Substitute-0.01/blib/lib/Text/Substitute.pm line 132.
Unicode character 0xfdd5 is illegal at /usr/home/cpan/pit/64bit/conf/perl-5.10.1/.cpanplus/5.10.1/build/n_FV5DoxmR/Text-Substitute-0.01/blib/lib/Text/Substitute.pm line 133.
Unicode character 0xfdd4 is illegal at /usr/home/cpan/pit/64bit/conf/perl-5.10.1/.cpanplus/5.10.1/build/n_FV5DoxmR/Text-Substitute-0.01/blib/lib/Text/Substitute.pm line 196.
t/10-basic.t ... ok
Unicode character 0xfdd0 is illegal at /usr/home/cpan/pit/64bit/conf/perl-5.10.1/.cpanplus/5.10.1/build/n_FV5DoxmR/Text-Substitute-0.01/blib/lib/Text/Substitute.pm line 103.
Unicode character 0xfdd1 is illegal at /usr/home/cpan/pit/64bit/conf/perl-5.10.1/.cpanplus/5.10.1/build/n_FV5DoxmR/Text-Substitute-0.01/blib/lib/Text/Substitute.pm line 104.
Unicode character 0xfdd2 is illegal at /usr/home/cpan/pit/64bit/conf/perl-5.10.1/.cpanplus/5.10.1/build/n_FV5DoxmR/Text-Substitute-0.01/blib/lib/Text/Substitute.pm line 105.
Unicode character 0xfdd3 is illegal at /usr/home/cpan/pit/64bit/conf/perl-5.10.1/.cpanplus/5.10.1/build/n_FV5DoxmR/Text-Substitute-0.01/blib/lib/Text/Substitute.pm line 106.
Unicode character 0xfdd4 is illegal at /usr/home/cpan/pit/64bit/conf/perl-5.10.1/.cpanplus/5.10.1/build/n_FV5DoxmR/Text-Substitute-0.01/blib/lib/Text/Substitute.pm line 109.
Unicode character 0xfdd5 is illegal at /usr/home/cpan/pit/64bit/conf/perl-5.10.1/.cpanplus/5.10.1/build/n_FV5DoxmR/Text-Substitute-0.01/blib/lib/Text/Substitute.pm line 110.
Unicode character 0xfdd5 is illegal at /usr/home/cpan/pit/64bit/conf/perl-5.10.1/.cpanplus/5.10.1/build/n_FV5DoxmR/Text-Substitute-0.01/blib/lib/Text/Substitute.pm line 123.
Unicode character 0xfdd0 is illegal at /usr/home/cpan/pit/64bit/conf/perl-5.10.1/.cpanplus/5.10.1/build/n_FV5DoxmR/Text-Substitute-0.01/blib/lib/Text/Substitute.pm line 126.
Unicode character 0xfdd1 is illegal at /usr/home/cpan/pit/64bit/conf/perl-5.10.1/.cpanplus/5.10.1/build/n_FV5DoxmR/Text-Substitute-0.01/blib/lib/Text/Substitute.pm line 127.
Unicode character 0xfdd2 is illegal at /usr/home/cpan/pit/64bit/conf/perl-5.10.1/.cpanplus/5.10.1/build/n_FV5DoxmR/Text-Substitute-0.01/blib/lib/Text/Substitute.pm line 128.
Unicode character 0xfdd3 is illegal at /usr/home/cpan/pit/64bit/conf/perl-5.10.1/.cpanplus/5.10.1/build/n_FV5DoxmR/Text-Substitute-0.01/blib/lib/Text/Substitute.pm line 129.
Unicode character 0xfdd4 is illegal at /usr/home/cpan/pit/64bit/conf/perl-5.10.1/.cpanplus/5.10.1/build/n_FV5DoxmR/Text-Substitute-0.01/blib/lib/Text/Substitute.pm line 132.
Unicode character 0xfdd5 is illegal at /usr/home/cpan/pit/64bit/conf/perl-5.10.1/.cpanplus/5.10.1/build/n_FV5DoxmR/Text-Substitute-0.01/blib/lib/Text/Substitute.pm line 133.
Unicode character 0xfdd4 is illegal at /usr/home/cpan/pit/64bit/conf/perl-5.10.1/.cpanplus/5.10.1/build/n_FV5DoxmR/Text-Substitute-0.01/blib/lib/Text/Substitute.pm line 196.
t/11-arrays.t .. ok
Unicode character 0xfdd0 is illegal at /usr/home/cpan/pit/64bit/conf/perl-5.10.1/.cpanplus/5.10.1/build/n_FV5DoxmR/Text-Substitute-0.01/blib/lib/Text/Substitute.pm line 103.
Unicode character 0xfdd1 is illegal at /usr/home/cpan/pit/64bit/conf/perl-5.10.1/.cpanplus/5.10.1/build/n_FV5DoxmR/Text-Substitute-0.01/blib/lib/Text/Substitute.pm line 104.
Unicode character 0xfdd2 is illegal at /usr/home/cpan/pit/64bit/conf/perl-5.10.1/.cpanplus/5.10.1/build/n_FV5DoxmR/Text-Substitute-0.01/blib/lib/Text/Substitute.pm line 105.
Unicode character 0xfdd3 is illegal at /usr/home/cpan/pit/64bit/conf/perl-5.10.1/.cpanplus/5.10.1/build/n_FV5DoxmR/Text-Substitute-0.01/blib/lib/Text/Substitute.pm line 106.
Unicode character 0xfdd4 is illegal at /usr/home/cpan/pit/64bit/conf/perl-5.10.1/.cpanplus/5.10.1/build/n_FV5DoxmR/Text-Substitute-0.01/blib/lib/Text/Substitute.pm line 109.
Unicode character 0xfdd5 is illegal at /usr/home/cpan/pit/64bit/conf/perl-5.10.1/.cpanplus/5.10.1/build/n_FV5DoxmR/Text-Substitute-0.01/blib/lib/Text/Substitute.pm line 110.
Unicode character 0xfdd5 is illegal at /usr/home/cpan/pit/64bit/conf/perl-5.10.1/.cpanplus/5.10.1/build/n_FV5DoxmR/Text-Substitute-0.01/blib/lib/Text/Substitute.pm line 123.
Unicode character 0xfdd0 is illegal at /usr/home/cpan/pit/64bit/conf/perl-5.10.1/.cpanplus/5.10.1/build/n_FV5DoxmR/Text-Substitute-0.01/blib/lib/Text/Substitute.pm line 126.
Unicode character 0xfdd1 is illegal at /usr/home/cpan/pit/64bit/conf/perl-5.10.1/.cpanplus/5.10.1/build/n_FV5DoxmR/Text-Substitute-0.01/blib/lib/Text/Substitute.pm line 127.
Unicode character 0xfdd2 is illegal at /usr/home/cpan/pit/64bit/conf/perl-5.10.1/.cpanplus/5.10.1/build/n_FV5DoxmR/Text-Substitute-0.01/blib/lib/Text/Substitute.pm line 128.
Unicode character 0xfdd3 is illegal at /usr/home/cpan/pit/64bit/conf/perl-5.10.1/.cpanplus/5.10.1/build/n_FV5DoxmR/Text-Substitute-0.01/blib/lib/Text/Substitute.pm line 129.
Unicode character 0xfdd4 is illegal at /usr/home/cpan/pit/64bit/conf/perl-5.10.1/.cpanplus/5.10.1/build/n_FV5DoxmR/Text-Substitute-0.01/blib/lib/Text/Substitute.pm line 132.
Unicode character 0xfdd5 is illegal at /usr/home/cpan/pit/64bit/conf/perl-5.10.1/.cpanplus/5.10.1/build/n_FV5DoxmR/Text-Substitute-0.01/blib/lib/Text/Substitute.pm line 133.
Unicode character 0xfdd4 is illegal at /usr/home/cpan/pit/64bit/conf/perl-5.10.1/.cpanplus/5.10.1/build/n_FV5DoxmR/Text-Substitute-0.01/blib/lib/Text/Substitute.pm line 196.
t/20-multi.t ... ok
All tests successful.
Files=4, Tests=111,  0 wallclock secs ( 0.05 usr  0.03 sys +  0.28 cusr  0.20 csys =  0.56 CPU)
Result: PASS
PREREQUISITES:
Here is a list of prerequisites you specified and versions we
managed to load:
	  Module Name                        Have     Want
	  ExtUtils::MakeMaker                7.34        0
	  Test::More                     1.302136        0
Perl module toolchain versions installed:
	Module Name                        Have
	CPANPLUS                         0.9176
	CPANPLUS::Dist::Build              0.90
	Cwd                                3.74
	ExtUtils::CBuilder             0.280230
	ExtUtils::Command                  7.34
	ExtUtils::Install                  2.14
	ExtUtils::MakeMaker                7.34
	ExtUtils::Manifest                 1.71
	ExtUtils::ParseXS                  3.35
	File::Spec                         3.74
	Module::Build                    0.4224
	Pod::Parser                        1.37
	Pod::Simple                        3.07
	Test2                          1.302136
	Test::Harness                      3.42
	Test::More                     1.302136
	version                          0.9924
******************************** NOTE ********************************
The comments above are created mechanically, possibly without manual
checking by the sender.  As there are many people performing automatic
tests on each upload to CPAN, it is likely that you will receive
identical messages about the same problem.
If you believe that the message is mistaken, please reply to the first
one with correction and/or additional informations, and do not take
it personally.  We appreciate your patience. :)
**********************************************************************
Additional comments:
This report was machine-generated by CPANPLUS::Dist::YACSmoke 1.02.
Powered by minismokebox version 0.68
------------------------------
ENVIRONMENT AND OTHER CONTEXT
------------------------------
Environment variables:
    AUTOMATED_TESTING = 1
    NONINTERACTIVE_TESTING = 1
    PATH = /sbin:/bin:/usr/sbin:/usr/bin:/usr/local/sbin:/usr/local/bin:/home/cpan/bin
    PERL5LIB = :/usr/home/cpan/pit/64bit/conf/perl-5.10.1/.cpanplus/5.10.1/build/n_FV5DoxmR/Text-Substitute-0.01/blib/lib:/usr/home/cpan/pit/64bit/conf/perl-5.10.1/.cpanplus/5.10.1/build/n_FV5DoxmR/Text-Substitute-0.01/blib/arch
    PERL5_CPANPLUS_IS_RUNNING = 88256
    PERL5_CPANPLUS_IS_VERSION = 0.9176
    PERL5_MINISMOKEBOX = 0.68
    PERL5_YACSMOKE_BASE = /usr/home/cpan/pit/64bit/conf/perl-5.10.1
    PERL_EXTUTILS_AUTOINSTALL = --defaultdeps
    PERL_MM_USE_DEFAULT = 1
    SHELL = /usr/local/bin/bash
    TERM = screen
Perl special variables (and OS-specific diagnostics, for MSWin32):
    Perl: $^X = /usr/home/cpan/pit/64bit/perl-5.10.1/bin/perl
    UID:  $<  = 1002
    EUID: $>  = 1002
    GID:  $(  = 1002 1002
    EGID: $)  = 1002 1002
-------------------------------
--
Summary of my perl5 (revision 5 version 10 subversion 1) configuration:
   
  Platform:
    osname=freebsd, osvers=11.1-release, archname=i386-freebsd-64int
    uname='freebsd ffyrc 11.1-release freebsd 11.1-release #0 r321309: fri jul 21 04:10:47 utc 2017 root@releng2.nyi.freebsd.org:usrobjusrsrcsysgeneric i386 '
    config_args='-des -Dprefix=/usr/home/cpan/pit/64bit/perl-5.10.1 -Duse64bitint'
    hint=recommended, useposix=true, d_sigaction=define
    useithreads=undef, usemultiplicity=undef
    useperlio=define, d_sfio=undef, uselargefiles=define, usesocks=undef
    use64bitint=define, use64bitall=undef, uselongdouble=undef
    usemymalloc=n, bincompat5005=undef
  Compiler:
    cc='cc', ccflags ='-DHAS_FPSETMASK -DHAS_FLOATINGPOINT_H -fno-strict-aliasing -pipe -fstack-protector -I/usr/local/include',
    optimize='-O',
    cppflags='-DHAS_FPSETMASK -DHAS_FLOATINGPOINT_H -fno-strict-aliasing -pipe -fstack-protector -I/usr/local/include'
    ccversion='', gccversion='4.2.1 Compatible FreeBSD Clang 4.0.0 (tags/RELEASE_400/final 297347)', gccosandvers=''
    intsize=4, longsize=4, ptrsize=4, doublesize=8, byteorder=12345678
    d_longlong=define, longlongsize=8, d_longdbl=define, longdblsize=12
    ivtype='long long', ivsize=8, nvtype='double', nvsize=8, Off_t='off_t', lseeksize=8
    alignbytes=4, prototype=define
  Linker and Libraries:
    ld='cc', ldflags ='-Wl,-E  -fstack-protector -L/usr/local/lib'
    libpth=/usr/lib /usr/local/lib
    libs=-lgdbm -lm -lcrypt -lutil -lc
    perllibs=-lm -lcrypt -lutil -lc
    libc=, so=so, useshrplib=false, libperl=libperl.a
    gnulibc_version=''
  Dynamic Linking:
    dlsrc=dl_dlopen.xs, dlext=so, d_dlsymun=undef, ccdlflags=' '
    cccdlflags='-DPIC -fPIC', lddlflags='-shared  -L/usr/local/lib -fstack-protector'
Characteristics of this binary (from libperl): 
  Compile-time options: PERL_DONT_CREATE_GVSV PERL_MALLOC_WRAP USE_64_BIT_INT
                        USE_LARGE_FILES USE_PERLIO
  Locally applied patches:
	Devel::PatchPerl 1.48
  Built under freebsd
  Compiled at Jul 30 2017 01:08:45
  %ENV:
    PERL5LIB=":/usr/home/cpan/pit/64bit/conf/perl-5.10.1/.cpanplus/5.10.1/build/n_FV5DoxmR/Text-Substitute-0.01/blib/lib:/usr/home/cpan/pit/64bit/conf/perl-5.10.1/.cpanplus/5.10.1/build/n_FV5DoxmR/Text-Substitute-0.01/blib/arch"
    PERL5_CPANPLUS_IS_RUNNING="88256"
    PERL5_CPANPLUS_IS_VERSION="0.9176"
    PERL5_MINISMOKEBOX="0.68"
    PERL5_YACSMOKE_BASE="/usr/home/cpan/pit/64bit/conf/perl-5.10.1"
    PERL_EXTUTILS_AUTOINSTALL="--defaultdeps"
    PERL_MM_USE_DEFAULT="1"
  @INC:
    /usr/home/cpan/pit/64bit/conf/perl-5.10.1/.cpanplus/5.10.1/build/n_FV5DoxmR/Text-Substitute-0.01/blib/lib
    /usr/home/cpan/pit/64bit/conf/perl-5.10.1/.cpanplus/5.10.1/build/n_FV5DoxmR/Text-Substitute-0.01/blib/arch
    /usr/home/cpan/pit/64bit/perl-5.10.1/lib/5.10.1/i386-freebsd-64int
    /usr/home/cpan/pit/64bit/perl-5.10.1/lib/5.10.1
    /usr/home/cpan/pit/64bit/perl-5.10.1/lib/site_perl/5.10.1/i386-freebsd-64int
    /usr/home/cpan/pit/64bit/perl-5.10.1/lib/site_perl/5.10.1
    .