Test-Routine v0.031 Perl 5 v5.43.1 x86_64-linux-thread-multi-ld
- Status
- Pass
- From
- Andreas J. König (ANDK)
- Dist
-
Test-Routine v0.031
- Platform
- Perl 5 v5.43.1 x86_64-linux-thread-multi-ld
- Date
- 2025-07-22 02:41:05
- ID
- 504bcc1c-66a5-11f0-9faf-c35282623e9e
This distribution has been tested as part of the CPAN Testers
project, supporting the Perl programming language. See
http://wiki.cpantesters.org/ for more information or email
questions to cpan-testers-discuss@perl.org
--
Dear Ricardo SIGNES :-),
This is a computer-generated report for Test-Routine-0.031
on perl 5.43.1, created by CPAN-Reporter-1.2020.
Thank you for uploading your work to CPAN. Congratulations!
All tests were successful.
Sections of this report:
* Tester comments
* Program output
* Prerequisites
* Environment and other context
------------------------------
TESTER COMMENTS
------------------------------
Additional comments from tester:
this report is from an automated smoke testing program
and was not reviewed by a human for accuracy
------------------------------
PROGRAM OUTPUT
------------------------------
Output from '/usr/bin/make test':
PERL_DL_NONLAZY=1 "/tmp/basesmoker-reloperl-Patv/bin/perl" "-MExtUtils::Command::MM" "-MTest::Harness" "-e" "undef *Test::Harness::Switches; test_harness(0, 'blib/lib', 'blib/arch')" t/*.t t/demo/*.t t/todo/*.t
#
# Versions for all modules listed in MYMETA.json (including optional ones):
#
# === Configure Requires ===
#
# Module Want Have
# ------------------- ---- ----
# ExtUtils::MakeMaker 6.78 7.76
#
# === Build Requires ===
#
# Module Want Have
# ------------------- ---- ----
# ExtUtils::MakeMaker any 7.76
#
# === Test Requires ===
#
# Module Want Have
# --------------------- ---- --------
# ExtUtils::MakeMaker any 7.76
# File::Spec any 3.94
# Math::Trig any 1.63
# Test::Builder::Tester any 1.302214
# Test::Fatal any 0.017
# Test::Moose any 2.4000
# Test::More 0.96 1.302214
# lib any 0.65
#
# === Test Recommends ===
#
# Module Want Have
# ---------- -------- --------
# CPAN::Meta 2.120900 2.150010
#
# === Runtime Requires ===
#
# Module Want Have
# ---------------------------- -------- --------
# Carp any 1.54
# Class::Load any 0.25
# Moose any 2.4000
# Moose::Exporter any 2.4000
# Moose::Meta::Class any 2.4000
# Moose::Meta::Method any 2.4000
# Moose::Role any 2.4000
# Moose::Util any 2.4000
# Moose::Util::TypeConstraints any 2.4000
# Params::Util any 1.102
# Scalar::Util any 1.68_01
# Sub::Exporter any 0.991
# Sub::Exporter::Util any 0.991
# Test2::API 1.302045 1.302214
# Test::Abortable 0.002 0.003
# Test::More 0.96 1.302214
# Try::Tiny any 0.32
# namespace::autoclean any 0.31
# namespace::clean any 0.27
# perl 5.012000 5.043001
# strict any 1.14
# warnings any 1.74
#
t/00-report-prereqs.t .. ok
t/abort.t .............. ok
t/demo/01-demo.t ....... ok
t/demo/02-simple.t ..... ok
t/demo/03-advice.t ..... ok
t/demo/04-misc.t ....... ok
t/demo/05-multiple.t ... ok
t/dupe.t ............... ok
t/method-filter.t ...... ok
t/mxms.t ............... skipped: This test requires MooseX::Method::Signatures
t/return.t ............. ok
t/test-traits.t ........ ok
t/todo/mxrp.t .......... skipped: Test::Routine and MXRP not yet compatible
t/unsafe-name.t ........ ok
All tests successful.
Files=14, Tests=33, 5 wallclock secs ( 0.06 usr 0.03 sys + 3.73 cusr 0.45 csys = 4.27 CPU)
Result: PASS
------------------------------
PREREQUISITES
------------------------------
Prerequisite modules loaded:
requires:
Module Need Have
---------------------------- -------- --------
Carp 0 1.54
Class::Load 0 0.25
Moose 0 2.4000
Moose::Exporter 0 2.4000
Moose::Meta::Class 0 2.4000
Moose::Meta::Method 0 2.4000
Moose::Role 0 2.4000
Moose::Util 0 2.4000
Moose::Util::TypeConstraints 0 2.4000
namespace::autoclean 0 0.31
namespace::clean 0 0.27
Params::Util 0 1.102
perl 5.012000 5.043001
Scalar::Util 0 1.68_01
strict 0 1.14
Sub::Exporter 0 0.991
Sub::Exporter::Util 0 0.991
Test2::API 1.302045 1.302214
Test::Abortable 0.002 0.003
Test::More 0.96 1.302214
Try::Tiny 0 0.32
warnings 0 1.74
build_requires:
Module Need Have
---------------------------- -------- --------
ExtUtils::MakeMaker 0 7.76
File::Spec 0 3.94
lib 0 0.65
Math::Trig 0 1.63
Test::Builder::Tester 0 1.302214
Test::Fatal 0 0.017
Test::Moose 0 2.4000
Test::More 0.96 1.302214
configure_requires:
Module Need Have
---------------------------- -------- --------
ExtUtils::MakeMaker 6.78 7.76
------------------------------
ENVIRONMENT AND OTHER CONTEXT
------------------------------
Environment variables:
AUTOMATED_TESTING = 1
LANG = en_US.UTF-8
LC_ADDRESS = de_DE.UTF-8
LC_IDENTIFICATION = de_DE.UTF-8
LC_MEASUREMENT = de_DE.UTF-8
LC_MONETARY = de_DE.UTF-8
LC_NAME = de_DE.UTF-8
LC_NUMERIC = de_DE.UTF-8
LC_PAPER = de_DE.UTF-8
LC_TELEPHONE = de_DE.UTF-8
LC_TIME = de_DE.UTF-8
PATH = /home/sand/bin:/usr/local/bin:/usr/local/sbin:/usr/sbin:/usr/bin:/sbin:/bin:/usr/games:/usr/local/games:/snap/bin:/usr/local/perl/bin:/usr/X11/bin
PERL5LIB =
PERL5OPT =
PERL5_CPANPLUS_IS_RUNNING = 2392771
PERL5_CPAN_IS_RUNNING = 2392771
PERL_CANARY_STABILITY_NOPROMPT = 1
PERL_MM_USE_DEFAULT = 1
PERL_USE_UNSAFE_INC = 1
SHELL = /usr/bin/zsh
TERM = screen
Perl special variables (and OS-specific diagnostics, for MSWin32):
$^X = /tmp/basesmoker-reloperl-Patv/bin/perl
$UID/$EUID = 1005 / 1005
$GID = 1005 1005
$EGID = 1005 1005
Perl module toolchain versions installed:
Module Have
------------------- --------
CPAN 2.38
CPAN::Meta 2.150010
Cwd 3.94
ExtUtils::CBuilder 0.280242
ExtUtils::Command 7.76
ExtUtils::Install 2.22
ExtUtils::MakeMaker 7.76
ExtUtils::Manifest 1.75
ExtUtils::ParseXS 3.58
File::Spec 3.94
JSON 4.10
JSON::PP 4.16
Module::Build 0.4234
Module::Signature 0.93
Parse::CPAN::Meta 2.150010
Test2 1.302214
Test::Harness 3.52
Test::More 1.302214
YAML 1.31
YAML::Syck 1.34
version 0.9933
--
Summary of my perl5 (revision 5 version 43 subversion 1) configuration:
Commit id: 89012989f3104d6b9f30be98d2060b806df0f95e
Platform:
osname=linux
osvers=6.8.0-60-generic
archname=x86_64-linux-thread-multi-ld
uname='linux k93jammy 6.8.0-60-generic #63~22.04.1-ubuntu smp preempt_dynamic tue apr 22 19:00:15 utc 2 x86_64 x86_64 x86_64 gnulinux '
config_args='-Dprefix=/home/sand/src/perl/repoperls/installed-perls/host/k93jammy/v5.43.1/322f -Dmyhostname=k93jammy -Dinstallusrbinperl=n -Uversiononly -Dusedevel -des -Ui_db -Dlibswanted=cl pthread socket inet nsl gdbm dbm malloc dl ld sun m crypt sec util c cposix posix ucb BSD gdbm_compat -Duseithreads -Duselongdouble -DEBUGGING=-g'
hint=recommended
useposix=true
d_sigaction=define
useithreads=define
usemultiplicity=define
use64bitint=define
use64bitall=define
uselongdouble=define
usemymalloc=n
default_inc_excludes_dot=define
Compiler:
cc='cc'
ccflags ='-D_REENTRANT -D_GNU_SOURCE -fwrapv -fno-strict-aliasing -pipe -fstack-protector-strong -I/usr/local/include -D_LARGEFILE_SOURCE -D_FILE_OFFSET_BITS=64'
optimize='-O2 -g'
cppflags='-D_REENTRANT -D_GNU_SOURCE -fwrapv -fno-strict-aliasing -pipe -fstack-protector-strong -I/usr/local/include'
ccversion=''
gccversion='11.4.0'
gccosandvers=''
intsize=4
longsize=8
ptrsize=8
doublesize=8
byteorder=12345678
doublekind=3
d_longlong=define
longlongsize=8
d_longdbl=define
longdblsize=16
longdblkind=3
ivtype='long'
ivsize=8
nvtype='long double'
nvsize=16
Off_t='off_t'
lseeksize=8
alignbytes=16
prototype=define
Linker and Libraries:
ld='cc'
ldflags =' -fstack-protector-strong -L/usr/local/lib'
libpth=/usr/local/lib /usr/lib/x86_64-linux-gnu /usr/lib /usr/lib64
libs=-lpthread -lnsl -ldl -lm -lcrypt -lutil -lc
perllibs=-lpthread -lnsl -ldl -lm -lcrypt -lutil -lc
libc=/lib/x86_64-linux-gnu/libc.so.6
so=so
useshrplib=false
libperl=libperl.a
gnulibc_version='2.35'
Dynamic Linking:
dlsrc=dl_dlopen.xs
dlext=so
d_dlsymun=undef
ccdlflags='-Wl,-E'
cccdlflags='-fPIC'
lddlflags='-shared -O2 -g -L/usr/local/lib -fstack-protector-strong'
Characteristics of this binary (from libperl):
Compile-time options:
HAS_LONG_DOUBLE
HAS_STRTOLD
HAS_TIMES
MULTIPLICITY
PERLIO_LAYERS
PERL_COPY_ON_WRITE
PERL_DONT_CREATE_GVSV
PERL_HASH_FUNC_SIPHASH13
PERL_HASH_USE_SBOX32
PERL_MALLOC_WRAP
PERL_OP_PARENT
PERL_PRESERVE_IVUV
PERL_USE_DEVEL
PERL_USE_SAFE_PUTENV
USE_64_BIT_ALL
USE_64_BIT_INT
USE_ITHREADS
USE_LARGE_FILES
USE_LOCALE
USE_LOCALE_COLLATE
USE_LOCALE_CTYPE
USE_LOCALE_NUMERIC
USE_LOCALE_TIME
USE_LONG_DOUBLE
USE_PERLIO
USE_PERL_ATOF
USE_REENTRANT_API
USE_THREAD_SAFE_LOCALE
Built under linux
Compiled at Jul 21 2025 06:05:52
%ENV:
PERL5LIB=""
PERL5OPT=""
PERL5_CPANPLUS_IS_RUNNING="2392771"
PERL5_CPAN_IS_RUNNING="2392771"
PERL_CANARY_STABILITY_NOPROMPT="1"
PERL_MM_USE_DEFAULT="1"
PERL_USE_UNSAFE_INC="1"
@INC:
/home/sand/src/perl/repoperls/installed-perls/host/k93jammy/v5.43.1/322f/lib/site_perl/5.43.1/x86_64-linux-thread-multi-ld
/home/sand/src/perl/repoperls/installed-perls/host/k93jammy/v5.43.1/322f/lib/site_perl/5.43.1
/home/sand/src/perl/repoperls/installed-perls/host/k93jammy/v5.43.1/322f/lib/5.43.1/x86_64-linux-thread-multi-ld
/home/sand/src/perl/repoperls/installed-perls/host/k93jammy/v5.43.1/322f/lib/5.43.1
.