Net-Statsd-Server v0.20 Perl 5 v5.40.1 x86_64-linux
- Status
- Pass
- From
- Andreas J. König (ANDK)
- Dist
-
Net-Statsd-Server v0.20
- Platform
- Perl 5 v5.40.1 x86_64-linux
- Date
- 2025-02-22 13:52:53
- ID
- 5036534c-f124-11ef-b4fe-ff971eaf8af9
This distribution has been tested as part of the CPAN Testers
project, supporting the Perl programming language. See
http://wiki.cpantesters.org/ for more information or email
questions to cpan-testers-discuss@perl.org
--
Dear Cosimo Streppone,
This is a computer-generated report for Net-Statsd-Server-0.20
on perl 5.40.1, created by CPAN-Reporter-1.2020.
Thank you for uploading your work to CPAN. Congratulations!
All tests were successful.
Sections of this report:
* Tester comments
* Program output
* Prerequisites
* Environment and other context
------------------------------
TESTER COMMENTS
------------------------------
Additional comments from tester:
this report is from an automated smoke testing program
and was not reviewed by a human for accuracy
------------------------------
PROGRAM OUTPUT
------------------------------
Output from '/usr/bin/make test':
PERL_DL_NONLAZY=1 "/tmp/basesmoker-reloperl-xvth/bin/perl" "-MExtUtils::Command::MM" "-MTest::Harness" "-e" "undef *Test::Harness::Switches; test_harness(0, 'blib/lib', 'blib/arch')" t/*.t t/integration-tests/*.t
t/000-sanity.t ............................. ok
t/config.t ................................. ok
t/graphite.t ............................... ok
2025-02-22 13:52:03.000000 +0000 note Net::Statsd::Server: Initializing Net::Statsd::Server::Backend::Console backend
2025-02-22 13:52:03.000000 +0000 note Net::Statsd::Server: Initializing Net::Statsd::Server::Backend::Graphite backend
2025-02-22 13:52:03.000000 +0000 info AnyEvent: Autoloaded model 'AnyEvent::Impl::EV', using it.
2025-02-22 13:52:03.636126 +0000 note Net::Statsd::Server: statsd server started on 0.0.0.0:40001 (v0.17)
2025-02-22 13:52:03.636162 +0000 note Net::Statsd::Server: manager interface started on 0.0.0.0:40002
2025-02-22 13:52:03.636195 +0000 note Net::Statsd::Server: metrics flush will happen every 1s
2025-02-22 13:52:04.054018 +0000 warn Net::Statsd::Server: Bad line: 1 in msg "a_bad_test_value|z"
2025-02-22 13:52:04.638154 +0000 note Net::Statsd::Server: flushing metrics
Flushing stats at Sat Feb 22 13:52:04 2025
{"sets":null,"gauges":{},"timer_data":{},"pctThreshold":[90],"timers":{},"counters":{"statsd.bad_lines_seen":1,"statsd.packets_received":1},"counter_rates":{"statsd.bad_lines_seen":1,"statsd.packets_received":1}}
t/integration-tests/bad-message.t .......... ok
2025-02-22 13:52:04.000000 +0000 note Net::Statsd::Server: Initializing Net::Statsd::Server::Backend::Console backend
2025-02-22 13:52:04.000000 +0000 note Net::Statsd::Server: Initializing Net::Statsd::Server::Backend::Graphite backend
2025-02-22 13:52:04.000000 +0000 info AnyEvent: Autoloaded model 'AnyEvent::Impl::EV', using it.
2025-02-22 13:52:04.842366 +0000 note Net::Statsd::Server: statsd server started on 0.0.0.0:40001 (v0.17)
2025-02-22 13:52:04.843444 +0000 note Net::Statsd::Server: manager interface started on 0.0.0.0:40002
2025-02-22 13:52:04.844119 +0000 note Net::Statsd::Server: metrics flush will happen every 1s
2025-02-22 13:52:05.843136 +0000 note Net::Statsd::Server: flushing metrics
Flushing stats at Sat Feb 22 13:52:05 2025
{"pctThreshold":[90],"gauges":{},"counters":{"a_test_value":100,"statsd.packets_received":1,"statsd.bad_lines_seen":0},"timer_data":{},"timers":{},"counter_rates":{"statsd.bad_lines_seen":0,"statsd.packets_received":1,"a_test_value":100},"sets":null}
# stats.counters.a_test_value.rate 100.000000 1740232325
# stats.counters.a_test_value.count 100 1740232325
# stats.counters.statsd.packets_received.rate 1.000000 1740232325
# stats.counters.statsd.packets_received.count 1 1740232325
# stats.counters.statsd.bad_lines_seen.rate 0.000000 1740232325
# stats.counters.statsd.bad_lines_seen.count 0 1740232325
# stats.statsd.numStats 3 1740232325
# stats.statsd.graphiteStats.calculationtime 0.040000 1740232325
# stats.statsd.processing_time 0.019 1740232325
# stats.statsd.graphiteStats.last_exception 94778999303336 1740232325
# stats.statsd.graphiteStats.last_flush 94778999303336 1740232325
t/integration-tests/counts-are-valid.t ..... ok
2025-02-22 13:52:06.000000 +0000 note Net::Statsd::Server: Initializing Net::Statsd::Server::Backend::Graphite backend
2025-02-22 13:52:06.000000 +0000 info AnyEvent: Autoloaded model 'AnyEvent::Impl::EV', using it.
2025-02-22 13:52:06.049355 +0000 note Net::Statsd::Server: statsd server started on 0.0.0.0:40001 (v0.17)
2025-02-22 13:52:06.049392 +0000 note Net::Statsd::Server: manager interface started on 0.0.0.0:40002
2025-02-22 13:52:06.049427 +0000 note Net::Statsd::Server: metrics flush will happen every 1s
2025-02-22 13:52:07.051115 +0000 note Net::Statsd::Server: flushing metrics
# First flush. Test gauge should be there.
2025-02-22 13:52:08.053725 +0000 note Net::Statsd::Server: flushing metrics
# Second flush. deleteGauges=false should keep the test gauge.
t/integration-tests/delete-gauges-false.t .. ok
2025-02-22 13:52:08.000000 +0000 note Net::Statsd::Server: Initializing Net::Statsd::Server::Backend::Graphite backend
2025-02-22 13:52:08.000000 +0000 info AnyEvent: Autoloaded model 'AnyEvent::Impl::EV', using it.
2025-02-22 13:52:08.275201 +0000 note Net::Statsd::Server: statsd server started on 0.0.0.0:40001 (v0.17)
2025-02-22 13:52:08.276102 +0000 note Net::Statsd::Server: manager interface started on 0.0.0.0:40002
2025-02-22 13:52:08.276185 +0000 note Net::Statsd::Server: metrics flush will happen every 1s
2025-02-22 13:52:09.275177 +0000 note Net::Statsd::Server: flushing metrics
# First flush. Test gauge should be there.
2025-02-22 13:52:10.279103 +0000 note Net::Statsd::Server: flushing metrics
# Second flush. deleteIdleStats should have cleared the test gauge.
t/integration-tests/delete-idle-stats.t .... ok
2025-02-22 13:52:10.000000 +0000 note Net::Statsd::Server: Initializing Net::Statsd::Server::Backend::Console backend
2025-02-22 13:52:10.000000 +0000 note Net::Statsd::Server: Initializing Net::Statsd::Server::Backend::Graphite backend
2025-02-22 13:52:10.000000 +0000 info AnyEvent: Autoloaded model 'AnyEvent::Impl::EV', using it.
2025-02-22 13:52:10.490242 +0000 note Net::Statsd::Server: statsd server started on 0.0.0.0:40001 (v0.17)
2025-02-22 13:52:10.490291 +0000 note Net::Statsd::Server: manager interface started on 0.0.0.0:40002
2025-02-22 13:52:10.490329 +0000 note Net::Statsd::Server: metrics flush will happen every 1s
2025-02-22 13:52:11.491117 +0000 note Net::Statsd::Server: flushing metrics
Flushing stats at Sat Feb 22 13:52:11 2025
{"pctThreshold":[90],"counter_rates":{"a_test_value,category=web,severity=high":100,"statsd.bad_lines_seen":0,"statsd.packets_received":1},"gauges":{},"timers":{},"sets":null,"timer_data":{},"counters":{"statsd.bad_lines_seen":0,"a_test_value,category=web,severity=high":100,"statsd.packets_received":1}}
# stats.counters.statsd.bad_lines_seen.rate 0.000000 1740232331
# stats.counters.statsd.bad_lines_seen.count 0 1740232331
# stats.counters.a_test_value,category=web,severity=high.rate 100.000000 1740232331
# stats.counters.a_test_value,category=web,severity=high.count 100 1740232331
# stats.counters.statsd.packets_received.rate 1.000000 1740232331
# stats.counters.statsd.packets_received.count 1 1740232331
# stats.statsd.numStats 3 1740232331
# stats.statsd.graphiteStats.calculationtime 0.041000 1740232331
# stats.statsd.processing_time 0.018 1740232331
# stats.statsd.graphiteStats.last_exception 94449498279080 1740232331
# stats.statsd.graphiteStats.last_flush 94449498279080 1740232331
t/integration-tests/keys-with-tags.t ....... ok
2025-02-22 13:52:11.000000 +0000 note Net::Statsd::Server: Initializing Net::Statsd::Server::Backend::Graphite backend
2025-02-22 13:52:11.000000 +0000 info AnyEvent: Autoloaded model 'AnyEvent::Impl::EV', using it.
2025-02-22 13:52:11.691622 +0000 note Net::Statsd::Server: statsd server started on 0.0.0.0:40001 (v0.17)
2025-02-22 13:52:11.691658 +0000 note Net::Statsd::Server: manager interface started on 0.0.0.0:40002
2025-02-22 13:52:11.691692 +0000 note Net::Statsd::Server: metrics flush will happen every 1s
# Expected mean value is 2042.43
2025-02-22 13:52:12.691099 +0000 note Net::Statsd::Server: flushing metrics
# stats.counters.statsd.bad_lines_seen.rate 0.000000 1740232332
# stats.counters.statsd.bad_lines_seen.count 0 1740232332
# stats.counters.statsd.packets_received.rate 100.000000 1740232332
# stats.counters.statsd.packets_received.count 100 1740232332
# stats.timers.read_latency.upper_98 2985.000000 1740232332
# stats.timers.read_latency.count_99 99.000000 1740232332
# stats.timers.read_latency.count_95 95.000000 1740232332
# stats.timers.read_latency.lower 1010.000000 1740232332
# stats.timers.read_latency.upper 2994.000000 1740232332
# stats.timers.read_latency.upper_99 2989.000000 1740232332
# stats.timers.read_latency.sum_95 189328.000000 1740232332
# stats.timers.read_latency.upper_95 2945.000000 1740232332
# stats.timers.read_latency.count 100.000000 1740232332
# stats.timers.read_latency.count_98 98.000000 1740232332
# stats.timers.read_latency.mean_95 1992.926316 1740232332
# stats.timers.read_latency.std 617.336719 1740232332
# stats.timers.read_latency.mean_98 2023.061224 1740232332
# stats.timers.read_latency.sum_98 198260.000000 1740232332
# stats.timers.read_latency.sum 204243.000000 1740232332
# stats.timers.read_latency.mean_99 2032.818182 1740232332
# stats.timers.read_latency.sum_squares_99 446298457.000000 1740232332
# stats.timers.read_latency.sum_99 201249.000000 1740232332
# stats.timers.read_latency.mean 2042.430000 1740232332
# stats.timers.read_latency.count_ps 100.000000 1740232332
# stats.timers.read_latency.sum_squares_98 437364336.000000 1740232332
# stats.timers.read_latency.median 2087.500000 1740232332
# stats.timers.read_latency.sum_squares 455262493.000000 1740232332
# stats.timers.read_latency.sum_squares_95 410770594.000000 1740232332
# stats.statsd.numStats 3 1740232332
# stats.statsd.graphiteStats.calculationtime 0.089000 1740232332
# stats.statsd.processing_time 0.235 1740232332
# stats.statsd.graphiteStats.last_exception 94030016679080 1740232332
# stats.statsd.graphiteStats.last_flush 94030016679080 1740232332
t/integration-tests/percent-threshold.t .... ok
2025-02-22 13:52:12.000000 +0000 note Net::Statsd::Server: Initializing Net::Statsd::Server::Backend::Console backend
2025-02-22 13:52:12.000000 +0000 note Net::Statsd::Server: Initializing Net::Statsd::Server::Backend::Graphite backend
2025-02-22 13:52:12.000000 +0000 info AnyEvent: Autoloaded model 'AnyEvent::Impl::EV', using it.
2025-02-22 13:52:12.910670 +0000 note Net::Statsd::Server: statsd server started on 0.0.0.0:40001 (v0.17)
2025-02-22 13:52:12.910702 +0000 note Net::Statsd::Server: manager interface started on 0.0.0.0:40002
2025-02-22 13:52:12.910736 +0000 note Net::Statsd::Server: metrics flush will happen every 1s
2025-02-22 13:52:13.911154 +0000 note Net::Statsd::Server: flushing metrics
Flushing stats at Sat Feb 22 13:52:13 2025
{"pctThreshold":["90"],"timers":{"a_test_value":["100"]},"counters":{"statsd.packets_received":1,"statsd.bad_lines_seen":0},"gauges":{},"timer_data":{"a_test_value":{"count_90":1,"count_ps":1,"sum_squares_90":10000,"mean_90":"100","sum_squares":10000,"upper_90":"100","sum_90":"100","upper":"100","median":"100","count":1,"mean":100,"sum":"100","lower":"100","std":0}},"sets":null,"counter_rates":{"statsd.packets_received":1,"statsd.bad_lines_seen":0}}
# stats.counters.statsd.packets_received.rate 1.000000 1740232333
# stats.counters.statsd.packets_received.count 1 1740232333
# stats.counters.statsd.bad_lines_seen.rate 0.000000 1740232333
# stats.counters.statsd.bad_lines_seen.count 0 1740232333
# stats.timers.a_test_value.count_90 1.000000 1740232333
# stats.timers.a_test_value.count_ps 1.000000 1740232333
# stats.timers.a_test_value.sum_squares_90 10000.000000 1740232333
# stats.timers.a_test_value.mean_90 100.000000 1740232333
# stats.timers.a_test_value.sum_squares 10000.000000 1740232333
# stats.timers.a_test_value.upper_90 100.000000 1740232333
# stats.timers.a_test_value.sum_90 100.000000 1740232333
# stats.timers.a_test_value.upper 100.000000 1740232333
# stats.timers.a_test_value.median 100.000000 1740232333
# stats.timers.a_test_value.count 1.000000 1740232333
# stats.timers.a_test_value.mean 100.000000 1740232333
# stats.timers.a_test_value.sum 100.000000 1740232333
# stats.timers.a_test_value.lower 100.000000 1740232333
# stats.timers.a_test_value.std 0.000000 1740232333
# stats.statsd.numStats 3 1740232333
# stats.statsd.graphiteStats.calculationtime 0.100000 1740232333
# stats.statsd.processing_time 0.055 1740232333
# stats.statsd.graphiteStats.last_exception 94409760537768 1740232333
# stats.statsd.graphiteStats.last_flush 94409760537768 1740232333
t/integration-tests/timers-are-valid.t ..... ok
t/process-metrics.t ........................ ok
t/trim.t ................................... ok
All tests successful.
Files=12, Tests=92, 11 wallclock secs ( 0.05 usr 0.02 sys + 1.12 cusr 0.27 csys = 1.46 CPU)
Result: PASS
------------------------------
PREREQUISITES
------------------------------
Prerequisite modules loaded:
requires:
Module Need Have
--------------------- ---- --------
AnyEvent::Handle::UDP 0 0.050
IO::Socket::INET 0 1.55
JSON::XS 0 4.03
build_requires:
Module Need Have
--------------------- ---- --------
ExtUtils::MakeMaker 0 7.70
Test::More 0 1.302209
configure_requires:
Module Need Have
--------------------- ---- --------
ExtUtils::MakeMaker 0 7.70
------------------------------
ENVIRONMENT AND OTHER CONTEXT
------------------------------
Environment variables:
AUTOMATED_TESTING = 1
LANG = en_US.UTF-8
PATH = /home/sand/bin:/usr/local/bin:/usr/local/sbin:/usr/sbin:/usr/bin:/sbin:/bin:/usr/games:/usr/local/games:/snap/bin:/usr/local/perl/bin:/usr/X11/bin
PERL = /tmp/basesmoker-reloperl-xvth/bin/perl
PERL5LIB = /tmp/loop_over_bdir-207878-lXU1Ge/MP3-PodcastFetch-1.05-0/blib/arch:/tmp/loop_over_bdir-207878-lXU1Ge/MP3-PodcastFetch-1.05-0/blib/lib:/tmp/loop_over_bdir-207878-lXU1Ge/Business-Shipping-DataFiles-1.02-0/blib/arch:/tmp/loop_over_bdir-207878-lXU1Ge/Business-Shipping-DataFiles-1.02-0/blib/lib:/tmp/loop_over_bdir-207878-lXU1Ge/downsexta-0/blib/arch:/tmp/loop_over_bdir-207878-lXU1Ge/downsexta-0/blib/lib:/tmp/loop_over_bdir-207878-lXU1Ge/HTML-Menu-TreeView-1.22-0/blib/arch:/tmp/loop_over_bdir-207878-lXU1Ge/HTML-Menu-TreeView-1.22-0/blib/lib:/tmp/loop_over_bdir-207878-lXU1Ge/CORBA-Python-2.66-0/blib/arch:/tmp/loop_over_bdir-207878-lXU1Ge/CORBA-Python-2.66-0/blib/lib:/tmp/loop_over_bdir-207878-lXU1Ge/Devel-Required-0.16-0/blib/arch:/tmp/loop_over_bdir-207878-lXU1Ge/Devel-Required-0.16-0/blib/lib:/tmp/loop_over_bdir-207878-lXU1Ge/ProjectBuilder-0.14.1-0/blib/arch:/tmp/loop_over_bdir-207878-lXU1Ge/ProjectBuilder-0.14.1-0/blib/lib
PERL5OPT =
PERL5_CPANPLUS_IS_RUNNING = 207887
PERL5_CPAN_IS_RUNNING = 207887
PERL_CANARY_STABILITY_NOPROMPT = 1
PERL_MM_USE_DEFAULT = 1
PERL_USE_UNSAFE_INC = 1
SHELL = /usr/bin/zsh
TERM = screen
Perl special variables (and OS-specific diagnostics, for MSWin32):
$^X = /tmp/basesmoker-reloperl-xvth/bin/perl
$UID/$EUID = 1005 / 1005
$GID = 1005 1005
$EGID = 1005 1005
Perl module toolchain versions installed:
Module Have
------------------- --------
CPAN 2.38
CPAN::Meta 2.150010
Cwd 3.91
ExtUtils::CBuilder 0.280240
ExtUtils::Command 7.70
ExtUtils::Install 2.22
ExtUtils::MakeMaker 7.70
ExtUtils::Manifest 1.75
ExtUtils::ParseXS 3.51
File::Spec 3.91
JSON 4.10
JSON::PP 4.16
Module::Build 0.4234
Module::Signature 0.89
Parse::CPAN::Meta 2.150010
Test2 1.302209
Test::Harness 3.50
Test::More 1.302209
YAML 1.31
YAML::Syck 1.34
version 0.9933
--
Summary of my perl5 (revision 5 version 40 subversion 1) configuration:
Commit id: f722f11a2b1a34e28743e331bad6dd7da41e2086
Platform:
osname=linux
osvers=5.4.0-204-generic
archname=x86_64-linux
uname='linux k93focal 5.4.0-204-generic #224-ubuntu smp thu dec 5 13:38:28 utc 2024 x86_64 x86_64 x86_64 gnulinux '
config_args='-Dprefix=/home/sand/src/perl/repoperls/installed-perls/host/k93focal/v5.40.1/b254 -Dmyhostname=k93focal -Dinstallusrbinperl=n -Uversiononly -Dusedevel -des -Ui_db -Dlibswanted=cl pthread socket inet nsl gdbm dbm malloc dl ld sun m crypt sec util c cposix posix ucb BSD gdbm_compat -Uuseithreads -Uuselongdouble -DEBUGGING=both'
hint=recommended
useposix=true
d_sigaction=define
useithreads=undef
usemultiplicity=undef
use64bitint=define
use64bitall=define
uselongdouble=undef
usemymalloc=n
default_inc_excludes_dot=define
Compiler:
cc='cc'
ccflags ='-fwrapv -DDEBUGGING -fno-strict-aliasing -pipe -fstack-protector-strong -I/usr/local/include -D_LARGEFILE_SOURCE -D_FILE_OFFSET_BITS=64'
optimize='-O2 -g'
cppflags='-fwrapv -DDEBUGGING -fno-strict-aliasing -pipe -fstack-protector-strong -I/usr/local/include'
ccversion=''
gccversion='9.4.0'
gccosandvers=''
intsize=4
longsize=8
ptrsize=8
doublesize=8
byteorder=12345678
doublekind=3
d_longlong=define
longlongsize=8
d_longdbl=define
longdblsize=16
longdblkind=3
ivtype='long'
ivsize=8
nvtype='double'
nvsize=8
Off_t='off_t'
lseeksize=8
alignbytes=8
prototype=define
Linker and Libraries:
ld='cc'
ldflags =' -fstack-protector-strong -L/usr/local/lib'
libpth=/usr/local/lib /usr/lib/x86_64-linux-gnu /usr/lib /usr/lib64
libs=-lpthread -lnsl -ldl -lm -lcrypt -lutil -lc
perllibs=-lpthread -lnsl -ldl -lm -lcrypt -lutil -lc
libc=libc-2.31.so
so=so
useshrplib=false
libperl=libperl.a
gnulibc_version='2.31'
Dynamic Linking:
dlsrc=dl_dlopen.xs
dlext=so
d_dlsymun=undef
ccdlflags='-Wl,-E'
cccdlflags='-fPIC'
lddlflags='-shared -O2 -g -L/usr/local/lib -fstack-protector-strong'
Characteristics of this binary (from libperl):
Compile-time options:
DEBUGGING
HAS_LONG_DOUBLE
HAS_STRTOLD
HAS_TIMES
PERLIO_LAYERS
PERL_COPY_ON_WRITE
PERL_DONT_CREATE_GVSV
PERL_HASH_FUNC_SIPHASH13
PERL_HASH_USE_SBOX32
PERL_MALLOC_WRAP
PERL_OP_PARENT
PERL_PRESERVE_IVUV
PERL_USE_DEVEL
PERL_USE_SAFE_PUTENV
USE_64_BIT_ALL
USE_64_BIT_INT
USE_LARGE_FILES
USE_LOCALE
USE_LOCALE_COLLATE
USE_LOCALE_CTYPE
USE_LOCALE_NUMERIC
USE_LOCALE_TIME
USE_PERLIO
USE_PERL_ATOF
Built under linux
Compiled at Feb 19 2025 05:18:34
%ENV:
PERL="/tmp/basesmoker-reloperl-xvth/bin/perl"
PERL5LIB="/tmp/loop_over_bdir-207878-lXU1Ge/MP3-PodcastFetch-1.05-0/blib/arch:/tmp/loop_over_bdir-207878-lXU1Ge/MP3-PodcastFetch-1.05-0/blib/lib:/tmp/loop_over_bdir-207878-lXU1Ge/Business-Shipping-DataFiles-1.02-0/blib/arch:/tmp/loop_over_bdir-207878-lXU1Ge/Business-Shipping-DataFiles-1.02-0/blib/lib:/tmp/loop_over_bdir-207878-lXU1Ge/downsexta-0/blib/arch:/tmp/loop_over_bdir-207878-lXU1Ge/downsexta-0/blib/lib:/tmp/loop_over_bdir-207878-lXU1Ge/HTML-Menu-TreeView-1.22-0/blib/arch:/tmp/loop_over_bdir-207878-lXU1Ge/HTML-Menu-TreeView-1.22-0/blib/lib:/tmp/loop_over_bdir-207878-lXU1Ge/CORBA-Python-2.66-0/blib/arch:/tmp/loop_over_bdir-207878-lXU1Ge/CORBA-Python-2.66-0/blib/lib:/tmp/loop_over_bdir-207878-lXU1Ge/Devel-Required-0.16-0/blib/arch:/tmp/loop_over_bdir-207878-lXU1Ge/Devel-Required-0.16-0/blib/lib:/tmp/loop_over_bdir-207878-lXU1Ge/ProjectBuilder-0.14.1-0/blib/arch:/tmp/loop_over_bdir-207878-lXU1Ge/ProjectBuilder-0.14.1-0/blib/lib"
PERL5OPT=""
PERL5_CPANPLUS_IS_RUNNING="207887"
PERL5_CPAN_IS_RUNNING="207887"
PERL_CANARY_STABILITY_NOPROMPT="1"
PERL_MM_USE_DEFAULT="1"
PERL_USE_UNSAFE_INC="1"
@INC:
/tmp/loop_over_bdir-207878-lXU1Ge/MP3-PodcastFetch-1.05-0/blib/arch
/tmp/loop_over_bdir-207878-lXU1Ge/MP3-PodcastFetch-1.05-0/blib/lib
/tmp/loop_over_bdir-207878-lXU1Ge/Business-Shipping-DataFiles-1.02-0/blib/arch
/tmp/loop_over_bdir-207878-lXU1Ge/Business-Shipping-DataFiles-1.02-0/blib/lib
/tmp/loop_over_bdir-207878-lXU1Ge/downsexta-0/blib/arch
/tmp/loop_over_bdir-207878-lXU1Ge/downsexta-0/blib/lib
/tmp/loop_over_bdir-207878-lXU1Ge/HTML-Menu-TreeView-1.22-0/blib/arch
/tmp/loop_over_bdir-207878-lXU1Ge/HTML-Menu-TreeView-1.22-0/blib/lib
/tmp/loop_over_bdir-207878-lXU1Ge/CORBA-Python-2.66-0/blib/arch
/tmp/loop_over_bdir-207878-lXU1Ge/CORBA-Python-2.66-0/blib/lib
/tmp/loop_over_bdir-207878-lXU1Ge/Devel-Required-0.16-0/blib/arch
/tmp/loop_over_bdir-207878-lXU1Ge/Devel-Required-0.16-0/blib/lib
/tmp/loop_over_bdir-207878-lXU1Ge/ProjectBuilder-0.14.1-0/blib/arch
/tmp/loop_over_bdir-207878-lXU1Ge/ProjectBuilder-0.14.1-0/blib/lib
/home/sand/src/perl/repoperls/installed-perls/host/k93focal/v5.40.1/b254/lib/site_perl/5.40.1/x86_64-linux
/home/sand/src/perl/repoperls/installed-perls/host/k93focal/v5.40.1/b254/lib/site_perl/5.40.1
/home/sand/src/perl/repoperls/installed-perls/host/k93focal/v5.40.1/b254/lib/5.40.1/x86_64-linux
/home/sand/src/perl/repoperls/installed-perls/host/k93focal/v5.40.1/b254/lib/5.40.1
.