Back
From: metabase:user:314402c4-2aae-11df-837a-5e0a49663a4f
Subject: PASS Test-NewVersion-0.003 v5.18.2 GNU/Linux
Date: 2015-03-13T03:09:07Z
This distribution has been tested as part of the CPAN Testers
project, supporting the Perl programming language.  See
http://wiki.cpantesters.org/ for more information or email
questions to cpan-testers-discuss@perl.org
--
Dear Karen Etheridge,
This is a computer-generated report for Test-NewVersion-0.003
on perl 5.18.2, created by CPAN-Reporter-1.2011.
Thank you for uploading your work to CPAN.  Congratulations!
All tests were successful.
Sections of this report:
    * Tester comments
    * Program output
    * Prerequisites
    * Environment and other context
------------------------------
TESTER COMMENTS
------------------------------
Additional comments from tester:
none provided
------------------------------
PROGRAM OUTPUT
------------------------------
Output from './Build test':
# 
# Versions for all modules listed in MYMETA.json (including optional ones):
# 
# === Configure Requires ===
# 
#     Module               Want  Have
#     ------------------- ----- -----
#     Module::Build::Tiny 0.039 0.039
# 
# === Test Requires ===
# 
#     Module               Want     Have
#     ------------------- ----- --------
#     Data::Dumper          any    2.151
#     ExtUtils::MakeMaker   any     7.04
#     File::Spec            any     3.47
#     File::pushd           any    1.009
#     Path::Tiny            any    0.061
#     Test::Deep            any    0.115
#     Test::More            any 1.001009
#     Test::Tester        0.108    0.109
#     Test::Warnings        any    0.016
#     if                    any   0.0602
#     lib                   any     0.63
# 
# === Test Recommends ===
# 
#     Module         Want     Have
#     ---------- -------- --------
#     CPAN::Meta 2.120900 2.150001
# 
# === Runtime Requires ===
# 
#     Module               Want     Have
#     ---------------- -------- --------
#     CPAN::Meta       2.120920 2.150001
#     Encode                any     2.71
#     Exporter              any     5.70
#     File::Find            any     1.23
#     File::Spec            any     3.47
#     HTTP::Headers         any     6.05
#     HTTP::Tiny            any    0.053
#     JSON::MaybeXS         any 1.003003
#     List::Util            any     1.41
#     Module::Metadata      any 1.000025
#     Test::Builder        0.88 1.001009
#     parent                any    0.231
#     strict                any     1.07
#     version               any   0.9912
#     warnings              any     1.18
# 
t/00-report-prereqs.t .. ok
t/01-basic.t ........... ok
t/03-pod.t ............. ok
t/04-blib.t ............ ok
All tests successful.
Files=4, Tests=7,  0 wallclock secs ( 0.02 usr  0.03 sys +  0.39 cusr  0.10 csys =  0.54 CPU)
Result: PASS
------------------------------
PREREQUISITES
------------------------------
Prerequisite modules loaded:
requires:
    Module              Need     Have    
    ------------------- -------- --------
    CPAN::Meta          2.120920 2.150001
    Encode              0        2.71    
    Exporter            0        5.70    
    File::Find          0        1.23    
    File::Spec          0        3.47    
    HTTP::Headers       0        6.05    
    HTTP::Tiny          0        0.053   
    JSON::MaybeXS       0        1.003003
    List::Util          0        1.41    
    Module::Metadata    0        1.000025
    parent              0        0.231   
    perl                5.006    5.018002
    strict              0        1.07    
    Test::Builder       0.88     1.001009
    version             0        0.9912  
    warnings            0        1.18    
build_requires:
    Module              Need     Have    
    ------------------- -------- --------
    Data::Dumper        0        2.151   
    ExtUtils::MakeMaker 0        7.04    
    File::pushd         0        1.009   
    File::Spec          0        3.47    
    if                  0        0.0602  
    lib                 0        0.63    
    Path::Tiny          0        0.061   
    perl                5.006    5.018002
    Test::Deep          0        0.115   
    Test::More          0        1.001009
    Test::Tester        0.108    0.109   
    Test::Warnings      0        0.016   
configure_requires:
    Module              Need     Have    
    ------------------- -------- --------
    Module::Build::Tiny 0.039    0.039   
    perl                5.006    5.018002
------------------------------
ENVIRONMENT AND OTHER CONTEXT
------------------------------
Environment variables:
    DBIC_NO_WARN_BAD_PERL = 1
    LANG = C
    LC_ALL = de_DE.UTF-8
    PATH = /usr/local/bin:/usr/bin:/bin:/usr/local/sbin:/usr/sbin:/sbin:/home/eserte/bin/linux-gnu:/home/eserte/bin/sh:/home/eserte/bin:/usr/games:/home/eserte/devel:/home/eserte/src/srezic-misc/scripts
    PERL5LIB = 
    PERL5OPT = 
    PERL5_CPANPLUS_IS_RUNNING = 17648
    PERL5_CPAN_IS_RUNNING = 17648
    PERL5_CPAN_IS_RUNNING_IN_RECURSION = 17587,17648
    PERLDOC = -MPod::Perldoc::ToTextOverstrike
    PERL_BATCH = yes
    PERL_CPAN_REPORTER_CONFIG = /var/tmp/cpansmoker-1001/zqs1IHnDx5_config.ini
    PERL_EXTUTILS_AUTOINSTALL = --defaultdeps
    PERL_HTML_DISPLAY_CLASS = HTML::Display::Mozilla
    PERL_PARALLEL_SMOKER = yes
    SHELL = /bin/zsh
    TERM = screen
    TMPDIR = /var/tmp/cpansmoker-1001
Perl special variables (and OS-specific diagnostics, for MSWin32):
    $^X = /bbbike/perl-5.18.2/bin/perl5.18.2
    $UID/$EUID = 1001 / 1001
    $GID = 1001 109 1001
    $EGID = 1001 109 1001
Perl module toolchain versions installed:
    Module              Have    
    ------------------- --------
    CPAN                2.05    
    CPAN::Meta          2.150001
    Cwd                 3.47    
    ExtUtils::CBuilder  0.280217
    ExtUtils::Command   1.18    
    ExtUtils::Install   2.04    
    ExtUtils::MakeMaker 7.04    
    ExtUtils::Manifest  1.68    
    ExtUtils::ParseXS   3.24    
    File::Spec          3.47    
    JSON                2.90    
    JSON::PP            2.27203 
    Module::Build       0.4211  
    Module::Signature   0.73    
    Parse::CPAN::Meta   1.4414  
    Test::Harness       3.35    
    Test::More          1.001009
    YAML                1.14    
    YAML::Syck          1.29    
    version             0.9912  
--
Summary of my perl5 (revision 5 version 18 subversion 2) configuration:
   
  Platform:
    osname=linux, osvers=3.2.0-4-amd64, archname=x86_64-linux
    uname='linux eserte 3.2.0-4-amd64 #1 smp debian 3.2.57-3 x86_64 gnulinux '
    config_args='-ds -e -Dprefix=/opt/perl-5.18.2'
    hint=recommended, useposix=true, d_sigaction=define
    useithreads=undef, usemultiplicity=undef
    useperlio=define, d_sfio=undef, uselargefiles=define, usesocks=undef
    use64bitint=define, use64bitall=define, uselongdouble=undef
    usemymalloc=n, bincompat5005=undef
  Compiler:
    cc='cc', ccflags ='-fno-strict-aliasing -pipe -fstack-protector -I/usr/local/include -D_LARGEFILE_SOURCE -D_FILE_OFFSET_BITS=64',
    optimize='-O2',
    cppflags='-fno-strict-aliasing -pipe -fstack-protector -I/usr/local/include'
    ccversion='', gccversion='4.7.2', gccosandvers=''
    intsize=4, longsize=8, ptrsize=8, doublesize=8, byteorder=12345678
    d_longlong=define, longlongsize=8, d_longdbl=define, longdblsize=16
    ivtype='long', ivsize=8, nvtype='double', nvsize=8, Off_t='off_t', lseeksize=8
    alignbytes=8, prototype=define
  Linker and Libraries:
    ld='cc', ldflags =' -fstack-protector -L/usr/local/lib'
    libpth=/usr/local/lib /lib/x86_64-linux-gnu /lib/../lib /usr/lib/x86_64-linux-gnu /usr/lib/../lib /lib /usr/lib
    libs=-lnsl -ldb -ldl -lm -lcrypt -lutil -lc
    perllibs=-lnsl -ldl -lm -lcrypt -lutil -lc
    libc=, so=so, useshrplib=false, libperl=libperl.a
    gnulibc_version='2.13'
  Dynamic Linking:
    dlsrc=dl_dlopen.xs, dlext=so, d_dlsymun=undef, ccdlflags='-Wl,-E'
    cccdlflags='-fPIC', lddlflags='-shared -O2 -L/usr/local/lib -fstack-protector'
Characteristics of this binary (from libperl): 
  Compile-time options: HAS_TIMES PERLIO_LAYERS PERL_DONT_CREATE_GVSV
                        PERL_HASH_FUNC_ONE_AT_A_TIME_HARD PERL_MALLOC_WRAP
                        PERL_PRESERVE_IVUV PERL_SAWAMPERSAND USE_64_BIT_ALL
                        USE_64_BIT_INT USE_LARGE_FILES USE_LOCALE
                        USE_LOCALE_COLLATE USE_LOCALE_CTYPE
                        USE_LOCALE_NUMERIC USE_PERLIO USE_PERL_ATOF
  Built under linux
  Compiled at May  7 2014 07:25:45
  %ENV:
    PERL5LIB=""
    PERL5OPT=""
    PERL5_CPANPLUS_IS_RUNNING="17648"
    PERL5_CPAN_IS_RUNNING="17648"
    PERL5_CPAN_IS_RUNNING_IN_RECURSION="17587,17648"
    PERLDOC="-MPod::Perldoc::ToTextOverstrike"
    PERL_BATCH="yes"
    PERL_CPAN_REPORTER_CONFIG="/var/tmp/cpansmoker-1001/zqs1IHnDx5_config.ini"
    PERL_EXTUTILS_AUTOINSTALL="--defaultdeps"
    PERL_HTML_DISPLAY_CLASS="HTML::Display::Mozilla"
    PERL_PARALLEL_SMOKER="yes"
  @INC:
    /opt/perl-5.18.2/lib/site_perl/5.18.2/x86_64-linux
    /opt/perl-5.18.2/lib/site_perl/5.18.2
    /opt/perl-5.18.2/lib/5.18.2/x86_64-linux
    /opt/perl-5.18.2/lib/5.18.2
    .