Report for Dist-Zilla-Stash-PodWeaver-1.005

Back
From: metabase:user:320bfe00-2aae-11df-837a-5e0a49663a4f
Subject: PASS Dist-Zilla-Stash-PodWeaver-1.005 v5.21.9 GNU/Linux
Date: 2015-03-18T21:47:02Z

This distribution has been tested as part of the CPAN Testers
project, supporting the Perl programming language.  See
http://wiki.cpantesters.org/ for more information or email
questions to cpan-testers-discuss@perl.org


--
Dear Randy Stauner,

This is a computer-generated report for Dist-Zilla-Stash-PodWeaver-1.005
on perl 5.21.9, created by CPAN-Reporter-1.2011.

Thank you for uploading your work to CPAN.  Congratulations!
All tests were successful.

Sections of this report:

    * Tester comments
    * Program output
    * Prerequisites
    * Environment and other context

------------------------------
TESTER COMMENTS
------------------------------

Additional comments from tester:

this report is from an automated smoke testing program
and was not reviewed by a human for accuracy

------------------------------
PROGRAM OUTPUT
------------------------------

Output from '/usr/bin/make test':

PERL_DL_NONLAZY=1 "/home/sand/src/perl/repoperls/installed-perls/perl/v5.21.9/165a/bin/perl" "-MExtUtils::Command::MM" "-MTest::Harness" "-e" "undef *Test::Harness::Switches; test_harness(0, 'blib/lib', 'blib/arch')" t/*.t
t/00-compile.t ......... ok
# Prerequisite Report:
#        Version Module                           
#   ------------ ---------------------------------
#          1.006 Dist::Zilla::Role::Stash::Plugins
#          5.032 Dist::Zilla::Tester              
#           7.04 ExtUtils::MakeMaker              
#           1.29 File::Find                       
#           3.54 File::Spec::Functions            
#         0.2304 File::Temp                       
#           1.41 List::Util                       
#         2.1403 Moose                            
#       0.100003 Pod::Coverage::TrustPod          
#          4.011 Pod::Weaver::Config::Assembler   
#           0.24 Test::CPAN::Meta                 
#     1.20140408 Test::MockObject                 
#   1.301001_098 Test::More                       
#           1.48 Test::Pod                        
#           1.10 Test::Pod::Coverage              
#           1.09 strict                           
#           1.31 warnings                         
t/00-report-prereqs.t .. ok
t/ini-config.t ......... ok
All tests successful.
Files=3, Tests=17,  6 wallclock secs ( 0.03 usr  0.03 sys +  2.74 cusr  0.34 csys =  3.14 CPU)
Result: PASS

------------------------------
PREREQUISITES
------------------------------

Prerequisite modules loaded:

requires:

    Module                            Need  Have        
    --------------------------------- ----- ------------
    Dist::Zilla::Role::Stash::Plugins 1.006 1.006       
    Moose                             0     2.1403      
    Pod::Weaver::Config::Assembler    0     4.011       
    strict                            0     1.09        
    warnings                          0     1.31        

build_requires:

    Module                            Need  Have        
    --------------------------------- ----- ------------
    Dist::Zilla::Tester               0     5.032       
    ExtUtils::MakeMaker               0     7.04        
    File::Find                        0     1.29        
    File::Spec::Functions             0     3.54        
    File::Temp                        0     0.2304      
    List::Util                        0     1.41        
    Test::MockObject                  0     1.20140408  
    Test::More                        0     1.301001_098

configure_requires:

    Module                            Need  Have        
    --------------------------------- ----- ------------
    ExtUtils::MakeMaker               6.30  7.04        


------------------------------
ENVIRONMENT AND OTHER CONTEXT
------------------------------

Environment variables:

    AUTOMATED_TESTING = 1
    LANG = en_US.UTF-8
    LANGUAGE = en_US:en
    PATH = /home/sand/bin:/usr/local/bin:/usr/bin:/bin:/usr/games:/usr/local/perl/bin:/usr/X11/bin:/sbin:/usr/sbin
    PERL5LIB = 
    PERL5OPT = 
    PERL5_CPANPLUS_IS_RUNNING = 1058
    PERL5_CPAN_IS_RUNNING = 1058
    PERL_MM_USE_DEFAULT = 1
    SHELL = /usr/bin/zsh
    TERM = screen

Perl special variables (and OS-specific diagnostics, for MSWin32):

    $^X = /home/sand/src/perl/repoperls/installed-perls/perl/v5.21.9/165a/bin/perl
    $UID/$EUID = 1005 / 1005
    $GID = 1005 1005
    $EGID = 1005 1005

Perl module toolchain versions installed:

    Module              Have        
    ------------------- ------------
    CPAN                2.10        
    CPAN::Meta          2.150001    
    Cwd                 3.54        
    ExtUtils::CBuilder  0.280221    
    ExtUtils::Command   1.20        
    ExtUtils::Install   2.04        
    ExtUtils::MakeMaker 7.04        
    ExtUtils::Manifest  1.70        
    ExtUtils::ParseXS   3.27        
    File::Spec          3.53        
    JSON                2.90        
    JSON::PP            2.27300     
    Module::Build       0.4211      
    Module::Signature   0.73        
    Parse::CPAN::Meta   1.4414      
    Test::Harness       3.35        
    Test::More          1.301001_098
    YAML                1.14        
    YAML::Syck          1.29        
    version             0.9912      


--

Summary of my perl5 (revision 5 version 21 subversion 9) configuration:
  Commit id: 9200eb3463082f416cc7f441ae6ec39829d1e46a
  Platform:
    osname=linux, osvers=3.16.0-4-amd64, archname=x86_64-linux
    uname='linux k83 3.16.0-4-amd64 #1 smp debian 3.16.7-ckt7-1 (2015-03-01) x86_64 gnulinux '
    config_args='-Dprefix=/home/sand/src/perl/repoperls/installed-perls/perl/v5.21.9/165a -Dmyhostname=k83 -Dinstallusrbinperl=n -Uversiononly -Dusedevel -des -Ui_db -Uuseithreads -Uuselongdouble -DDEBUGGING=-g'
    hint=recommended, useposix=true, d_sigaction=define
    useithreads=undef, usemultiplicity=undef
    use64bitint=define, use64bitall=define, uselongdouble=undef
    usemymalloc=n, bincompat5005=undef
  Compiler:
    cc='cc', ccflags ='-fwrapv -fno-strict-aliasing -pipe -fstack-protector-strong -I/usr/local/include -D_LARGEFILE_SOURCE -D_FILE_OFFSET_BITS=64 -D_FORTIFY_SOURCE=2',
    optimize='-O2 -g',
    cppflags='-fwrapv -fno-strict-aliasing -pipe -fstack-protector-strong -I/usr/local/include'
    ccversion='', gccversion='4.9.2', gccosandvers=''
    intsize=4, longsize=8, ptrsize=8, doublesize=8, byteorder=12345678, doublekind=3
    d_longlong=define, longlongsize=8, d_longdbl=define, longdblsize=16, longdblkind=3
    ivtype='long', ivsize=8, nvtype='double', nvsize=8, Off_t='off_t', lseeksize=8
    alignbytes=8, prototype=define
  Linker and Libraries:
    ld='cc', ldflags =' -fstack-protector-strong -L/usr/local/lib'
    libpth=/usr/local/lib /usr/lib/gcc/x86_64-linux-gnu/4.9/include-fixed /usr/include/x86_64-linux-gnu /usr/lib /lib/x86_64-linux-gnu /lib/../lib /usr/lib/x86_64-linux-gnu /usr/lib/../lib /lib
    libs=-lpthread -lnsl -lgdbm -ldb -ldl -lm -lcrypt -lutil -lc -lgdbm_compat
    perllibs=-lpthread -lnsl -ldl -lm -lcrypt -lutil -lc
    libc=libc-2.19.so, so=so, useshrplib=false, libperl=libperl.a
    gnulibc_version='2.19'
  Dynamic Linking:
    dlsrc=dl_dlopen.xs, dlext=so, d_dlsymun=undef, ccdlflags='-Wl,-E'
    cccdlflags='-fPIC', lddlflags='-shared -O2 -g -L/usr/local/lib -fstack-protector-strong'


Characteristics of this binary (from libperl): 
  Compile-time options: HAS_TIMES PERLIO_LAYERS PERL_DONT_CREATE_GVSV
                        PERL_HASH_FUNC_ONE_AT_A_TIME_HARD PERL_MALLOC_WRAP
                        PERL_NEW_COPY_ON_WRITE PERL_PRESERVE_IVUV
                        PERL_USE_DEVEL USE_64_BIT_ALL USE_64_BIT_INT
                        USE_LARGE_FILES USE_LOCALE USE_LOCALE_COLLATE
                        USE_LOCALE_CTYPE USE_LOCALE_NUMERIC USE_LOCALE_TIME
                        USE_PERLIO USE_PERL_ATOF
  Built under linux
  Compiled at Mar 14 2015 23:13:07
  %ENV:
    PERL5LIB=""
    PERL5OPT=""
    PERL5_CPANPLUS_IS_RUNNING="1058"
    PERL5_CPAN_IS_RUNNING="1058"
    PERL_MM_USE_DEFAULT="1"
  @INC:
    /home/sand/src/perl/repoperls/installed-perls/perl/v5.21.9/165a/lib/site_perl/5.21.9/x86_64-linux
    /home/sand/src/perl/repoperls/installed-perls/perl/v5.21.9/165a/lib/site_perl/5.21.9
    /home/sand/src/perl/repoperls/installed-perls/perl/v5.21.9/165a/lib/5.21.9/x86_64-linux
    /home/sand/src/perl/repoperls/installed-perls/perl/v5.21.9/165a/lib/5.21.9
    .