Path-FindDev vv0.5.3 Perl 5 v5.18.4 x86_64-linux
- Status
- Pass
- From
- NONAME
- Dist
-
Path-FindDev vv0.5.3
- Platform
- Perl 5 v5.18.4 x86_64-linux
- Date
- 2017-10-07 18:35:37
- ID
- 4fcd6c76-ab8e-11e7-80d1-9a79d4f5a49f
This distribution has been tested as part of the CPAN Testers
project, supporting the Perl programming language. See
http://wiki.cpantesters.org/ for more information or email
questions to cpan-testers-discuss@perl.org
--
Dear KENTNL,
This is a computer-generated report for Path-FindDev-v0.5.3
on perl 5.18.4, created by App::cpanminus::reporter 0.17 (1.7043).
Thank you for uploading your work to CPAN. Congratulations!
All tests were successful.
Sections of this report:
* Tester comments
* Program output
* Prerequisites
* Environment and other context
------------------------------
TESTER COMMENTS
------------------------------
Additional comments from tester:
none provided
------------------------------
PROGRAM OUTPUT
------------------------------
Output from '':
Building and testing Path-FindDev-v0.5.3
cp lib/Path/FindDev.pm blib/lib/Path/FindDev.pm
cp lib/Path/FindDev/Object.pm blib/lib/Path/FindDev/Object.pm
Manifying 2 pod documents
PERL_DL_NONLAZY=1 "/home/simbabque/perl5/perlbrew/perls/perl-5.18.4/bin/perl" "-MExtUtils::Command::MM" "-MTest::Harness" "-e" "undef *Test::Harness::Switches; test_harness(0, 'blib/lib', 'blib/arch')" t/*.t t/00-compile/*.t
t/00-compile/lib_Path_FindDev_Object_pm.t .. ok
t/00-compile/lib_Path_FindDev_pm.t ......... ok
#
# Versions for all modules listed in MYMETA.json (including optional ones):
#
# === Configure Requires ===
#
# Module Want Have
# ------------------- ---- ----
# ExtUtils::MakeMaker any 7.30
#
# === Configure Recommends ===
#
# Module Want Have
# ------------------- ---- ----
# ExtUtils::MakeMaker 7.00 7.30
#
# === Build Requires ===
#
# Module Want Have
# ------------------- ---- ----
# ExtUtils::MakeMaker any 7.30
#
# === Test Requires ===
#
# Module Want Have
# ------------------- ---- --------
# ExtUtils::MakeMaker any 7.30
# File::Spec any 3.40
# FindBin any 1.51
# Test::More any 1.302086
#
# === Test Recommends ===
#
# Module Want Have
# ------------------- -------- --------
# CPAN::Meta 2.120900 2.150010
# ExtUtils::MakeMaker 7.00 7.30
# Test::More 0.99 1.302086
#
# === Runtime Requires ===
#
# Module Want Have
# ------------------- ------ --------
# Carp any 1.29
# Class::Tiny 0.010 1.006
# Path::IsDev v0.2.2 1.001003
# Path::IsDev::Object any 1.001003
# Path::Tiny 0.054 0.104
# Scalar::Util any 1.47
# Sub::Exporter any 0.987
# strict any 1.07
# warnings any 1.18
#
# === Runtime Recommends ===
#
# Module Want Have
# ---------- ----- -----
# Path::Tiny 0.058 0.104
#
t/00-report-prereqs.t ...................... ok
# System path sanity check skipped due to potential security risks, set ENV{SYSTEM_PATH_TEST} if you wish to run this test
t/basic.t .................................. ok
All tests successful.
Files=4, Tests=5, 0 wallclock secs ( 0.02 usr 0.00 sys + 0.22 cusr 0.01 csys = 0.25 CPU)
Result: PASS
------------------------------
PREREQUISITES
------------------------------
Prerequisite modules loaded:
No requirements found
------------------------------
ENVIRONMENT AND OTHER CONTEXT
------------------------------
Environment variables:
LANG = en_US.UTF-8
LANGUAGE = en_US
LC_ADDRESS = de_DE.UTF-8
LC_IDENTIFICATION = de_DE.UTF-8
LC_MEASUREMENT = de_DE.UTF-8
LC_MONETARY = de_DE.UTF-8
LC_NAME = de_DE.UTF-8
LC_NUMERIC = de_DE.UTF-8
LC_PAPER = de_DE.UTF-8
LC_TELEPHONE = de_DE.UTF-8
LC_TIME = de_DE.UTF-8
PATH = /home/simbabque/perl5/perlbrew/bin:/home/simbabque/perl5/perlbrew/perls/perl-5.18.4/bin:/home/simbabque/bin:/home/simbabque/.local/bin:/usr/local/sbin:/usr/local/bin:/usr/sbin:/usr/bin:/sbin:/bin:/usr/games:/usr/local/games:/snap/bin
PERLBREW_BASHRC_VERSION = 0.78
PERLBREW_HOME = /home/simbabque/.perlbrew
PERLBREW_MANPATH = /home/simbabque/perl5/perlbrew/perls/perl-5.18.4/man
PERLBREW_PATH = /home/simbabque/perl5/perlbrew/bin:/home/simbabque/perl5/perlbrew/perls/perl-5.18.4/bin
PERLBREW_PERL = perl-5.18.4
PERLBREW_ROOT = /home/simbabque/perl5/perlbrew
PERLBREW_VERSION = 0.78
SHELL = /bin/bash
TERM = xterm
Perl special variables (and OS-specific diagnostics, for MSWin32):
EGID = 1000 4 24 27 30 46 113 128 1000
EUID = 1000
EXECUTABLE_NAME = /home/simbabque/perl5/perlbrew/perls/perl-5.18.4/bin/perl
GID = 1000 4 24 27 30 46 113 128 1000
UID = 1000
Perl module toolchain versions installed:
Module Have
------------------- --------
CPAN 2.00
CPAN::Meta 2.150010
Cwd 3.40
ExtUtils::CBuilder 0.280210
ExtUtils::Command 7.30
ExtUtils::Install 2.06
ExtUtils::MakeMaker 7.30
ExtUtils::Manifest 1.70
ExtUtils::ParseXS 3.18
File::Spec 3.40
JSON 2.93
JSON::PP 2.93
Module::Build 0.4222
Module::Signature n/a
Parse::CPAN::Meta 2.150010
Test::Harness 3.39
Test::More 1.302098
YAML 1.23
YAML::Syck 1.30
version 0.9918
--
Summary of my perl5 (revision 5 version 18 subversion 4) configuration:
Platform:
osname=linux, osvers=4.8.0-36-generic, archname=x86_64-linux
uname='linux box 4.8.0-36-generic #36~16.04.1-ubuntu smp sun feb 5 09:39:57 utc 2017 x86_64 x86_64 x86_64 gnulinux '
config_args='-de -Dprefix=/home/simbabque/perl5/perlbrew/perls/perl-5.18.4 -Aeval:scriptdir=/home/simbabque/perl5/perlbrew/perls/perl-5.18.4/bin'
hint=recommended, useposix=true, d_sigaction=define
useithreads=undef, usemultiplicity=undef
useperlio=define, d_sfio=undef, uselargefiles=define, usesocks=undef
use64bitint=define, use64bitall=define, uselongdouble=undef
usemymalloc=n, bincompat5005=undef
Compiler:
cc='cc', ccflags ='-fno-strict-aliasing -pipe -fstack-protector -I/usr/local/include -D_LARGEFILE_SOURCE -D_FILE_OFFSET_BITS=64',
optimize='-O2',
cppflags='-fno-strict-aliasing -pipe -fstack-protector -I/usr/local/include'
ccversion='', gccversion='5.4.0 20160609', gccosandvers=''
intsize=4, longsize=8, ptrsize=8, doublesize=8, byteorder=12345678
d_longlong=define, longlongsize=8, d_longdbl=define, longdblsize=16
ivtype='long', ivsize=8, nvtype='double', nvsize=8, Off_t='off_t', lseeksize=8
alignbytes=8, prototype=define
Linker and Libraries:
ld='cc', ldflags =' -fstack-protector -L/usr/local/lib'
libpth=/usr/local/lib /lib/x86_64-linux-gnu /lib/../lib /usr/lib/x86_64-linux-gnu /usr/lib/../lib /lib /usr/lib
libs=-lnsl -ldl -lm -lcrypt -lutil -lc
perllibs=-lnsl -ldl -lm -lcrypt -lutil -lc
libc=libc-2.23.so, so=so, useshrplib=false, libperl=libperl.a
gnulibc_version='2.23'
Dynamic Linking:
dlsrc=dl_dlopen.xs, dlext=so, d_dlsymun=undef, ccdlflags='-Wl,-E'
cccdlflags='-fPIC', lddlflags='-shared -O2 -L/usr/local/lib -fstack-protector'
Characteristics of this binary (from libperl):
Compile-time options: HAS_TIMES PERLIO_LAYERS PERL_DONT_CREATE_GVSV
PERL_HASH_FUNC_ONE_AT_A_TIME_HARD PERL_MALLOC_WRAP
PERL_PRESERVE_IVUV PERL_SAWAMPERSAND USE_64_BIT_ALL
USE_64_BIT_INT USE_LARGE_FILES USE_LOCALE
USE_LOCALE_COLLATE USE_LOCALE_CTYPE
USE_LOCALE_NUMERIC USE_PERLIO USE_PERL_ATOF
Locally applied patches:
Devel::PatchPerl 1.48
Built under linux
Compiled at May 28 2017 11:52:15
%ENV:
PERLBREW_BASHRC_VERSION="0.78"
PERLBREW_HOME="/home/simbabque/.perlbrew"
PERLBREW_MANPATH="/home/simbabque/perl5/perlbrew/perls/perl-5.18.4/man"
PERLBREW_PATH="/home/simbabque/perl5/perlbrew/bin:/home/simbabque/perl5/perlbrew/perls/perl-5.18.4/bin"
PERLBREW_PERL="perl-5.18.4"
PERLBREW_ROOT="/home/simbabque/perl5/perlbrew"
PERLBREW_VERSION="0.78"
@INC:
/home/simbabque/perl5/perlbrew/perls/perl-5.18.4/lib/site_perl/5.18.4/x86_64-linux
/home/simbabque/perl5/perlbrew/perls/perl-5.18.4/lib/site_perl/5.18.4
/home/simbabque/perl5/perlbrew/perls/perl-5.18.4/lib/5.18.4/x86_64-linux
/home/simbabque/perl5/perlbrew/perls/perl-5.18.4/lib/5.18.4
.