Git-Wrapper v0.048_090 Perl 5 v5.24.4 amd64-freebsd
- Status
- Pass
- From
- Nigel Horne
- Dist
-
Git-Wrapper v0.048_090
- Platform
- Perl 5 v5.24.4 amd64-freebsd
- Date
- 2018-07-20 16:02:32
- ID
- 4fca80fe-8c36-11e8-9911-aadab7d57a06
This distribution has been tested as part of the CPAN Testers
project, supporting the Perl programming language. See
http://wiki.cpantesters.org/ for more information or email
questions to cpan-testers-discuss@perl.org
--
Dear John SJ Anderson,
This is a computer-generated report for Git-Wrapper-0.048_090
on perl 5.24.4, created by CPAN-Reporter-1.2018.
Thank you for uploading your work to CPAN. Congratulations!
All tests were successful.
Sections of this report:
* Tester comments
* Program output
* Prerequisites
* Environment and other context
------------------------------
TESTER COMMENTS
------------------------------
Additional comments from tester:
this report is from an automated smoke testing program
and was not reviewed by a human for accuracy
------------------------------
PROGRAM OUTPUT
------------------------------
Output from '/usr/bin/make test':
PERL_DL_NONLAZY=1 "/usr/home/njh/perl5/perlbrew/perls/perl-5.24.4/bin/perl" "-MExtUtils::Command::MM" "-MTest::Harness" "-e" "undef *Test::Harness::Switches; test_harness(0, 'blib/lib', 'blib/arch')" t/*.t
# Testing Git::Wrapper 0.048090
t/00-load.t .............. ok
t/author-err.t ........... skipped: these tests are for testing by the author
t/author-pod-coverage.t .. skipped: these tests are for testing by the author
t/author-pod-syntax.t .... skipped: these tests are for testing by the author
# Testing git version: 2.18.0
t/basic.t ................ ok
t/deadlock.t ............. ok
t/git_binary.t ........... ok
t/parse_args.t ........... ok
# Testing git version: 2.18.0
t/path_class.t ........... ok
# Testing git version: 2.18.0
t/statuses.t ............. ok
All tests successful.
Files=10, Tests=131, 2 wallclock secs ( 0.05 usr 0.03 sys + 0.88 cusr 0.62 csys = 1.58 CPU)
Result: PASS
------------------------------
PREREQUISITES
------------------------------
Prerequisite modules loaded:
requires:
Module Need Have
------------------- ---- --------
File::chdir 0 0.1010
File::Temp 0 0.2306
IPC::Cmd 0 1.02
IPC::Run3 0 0.048
overload 0 1.26
Scalar::Util 0 1.50
Sort::Versions 0 1.62
strict 0 1.11
Symbol 0 1.07
warnings 0 1.36
build_requires:
Module Need Have
------------------- ---- --------
Cwd 0 3.74
ExtUtils::MakeMaker 0 7.34
File::Path 0 2.15
File::Spec 0 3.74
File::Temp 0 0.2306
IO::File 0 1.39
POSIX 0 1.65_01
Sort::Versions 0 1.62
Test::Deep 0 1.128
Test::Exception 0 0.43
Test::More 0 1.302136
configure_requires:
Module Need Have
------------------- ---- --------
Devel::CheckBin 0 0.04
ExtUtils::MakeMaker 0 7.34
File::Spec 0 3.74
------------------------------
ENVIRONMENT AND OTHER CONTEXT
------------------------------
Environment variables:
AUTOMATED_TESTING = 1
PATH = /home/njh/perl5/perlbrew/bin:/home/njh/perl5/perlbrew/perls/perl-5.24.4/bin:/home/njh/perl5/perlbrew/bin:/home/njh/perl5/perlbrew/perls/perl-5.26.2/bin:/sbin:/bin:/usr/sbin:/usr/bin:/usr/local/sbin:/usr/local/bin:/home/njh/bin
PERL5LIB = /home/njh/.cpan/build/IPC-Run3-0.048-60/blib/arch:/home/njh/.cpan/build/IPC-Run3-0.048-60/blib/lib:/home/njh/.cpan/build/Devel-CheckBin-0.04-9/blib/arch:/home/njh/.cpan/build/Devel-CheckBin-0.04-9/blib/lib
PERL5OPT =
PERL5_CPANPLUS_IS_RUNNING = 20253
PERL5_CPAN_IS_RUNNING = 20253
PERL5_MINISMOKEBOX = 0.68
PERLBREW_HOME = /home/njh/.perlbrew
PERLBREW_LIB =
PERLBREW_MANPATH = /home/njh/perl5/perlbrew/perls/perl-5.24.4/man
PERLBREW_PATH = /home/njh/perl5/perlbrew/bin:/home/njh/perl5/perlbrew/perls/perl-5.24.4/bin
PERLBREW_PERL = perl-5.24.4
PERLBREW_ROOT = /home/njh/perl5/perlbrew
PERLBREW_SHELLRC_VERSION = 0.83
PERLBREW_VERSION = 0.83
PERL_EXTUTILS_AUTOINSTALL = --defaultdeps
PERL_LOCAL_LIB_ROOT =
PERL_MM_USE_DEFAULT = 1
SHELL = /usr/local/bin/bash
TERM = xterm-256color
TMPDIR = /tmp
Perl special variables (and OS-specific diagnostics, for MSWin32):
$^X = /usr/home/njh/perl5/perlbrew/perls/perl-5.24.4/bin/perl
$UID/$EUID = 1000 / 1000
$GID = 1000 1000 0
$EGID = 1000 1000 0
Perl module toolchain versions installed:
Module Have
------------------- --------
CPAN 2.16
CPAN::Meta 2.150010
Cwd 3.74
ExtUtils::CBuilder 0.280230
ExtUtils::Command 7.34
ExtUtils::Install 2.14
ExtUtils::MakeMaker 7.34
ExtUtils::Manifest 1.71
ExtUtils::ParseXS 3.35
File::Spec 3.74
JSON 2.97001
JSON::PP 2.97001
Module::Build 0.4224
Module::Signature n/a
Parse::CPAN::Meta 2.150010
Test::Harness 3.42
Test::More 1.302136
YAML 1.26
YAML::Syck 1.30
version 0.9924
--
Summary of my perl5 (revision 5 version 24 subversion 4) configuration:
Platform:
osname=freebsd, osvers=11.1-release-p4, archname=amd64-freebsd
uname='freebsd njh3.vultr.com 11.1-release-p4 freebsd 11.1-release-p4 #0: tue nov 14 06:12:40 utc 2017 root@amd64-builder.daemonology.net:usrobjusrsrcsysgeneric amd64 '
config_args='-de -Dprefix=/home/njh/perl5/perlbrew/perls/perl-5.24.4 -Aeval:scriptdir=/home/njh/perl5/perlbrew/perls/perl-5.24.4/bin'
hint=recommended, useposix=true, d_sigaction=define
useithreads=undef, usemultiplicity=undef
use64bitint=define, use64bitall=define, uselongdouble=undef
usemymalloc=n, bincompat5005=undef
Compiler:
cc='cc', ccflags ='-DHAS_FPSETMASK -DHAS_FLOATINGPOINT_H -fno-strict-aliasing -pipe -fstack-protector-strong -I/usr/local/include -D_FORTIFY_SOURCE=2',
optimize='-O',
cppflags='-DHAS_FPSETMASK -DHAS_FLOATINGPOINT_H -fno-strict-aliasing -pipe -fstack-protector-strong -I/usr/local/include'
ccversion='', gccversion='4.2.1 Compatible FreeBSD Clang 4.0.0 (tags/RELEASE_400/final 297347)', gccosandvers=''
intsize=4, longsize=8, ptrsize=8, doublesize=8, byteorder=12345678, doublekind=3
d_longlong=define, longlongsize=8, d_longdbl=define, longdblsize=16, longdblkind=3
ivtype='long', ivsize=8, nvtype='double', nvsize=8, Off_t='off_t', lseeksize=8
alignbytes=8, prototype=define
Linker and Libraries:
ld='cc', ldflags ='-Wl,-E -fstack-protector-strong -L/usr/local/lib'
libpth=/usr/lib /usr/local/lib /usr/bin/../lib/clang/4.0.0/lib /usr/lib
libs=-lpthread -lm -lcrypt -lutil -lc
perllibs=-lpthread -lm -lcrypt -lutil -lc
libc=, so=so, useshrplib=false, libperl=libperl.a
gnulibc_version=''
Dynamic Linking:
dlsrc=dl_dlopen.xs, dlext=so, d_dlsymun=undef, ccdlflags=' '
cccdlflags='-DPIC -fPIC', lddlflags='-shared -L/usr/local/lib -fstack-protector-strong'
Characteristics of this binary (from libperl):
Compile-time options: HAS_TIMES PERLIO_LAYERS PERL_COPY_ON_WRITE
PERL_DONT_CREATE_GVSV
PERL_HASH_FUNC_ONE_AT_A_TIME_HARD PERL_MALLOC_WRAP
PERL_PRESERVE_IVUV USE_64_BIT_ALL USE_64_BIT_INT
USE_LARGE_FILES USE_LOCALE USE_LOCALE_COLLATE
USE_LOCALE_CTYPE USE_LOCALE_NUMERIC USE_LOCALE_TIME
USE_PERLIO USE_PERL_ATOF
Locally applied patches:
Devel::PatchPerl 1.48
Built under freebsd
Compiled at Jun 3 2018 16:01:43
%ENV:
PERL5LIB="/home/njh/.cpan/build/IPC-Run3-0.048-60/blib/arch:/home/njh/.cpan/build/IPC-Run3-0.048-60/blib/lib:/home/njh/.cpan/build/Devel-CheckBin-0.04-9/blib/arch:/home/njh/.cpan/build/Devel-CheckBin-0.04-9/blib/lib"
PERL5OPT=""
PERL5_CPANPLUS_IS_RUNNING="20253"
PERL5_CPAN_IS_RUNNING="20253"
PERL5_MINISMOKEBOX="0.68"
PERLBREW_HOME="/home/njh/.perlbrew"
PERLBREW_LIB=""
PERLBREW_MANPATH="/home/njh/perl5/perlbrew/perls/perl-5.24.4/man"
PERLBREW_PATH="/home/njh/perl5/perlbrew/bin:/home/njh/perl5/perlbrew/perls/perl-5.24.4/bin"
PERLBREW_PERL="perl-5.24.4"
PERLBREW_ROOT="/home/njh/perl5/perlbrew"
PERLBREW_SHELLRC_VERSION="0.83"
PERLBREW_VERSION="0.83"
PERL_EXTUTILS_AUTOINSTALL="--defaultdeps"
PERL_LOCAL_LIB_ROOT=""
PERL_MM_USE_DEFAULT="1"
@INC:
/home/njh/.cpan/build/IPC-Run3-0.048-60/blib/arch
/home/njh/.cpan/build/IPC-Run3-0.048-60/blib/lib
/home/njh/.cpan/build/Devel-CheckBin-0.04-9/blib/arch
/home/njh/.cpan/build/Devel-CheckBin-0.04-9/blib/lib
/home/njh/perl5/perlbrew/perls/perl-5.24.4/lib/site_perl/5.24.4/amd64-freebsd
/home/njh/perl5/perlbrew/perls/perl-5.24.4/lib/site_perl/5.24.4
/home/njh/perl5/perlbrew/perls/perl-5.24.4/lib/5.24.4/amd64-freebsd
/home/njh/perl5/perlbrew/perls/perl-5.24.4/lib/5.24.4
.