Amazon-Credentials v1.1.24 Perl 5 v5.41.13 x86_64-linux

Status
Pass
From
Slaven Rezić
Dist
Amazon-Credentials v1.1.24
Platform
Perl 5 v5.41.13 x86_64-linux
Date
2025-06-03 16:39:26
ID
4fb8dcea-4099-11f0-9ef3-ecef6d8775ea
This distribution has been tested as part of the CPAN Testers
project, supporting the Perl programming language.  See
http://wiki.cpantesters.org/ for more information or email
questions to cpan-testers-discuss@perl.org


--
Dear Robert Lauer,

This is a computer-generated report for Amazon-Credentials-1.1.24
on perl 5.41.13, created by CPAN-Reporter-1.2020.

Thank you for uploading your work to CPAN.  Congratulations!
All tests were successful.

Sections of this report:

    * Tester comments
    * Program output
    * Prerequisites
    * Environment and other context

------------------------------
TESTER COMMENTS
------------------------------

Additional comments from tester:

none provided

------------------------------
PROGRAM OUTPUT
------------------------------

Output from '/usr/bin/make test':

PERL_DL_NONLAZY=1 "/opt/perl-5.41.13/bin/perl5.41.13" "-MExtUtils::Command::MM" "-MTest::Harness" "-e" "undef *Test::Harness::Switches; test_harness(0, 'blib/lib', 'blib/arch')" t/*.t
t/00-credentials.t ....... ok
$VAR1 = [
          't/01-credentials.t'
        ];
t/01-credentials.t ....... ok
t/02-credentials.t ....... ok
t/03-container.t ......... ok
t/04-process.t ........... ok
t/05-format.t ............ ok
t/06-security.t .......... ok
t/07-encryption.t ........ skipped: Crypt::CBC unavilable
t/08-imdsv2.t ............ skipped: set AMAZON_CREDENTIALS_TEST_ALL to test in AWS
t/09-live-credentials.t .. skipped: set AMAZON_CREDENTIALS_TEST_ALL to test in AWS
t/10-logging.t ........... skipped: no Log::Log4perl available
t/11-order.t ............. ok
no credentials available at t/12-error.t line 52.
 at t/12-error.t line 52.
Can't exec "some_process_that_does_not_exist": No such file or directory at lib/Amazon/Credentials.pm line 482.
t/12-error.t ............. ok
t/13-env.t ............... ok
t/14-utils.t ............. ok
All tests successful.
Files=15, Tests=51,  1 wallclock secs ( 0.05 usr  0.04 sys +  1.16 cusr  0.29 csys =  1.54 CPU)
Result: PASS

------------------------------
PREREQUISITES
------------------------------

Prerequisite modules loaded:

requires:

    Module                  Need     Have    
    ----------------------- -------- --------
    Carp                    1.26     1.54    
    Class::Accessor::Fast   0.31     0.51    
    Config::Tiny            2.28     2.30    
    Date::Format            2.24     2.24    
    English                 1.05     1.11    
    Exporter                5.68     5.79    
    File::chdir             0.1010   0.1011  
    File::Find              0        1.44    
    File::HomeDir           1.00     1.006   
    HTTP::Request           6.00     7.00    
    JSON::PP                4.07     4.16    
    List::Util              1.5      1.68_01 
    LWP::UserAgent          6.36     6.78    
    MIME::Base64            3.13     3.16_01 
    POSIX::strptime         0.13     0.13    
    Scalar::Util            1.5      1.68_01 
    Test::Output            1.033    1.036   
    Time::Local             1.2300   1.35    

build_requires:

    Module                  Need     Have    
    ----------------------- -------- --------
    constant                1.33     1.33    
    Cwd                     3.40     3.94    
    Data::Dumper            2.145    2.192   
    Date::Format            2.24     2.24    
    English                 1.05     1.11    
    ExtUtils::MakeMaker     6.64     7.76    
    File::Path              2.09     2.18    
    File::ShareDir::Install 0        0.14    
    File::Temp              0.2301   0.2311  
    JSON::PP                4.07     4.16    
    MIME::Base64            3.13     3.16_01 
    Module::Loaded          0        0.08    
    strict                  1.07     1.14    
    Test::More              1.001014 1.302210
    Test::Output            1.031    1.036   
    Test::Without::Module   0        0.23    
    warnings                1.13     1.74    

configure_requires:

    Module                  Need     Have    
    ----------------------- -------- --------
    ExtUtils::MakeMaker     6.64     7.76    
    File::ShareDir::Install 0        0.14    


------------------------------
ENVIRONMENT AND OTHER CONTEXT
------------------------------

Environment variables:

    LANG = en_US.UTF-8
    PATH = /usr/local/bin:/usr/bin:/bin:/usr/local/sbin:/usr/sbin:/sbin:/home/cpansand/bin/linux-gnu:/home/cpansand/bin/sh:/home/cpansand/bin:/usr/games:/home/cpansand/devel:/home/eserte/src/srezic-misc/scripts
    PERL5LIB = /home/cpansand/.cpan/build/2025060314/POSIX-strptime-0.13-0/blib/arch:/home/cpansand/.cpan/build/2025060314/POSIX-strptime-0.13-0/blib/lib:/home/cpansand/.cpan/build/2025060314/AWS-Signature4-1.02-0/blib/arch:/home/cpansand/.cpan/build/2025060314/AWS-Signature4-1.02-0/blib/lib
    PERL5OPT = 
    PERL5_CPANPLUS_IS_RUNNING = 1272143
    PERL5_CPAN_IS_RUNNING = 1272143
    PERL5_CPAN_IS_RUNNING_IN_RECURSION = 1271782,1272143
    PERLDOC = -MPod::Perldoc::ToTextOverstrike
    PERL_BATCH = yes
    PERL_CANARY_STABILITY_NOPROMPT = 1
    PERL_CPAN_REPORTER_CONFIG = /var/tmp/cpansmoker-1023/2025060314/cpanreporter_000_config.ini
    PERL_EXTUTILS_AUTOINSTALL = --defaultdeps
    PERL_USE_UNSAFE_INC = 1
    SHELL = /usr/bin/zsh
    TERM = screen
    TMPDIR = /var/tmp/cpansmoker-1023/2025060314

Perl special variables (and OS-specific diagnostics, for MSWin32):

    $^X = /opt/perl-5.41.13/bin/perl5.41.13
    $UID/$EUID = 1023 / 1023
    $GID = 1023 1023
    $EGID = 1023 1023

Perl module toolchain versions installed:

    Module              Have    
    ------------------- --------
    CPAN                2.38    
    CPAN::Meta          2.150010
    Cwd                 3.94    
    ExtUtils::CBuilder  0.280241
    ExtUtils::Command   7.76    
    ExtUtils::Install   2.22    
    ExtUtils::MakeMaker 7.76    
    ExtUtils::Manifest  1.75    
    ExtUtils::ParseXS   3.57    
    File::Spec          3.94    
    JSON                n/a     
    JSON::PP            4.16    
    Module::Build       0.4234  
    Module::Signature   n/a     
    Parse::CPAN::Meta   2.150010
    Test2               1.302210
    Test::Harness       3.50    
    Test::More          1.302210
    YAML                1.31    
    YAML::Syck          1.34    
    version             0.9933  


--

Summary of my perl5 (revision 5 version 41 subversion 13) configuration:
   
  Platform:
    osname=linux
    osvers=6.14.8-200.fc41.x86_64
    archname=x86_64-linux
    uname='linux cloud4.bbbike.org 6.14.8-200.fc41.x86_64 #1 smp preempt_dynamic thu may 22 19:26:21 utc 2025 x86_64 gnulinux '
    config_args='-ds -e -Dprefix=/opt/perl-5.41.13 -Uinstallusrbinperl -Dusedevel -Dusemallocwrap=no -Dcf_email=srezic@cpan.org'
    hint=recommended
    useposix=true
    d_sigaction=define
    useithreads=undef
    usemultiplicity=undef
    use64bitint=define
    use64bitall=define
    uselongdouble=undef
    usemymalloc=n
    default_inc_excludes_dot=define
  Compiler:
    cc='cc'
    ccflags ='-fwrapv -fno-strict-aliasing -pipe -fstack-protector-strong -I/usr/local/include -D_LARGEFILE_SOURCE -D_FILE_OFFSET_BITS=64 -D_FORTIFY_SOURCE=2'
    optimize='-O2'
    cppflags='-fwrapv -fno-strict-aliasing -pipe -fstack-protector-strong -I/usr/local/include'
    ccversion=''
    gccversion='14.3.1 20250523 (Red Hat 14.3.1-1)'
    gccosandvers=''
    intsize=4
    longsize=8
    ptrsize=8
    doublesize=8
    byteorder=12345678
    doublekind=3
    d_longlong=define
    longlongsize=8
    d_longdbl=define
    longdblsize=16
    longdblkind=3
    ivtype='long'
    ivsize=8
    nvtype='double'
    nvsize=8
    Off_t='off_t'
    lseeksize=8
    alignbytes=8
    prototype=define
  Linker and Libraries:
    ld='cc'
    ldflags =' -fstack-protector-strong -L/usr/local/lib'
    libpth=/usr/local/lib /usr/lib /usr/lib64 /usr/local/lib64
    libs=-lpthread -ldb -ldl -lm -lcrypt -lutil -lc
    perllibs=-lpthread -ldl -lm -lcrypt -lutil -lc
    libc=/lib/../lib64/libc.so.6
    so=so
    useshrplib=false
    libperl=libperl.a
    gnulibc_version='2.40'
  Dynamic Linking:
    dlsrc=dl_dlopen.xs
    dlext=so
    d_dlsymun=undef
    ccdlflags='-Wl,-E'
    cccdlflags='-fPIC'
    lddlflags='-shared -O2 -L/usr/local/lib -fstack-protector-strong'


Characteristics of this binary (from libperl): 
  Compile-time options:
    HAS_LONG_DOUBLE
    HAS_STRTOLD
    HAS_TIMES
    PERLIO_LAYERS
    PERL_COPY_ON_WRITE
    PERL_DONT_CREATE_GVSV
    PERL_HASH_FUNC_SIPHASH13
    PERL_HASH_USE_SBOX32
    PERL_OP_PARENT
    PERL_PRESERVE_IVUV
    PERL_USE_DEVEL
    PERL_USE_SAFE_PUTENV
    USE_64_BIT_ALL
    USE_64_BIT_INT
    USE_LARGE_FILES
    USE_LOCALE
    USE_LOCALE_COLLATE
    USE_LOCALE_CTYPE
    USE_LOCALE_NUMERIC
    USE_LOCALE_TIME
    USE_PERLIO
    USE_PERL_ATOF
  Built under linux
  Compiled at May 31 2025 16:25:36
  %ENV:
    PERL5LIB="/home/cpansand/.cpan/build/2025060314/POSIX-strptime-0.13-0/blib/arch:/home/cpansand/.cpan/build/2025060314/POSIX-strptime-0.13-0/blib/lib:/home/cpansand/.cpan/build/2025060314/AWS-Signature4-1.02-0/blib/arch:/home/cpansand/.cpan/build/2025060314/AWS-Signature4-1.02-0/blib/lib"
    PERL5OPT=""
    PERL5_CPANPLUS_IS_RUNNING="1272143"
    PERL5_CPAN_IS_RUNNING="1272143"
    PERL5_CPAN_IS_RUNNING_IN_RECURSION="1271782,1272143"
    PERLDOC="-MPod::Perldoc::ToTextOverstrike"
    PERL_BATCH="yes"
    PERL_CANARY_STABILITY_NOPROMPT="1"
    PERL_CPAN_REPORTER_CONFIG="/var/tmp/cpansmoker-1023/2025060314/cpanreporter_000_config.ini"
    PERL_EXTUTILS_AUTOINSTALL="--defaultdeps"
    PERL_USE_UNSAFE_INC="1"
  @INC:
    /home/cpansand/.cpan/build/2025060314/POSIX-strptime-0.13-0/blib/arch
    /home/cpansand/.cpan/build/2025060314/POSIX-strptime-0.13-0/blib/lib
    /home/cpansand/.cpan/build/2025060314/AWS-Signature4-1.02-0/blib/arch
    /home/cpansand/.cpan/build/2025060314/AWS-Signature4-1.02-0/blib/lib
    /opt/perl-5.41.13/lib/site_perl/5.41.13/x86_64-linux
    /opt/perl-5.41.13/lib/site_perl/5.41.13
    /opt/perl-5.41.13/lib/5.41.13/x86_64-linux
    /opt/perl-5.41.13/lib/5.41.13
    .