Report for XML-RSS-1.56

Back
From: metabase:user:8b7560da-4d28-11e3-8dad-d6e40f5f8eae
Subject: PASS XML-RSS-1.56 v5.12.5 GNU/Linux
Date: 2015-04-04T15:00:19Z

This distribution has been tested as part of the CPAN Testers
project, supporting the Perl programming language.  See
http://wiki.cpantesters.org/ for more information or email
questions to cpan-testers-discuss@perl.org


--
Dear Shlomi Fish,

This is a computer-generated report for XML-RSS-1.56
on perl 5.12.5, created by CPAN-Reporter-1.2011.

Thank you for uploading your work to CPAN.  Congratulations!
All tests were successful.

Sections of this report:

    * Tester comments
    * Program output
    * Prerequisites
    * Environment and other context

------------------------------
TESTER COMMENTS
------------------------------

Additional comments from tester:

none provided

------------------------------
PROGRAM OUTPUT
------------------------------

Output from './Build test':

t/load.t .............................. ok
t/pod.t ............................... ok
t/cpan-changes.t ...................... ok
t/style-trailing-space.t .............. skipped: Test::TrailingSpace required for trailing space test.
t/version.t ........................... ok
t/render-upon-init.t .................. ok
t/encoding.t .......................... ok
t/0.9-generate.t ...................... ok
t/0.9-parse.t ......................... ok
t/0.9-strict.t ........................ ok
t/0.91-parse.t ........................ ok
t/1.0-generate.t ...................... ok
t/1.0-gen-errors-on-missing-fields.t .. ok
t/1.0-parse.t ......................... ok
t/1.0-parse-2.t ....................... ok
t/1.0-parse-exotic.t .................. ok
t/2.0-generate.t ...................... ok
t/2.0-modules.t ....................... ok
t/2.0-permalink.t ..................... ok
t/2.0-parse.t ......................... ok
t/2.0-parse-cloud.t ................... ok
t/2.0-parse-2.t ....................... ok
t/2.0-parse-self.t .................... ok
t/2.0-wo-title.t ...................... ok
t/1.0-to-2.0.t ........................ ok
t/auto_add_modules.t .................. ok
t/enclosures.t ........................ ok
t/enclosures2.t ....................... ok
t/enclosures-multi.t .................. ok
t/encode-output.t ..................... ok
t/test-generated-items.t .............. ok
t/pod-coverage.t ...................... ok
t/rss2-gt-encoding.t .................. ok
t/charset1.t .......................... ok
t/xml-header.t ........................ ok
t/add-item-insert-vs-append.t ......... ok
t/guid.t .............................. ok
t/xml-base.t .......................... ok
t/save-while-in-taint-mode.t .......... ok
All tests successful.
Files=39, Tests=458,  8 wallclock secs ( 0.23 usr  0.07 sys +  7.77 cusr  0.34 csys =  8.41 CPU)
Result: PASS

------------------------------
PREREQUISITES
------------------------------

Prerequisite modules loaded:

requires:

    Module                   Need  Have    
    ------------------------ ----- --------
    DateTime                 0     1.18    
    DateTime::Format::Mail   0     0.401   
    DateTime::Format::W3CDTF 0     0.06    
    HTML::Entities           0     3.69    
    perl                     5.008 5.012005
    XML::Parser              2.23  2.44    

build_requires:

    Module                   Need  Have    
    ------------------------ ----- --------
    Test::Manifest           0.9   2.02    
    Test::More               0     1.001014

configure_requires:

    Module                   Need  Have    
    ------------------------ ----- --------
    Module::Build            0.36  0.4211  


------------------------------
ENVIRONMENT AND OTHER CONTEXT
------------------------------

Environment variables:

    LANG = en_US.UTF-8
    LC_ADDRESS = sv_SE.UTF-8
    LC_COLLATE = sv_SE.UTF-8
    LC_CTYPE = sv_SE.UTF-8
    LC_IDENTIFICATION = sv_SE.UTF-8
    LC_MEASUREMENT = sv_SE.UTF-8
    LC_MESSAGES = POSIX
    LC_MONETARY = sv_SE.UTF-8
    LC_NAME = sv_SE.UTF-8
    LC_NUMERIC = POSIX
    LC_PAPER = sv_SE.UTF-8
    LC_TELEPHONE = sv_SE.UTF-8
    LC_TIME = sv_SE.UTF-8
    PATH = /opt/perlbrew/bin:/opt/perlbrew/perls/perl-5.12.5/bin:/home/pk/google-cloud-sdk/bin:/opt/cuda/bin:/opt/perlbrew/bin:/opt/perlbrew/perls/perl-5.20.1/bin:~/.local/bin:/usr/local/bin:/usr/bin:/bin:/opt/bin:/usr/x86_64-pc-linux-gnu/gcc-bin/4.8.3:/usr/x86_64-pc-linux-gnu/armv6j-hardfloat-linux-gnueabi/gcc-bin/4.8.3:/opt/nvidia-cg-toolkit/bin:/usr/games/bin:/opt/cuda/bin
    PERL5LIB = 
    PERL5OPT = 
    PERL5_CPANPLUS_IS_RUNNING = 28182
    PERL5_CPAN_IS_RUNNING = 28182
    PERLBREW_BASHRC_VERSION = 0.73
    PERLBREW_HOME = /home/pk/.perlbrew
    PERLBREW_LIB = 
    PERLBREW_MANPATH = /opt/perlbrew/perls/perl-5.12.5/man
    PERLBREW_PATH = /opt/perlbrew/bin:/opt/perlbrew/perls/perl-5.12.5/bin
    PERLBREW_PERL = perl-5.12.5
    PERLBREW_ROOT = /opt/perlbrew
    PERLBREW_VERSION = 0.73
    PERL_LOCAL_LIB_ROOT = 
    SHELL = /bin/bash
    TERM = xterm-256color

Perl special variables (and OS-specific diagnostics, for MSWin32):

    $^X = /opt/perlbrew/perls/perl-5.12.5/bin/perl
    $UID/$EUID = 1000 / 1000
    $GID = 1000 10 18 19 27 35 85 100 103 104 250 987 991 1000 1001
    $EGID = 1000 10 18 19 27 35 85 100 103 104 250 987 991 1000 1001

Perl module toolchain versions installed:

    Module              Have    
    ------------------- --------
    CPAN                2.10    
    CPAN::Meta          2.150001
    Cwd                 3.47    
    ExtUtils::CBuilder  0.280220
    ExtUtils::Command   1.20    
    ExtUtils::Install   2.04    
    ExtUtils::MakeMaker 7.04    
    ExtUtils::Manifest  1.70    
    ExtUtils::ParseXS   3.24    
    File::Spec          3.47    
    JSON                2.90    
    JSON::PP            2.27300 
    Module::Build       0.4211  
    Module::Signature   n/a     
    Parse::CPAN::Meta   1.4414  
    Test::Harness       3.35    
    Test::More          1.001014
    YAML                1.13    
    YAML::Syck          1.27    
    version             0.9909  


--

Summary of my perl5 (revision 5 version 12 subversion 5) configuration:
   
  Platform:
    osname=linux, osvers=3.16.5-gentoo, archname=x86_64-linux
    uname='linux jeeves 3.16.5-gentoo #2 smp preempt mon oct 27 16:26:35 cet 2014 x86_64 intel(r) core(tm) i7-2630qm cpu @ 2.00ghz genuineintel gnulinux '
    config_args='-de -Dprefix=/opt/perlbrew/perls/perl-5.12.5 -Doptimize=-O2 -march=native -Duseshrplib -Aeval:scriptdir=/opt/perlbrew/perls/perl-5.12.5/bin'
    hint=recommended, useposix=true, d_sigaction=define
    useithreads=undef, usemultiplicity=undef
    useperlio=define, d_sfio=undef, uselargefiles=define, usesocks=undef
    use64bitint=define, use64bitall=define, uselongdouble=undef
    usemymalloc=n, bincompat5005=undef
  Compiler:
    cc='cc', ccflags ='-fno-strict-aliasing -pipe -fstack-protector -I/usr/local/include -D_LARGEFILE_SOURCE -D_FILE_OFFSET_BITS=64',
    optimize='-O2 -march=native',
    cppflags='-fno-strict-aliasing -pipe -fstack-protector -I/usr/local/include'
    ccversion='', gccversion='4.8.3', gccosandvers=''
    intsize=4, longsize=8, ptrsize=8, doublesize=8, byteorder=12345678
    d_longlong=define, longlongsize=8, d_longdbl=define, longdblsize=16
    ivtype='long', ivsize=8, nvtype='double', nvsize=8, Off_t='off_t', lseeksize=8
    alignbytes=8, prototype=define
  Linker and Libraries:
    ld='cc', ldflags =' -fstack-protector -L/usr/local/lib'
    libpth=/usr/local/lib /lib/../lib64 /usr/lib/../lib64 /lib /usr/lib /lib64 /usr/lib64 /usr/local/lib64
    libs=-lnsl -lgdbm -ldb -ldl -lm -lcrypt -lutil -lc -lgdbm_compat
    perllibs=-lnsl -ldl -lm -lcrypt -lutil -lc
    libc=libc-2.19.so, so=so, useshrplib=true, libperl=libperl.so
    gnulibc_version='2.19'
  Dynamic Linking:
    dlsrc=dl_dlopen.xs, dlext=so, d_dlsymun=undef, ccdlflags='-Wl,-E -Wl,-rpath,/opt/perlbrew/perls/perl-5.12.5/lib/5.12.5/x86_64-linux/CORE'
    cccdlflags='-fPIC', lddlflags='-shared -O2 -march=native -L/usr/local/lib -fstack-protector'


Characteristics of this binary (from libperl): 
  Compile-time options: PERL_DONT_CREATE_GVSV PERL_MALLOC_WRAP USE_64_BIT_ALL
                        USE_64_BIT_INT USE_LARGE_FILES USE_PERLIO
                        USE_PERL_ATOF
  Built under linux
  Compiled at Nov  2 2014 23:59:51
  %ENV:
    PERL5LIB=""
    PERL5OPT=""
    PERL5_CPANPLUS_IS_RUNNING="28182"
    PERL5_CPAN_IS_RUNNING="28182"
    PERLBREW_BASHRC_VERSION="0.73"
    PERLBREW_HOME="/home/pk/.perlbrew"
    PERLBREW_LIB=""
    PERLBREW_MANPATH="/opt/perlbrew/perls/perl-5.12.5/man"
    PERLBREW_PATH="/opt/perlbrew/bin:/opt/perlbrew/perls/perl-5.12.5/bin"
    PERLBREW_PERL="perl-5.12.5"
    PERLBREW_ROOT="/opt/perlbrew"
    PERLBREW_VERSION="0.73"
    PERL_LOCAL_LIB_ROOT=""
  @INC:
    /opt/perlbrew/perls/perl-5.12.5/lib/site_perl/5.12.5/x86_64-linux
    /opt/perlbrew/perls/perl-5.12.5/lib/site_perl/5.12.5
    /opt/perlbrew/perls/perl-5.12.5/lib/5.12.5/x86_64-linux
    /opt/perlbrew/perls/perl-5.12.5/lib/5.12.5
    .