Back
From: metabase:user:e7b34f46-36ca-11e0-a826-945c7ca43f85
Subject: PASS Directory-Scratch-Structured-0.04 v5.12.2 Dragonfly BSD
Date: 2011-07-17T08:11:01Z
This distribution has been tested as part of the CPAN Testers
project, supporting the Perl programming language. See
http://wiki.cpantesters.org/ for more information or email
questions to cpan-testers-discuss@perl.org
--
Dear Nadim Ibn Hamouda El Khemir,
This is a computer-generated report for Directory-Scratch-Structured-0.04
on perl 5.12.2, created by CPAN-Reporter-1.1902.
Thank you for uploading your work to CPAN. Congratulations!
All tests were successful.
Sections of this report:
* Tester comments
* Program output
* Prerequisites
* Environment and other context
------------------------------
TESTER COMMENTS
------------------------------
Additional comments from tester:
this report is from an automated smoke testing program
and was not reviewed by a human for accuracy
------------------------------
PROGRAM OUTPUT
------------------------------
Output from './Build test':
t/001_0_load.t ......... ok
t/001_1_load.t ......... ok
t/004_create.t ......... ok
t/005_bad_arguments.t .. ok
All tests successful.
Files=4, Tests=18, 0 wallclock secs ( 0.03 usr 0.06 sys + 0.67 cusr 0.22 csys = 0.98 CPU)
Result: PASS
------------------------------
PREREQUISITES
------------------------------
Prerequisite modules loaded:
requires:
Module Need Have
------------------ ---- -----
Data::TreeDumper 0 0.40
Directory::Scratch 0 0.14
Readonly 0 1.03
Sub::Exporter 0 0.982
Sub::Install 0 0.925
Test::Block 0 0.11
Test::Exception 0 0.31
Test::NoWarnings 0 1.02
! Test::Strict 0 n/a
Test::Warn 0 0.23
------------------------------
ENVIRONMENT AND OTHER CONTEXT
------------------------------
Environment variables:
AUTOMATED_TESTING = 1
PATH = /home/cpan/perl5/bin:/usr/bin:/bin:/usr/pkg/bin:/usr/local/bin
PERL5LIB = /home/cpan/perl5/lib/perl5/x86_64-dragonfly-thread-multi:/home/cpan/perl5/lib/perl5
PERL5OPT =
PERL5_CPANPLUS_IS_RUNNING = 59111
PERL5_CPAN_IS_RUNNING = 59111
PERL5_CPAN_IS_RUNNING_IN_RECURSION = 39236,59111
PERL_CR_SMOKER_CURRENT = Module-Text-Template-Build-0.05.10
PERL_EXTUTILS_AUTOINSTALL = --defaultdeps
PERL_LOCAL_LIB_ROOT = /home/cpan/perl5
PERL_MB_OPT = --install_base /home/cpan/perl5
PERL_MM_OPT = INSTALL_BASE=/home/cpan/perl5
PERL_MM_USE_DEFAULT = 1
TERM = cons25
Perl special variables (and OS-specific diagnostics, for MSWin32):
$^X = /usr/pkg/bin/perl
$UID/$EUID = 0 / 0
$GID = 0 0
$EGID = 0 0
Perl module toolchain versions installed:
Module Have
------------------- --------
CPAN 1.97_51
Cwd 3.33
ExtUtils::CBuilder 0.280202
ExtUtils::Command 1.16
ExtUtils::Install 1.55
ExtUtils::MakeMaker 6.58
ExtUtils::Manifest 1.58
ExtUtils::ParseXS 3.00_02
File::Spec 3.33
Module::Build 0.3800
Module::Signature 0.68
Test::Harness 3.23
Test::More 0.98
YAML 0.73
YAML::Syck 1.17
version 0.91
--
Summary of my perl5 (revision 5 version 12 subversion 2) configuration:
Platform:
osname=dragonfly, osvers=2.10-release, archname=x86_64-dragonfly-thread-multi
uname='dragonfly pkgbox64.dragonflybsd.org 2.10-release dragonfly v2.10.1.1.gf7ba0-release #9: mon apr 25 12:15:59 pdt 2011 root@pkgbox64.dragonflybsd.org:usrobjusrsrcsyspkgbox64 x86_64 '
config_args='-sde -D ccflags= -pthread -I/usr/include -D ldflags= -L/usr/lib -Wl,-R/usr/lib -Wl,-R/usr/pkg/lib -Duseshrplib -Duseithreads -Uusemymalloc'
hint=recommended, useposix=true, d_sigaction=define
useithreads=define, usemultiplicity=define
useperlio=define, d_sfio=undef, uselargefiles=define, usesocks=undef
use64bitint=define, use64bitall=define, uselongdouble=undef
usemymalloc=n, bincompat5005=undef
Compiler:
cc='cc', ccflags ='-pthread -I/usr/include -DHAS_FPSETMASK -DHAS_FLOATINGPOINT_H -fno-strict-aliasing -pipe -fstack-protector -I/usr/local/include',
optimize=' -pthread -I/usr/include',
cppflags='-pthread -I/usr/include -DHAS_FPSETMASK -DHAS_FLOATINGPOINT_H -fno-strict-aliasing -pipe -fstack-protector -I/usr/local/include'
ccversion='', gccversion='4.4.5', gccosandvers=''
intsize=4, longsize=8, ptrsize=8, doublesize=8, byteorder=12345678
d_longlong=define, longlongsize=8, d_longdbl=define, longdblsize=16
ivtype='long', ivsize=8, nvtype='double', nvsize=8, Off_t='off_t', lseeksize=8
alignbytes=8, prototype=define
Linker and Libraries:
ld='cc', ldflags ='-Wl,-R/usr/pkg/lib -pthread -Wl,-E -fstack-protector'
libpth=/usr/lib /usr/local/lib
libs=-lm -lcrypt -lpthread -lrt
perllibs=-lm -lcrypt -lpthread -lrt
libc=, so=so, useshrplib=true, libperl=libperl.so
gnulibc_version=''
Dynamic Linking:
dlsrc=dl_dlopen.xs, dlext=so, d_dlsymun=undef, ccdlflags=' -Wl,-R/usr/pkg/lib/perl5/5.12.0/x86_64-dragonfly-thread-multi/CORE'
cccdlflags='-DPIC -fPIC', lddlflags='-Wl,-R/usr/pkg/lib -shared -L/usr/local/lib -fstack-protector'
Characteristics of this binary (from libperl):
Compile-time options: MULTIPLICITY PERL_DONT_CREATE_GVSV
PERL_IMPLICIT_CONTEXT PERL_MALLOC_WRAP USE_64_BIT_ALL
USE_64_BIT_INT USE_ITHREADS USE_LARGE_FILES
USE_PERLIO USE_PERL_ATOF USE_REENTRANT_API
Built under dragonfly
Compiled at Apr 25 2011 23:58:51
%ENV:
PERL5LIB="/home/cpan/perl5/lib/perl5/x86_64-dragonfly-thread-multi:/home/cpan/perl5/lib/perl5"
PERL5OPT=""
PERL5_CPANPLUS_IS_RUNNING="59111"
PERL5_CPAN_IS_RUNNING="59111"
PERL5_CPAN_IS_RUNNING_IN_RECURSION="39236,59111"
PERL_CR_SMOKER_CURRENT="Module-Text-Template-Build-0.05.10"
PERL_EXTUTILS_AUTOINSTALL="--defaultdeps"
PERL_LOCAL_LIB_ROOT="/home/cpan/perl5"
PERL_MB_OPT="--install_base /home/cpan/perl5"
PERL_MM_OPT="INSTALL_BASE=/home/cpan/perl5"
PERL_MM_USE_DEFAULT="1"
@INC:
/home/cpan/perl5/lib/perl5/x86_64-dragonfly-thread-multi
/home/cpan/perl5/lib/perl5/x86_64-dragonfly-thread-multi
/home/cpan/perl5/lib/perl5
/usr/pkg/lib/perl5/site_perl/5.12.0/x86_64-dragonfly-thread-multi
/usr/pkg/lib/perl5/site_perl/5.12.0
/usr/pkg/lib/perl5/vendor_perl/5.12.0/x86_64-dragonfly-thread-multi
/usr/pkg/lib/perl5/vendor_perl/5.12.0
/usr/pkg/lib/perl5/5.12.0/x86_64-dragonfly-thread-multi
/usr/pkg/lib/perl5/5.12.0
.