AnyEvent-Filesys-Notify v1.21 Perl 5 v5.22.2 x86_64-linux

Status
Pass
From
Slaven Rezić (SREZIC)
Dist
AnyEvent-Filesys-Notify v1.21
Platform
Perl 5 v5.22.2 x86_64-linux
Date
2017-09-24 07:16:40
ID
4f59b236-a0f8-11e7-a2ac-b990ac3bd00c
This distribution has been tested as part of the CPAN Testers
project, supporting the Perl programming language.  See
http://wiki.cpantesters.org/ for more information or email
questions to cpan-testers-discuss@perl.org


--
Dear Mark Grimes,

This is a computer-generated report for AnyEvent-Filesys-Notify-1.21
on perl 5.22.2, created by CPAN-Reporter-1.2017.

Thank you for uploading your work to CPAN.  Congratulations!
All tests were successful.

Sections of this report:

    * Tester comments
    * Program output
    * Prerequisites
    * Environment and other context

------------------------------
TESTER COMMENTS
------------------------------

Additional comments from tester:

none provided

------------------------------
PROGRAM OUTPUT
------------------------------

Output from './Build test':

t/00-load.t ................ ok
t/10-plugins.t ............. ok
t/11-plugin-default.t ...... ok
t/20-scan_fs.t ............. ok
t/21-scan_fs_links.t ....... ok
# This might take a few seconds to run...
t/30-event.t ............... ok
# This might take a few seconds to run...
t/31-notify-fallback.t ..... ok
# This might take a few seconds to run...
t/32-specify-backend.t ..... ok
t/33-specify-kqueue.t ...... skipped: Test only on Mac with IO::KQueue
# This might take a few seconds to run...
t/34-parse_events.t ........ ok
t/40-bugs.t ................ ok
t/41-bug-modified-in-cb.t .. ok
All tests successful.
Files=12, Tests=93, 12 wallclock secs ( 0.03 usr  0.00 sys +  1.20 cusr  0.12 csys =  1.35 CPU)
Result: PASS

------------------------------
PREREQUISITES
------------------------------

Prerequisite modules loaded:

requires:

    Module                       Need     Have    
    ---------------------------- -------- --------
    AnyEvent                     7.05     7.13    
    Carp                         1.20     1.36    
    Cwd                          3.40     3.56_01 
    Linux::Inotify2              1.22     1.22    
    Moo                          1.003001 2.001001
    MooX::late                   0.014    0.015   
    MooX::Types::MooseLike::Base 0.25     0.29    
    namespace::autoclean         0.24     0.28    
    Path::Iterator::Rule         1.005    1.012   
    perl                         5.006    5.022002
    Try::Tiny                    0.18     0.24    

build_requires:

    Module                       Need     Have    
    ---------------------------- -------- --------
    autodie                      0        2.26    
    Data::Dump                   0        1.23    
    Exporter                     0        5.72    
    File::Basename               0        2.85    
    File::Find                   0        1.29    
    File::Path                   0        2.09    
    File::Spec                   0        3.56_01 
    File::Temp                   0        0.2304  
    Test::Exception              0        0.43    
    Test::More                   0.87     1.302026
    Test::Without::Module        0        0.18    

configure_requires:

    Module                       Need     Have    
    ---------------------------- -------- --------
    Module::Build                0.4004   0.4218  


------------------------------
ENVIRONMENT AND OTHER CONTEXT
------------------------------

Environment variables:

    LANG = en_US.UTF-8
    PATH = /usr/local/bin:/usr/bin:/bin:/usr/local/sbin:/usr/sbin:/sbin:/home/eserte/bin/linux-gnu:/home/eserte/bin/sh:/home/eserte/bin:/home/eserte/bin/pistachio-perl/bin:/usr/games:/home/eserte/devel:/home/eserte/src/srezic-misc/scripts
    PERL5LIB = /home/eserte/.cpan/build/2017092406/MooX-Types-MooseLike-0.29-d6_OjG/blib/arch:/home/eserte/.cpan/build/2017092406/MooX-Types-MooseLike-0.29-d6_OjG/blib/lib:/home/eserte/.cpan/build/2017092406/MooX-late-0.015-pSPQft/blib/arch:/home/eserte/.cpan/build/2017092406/MooX-late-0.015-pSPQft/blib/lib:/home/eserte/.cpan/build/2017092406/Path-Iterator-Rule-1.012-Nl1ejv/blib/arch:/home/eserte/.cpan/build/2017092406/Path-Iterator-Rule-1.012-Nl1ejv/blib/lib:/home/eserte/.cpan/build/2017092406/Test-Filename-0.03-yKJbbE/blib/arch:/home/eserte/.cpan/build/2017092406/Test-Filename-0.03-yKJbbE/blib/lib
    PERL5OPT = 
    PERL5_CPANPLUS_IS_RUNNING = 27091
    PERL5_CPAN_IS_RUNNING = 27091
    PERL5_CPAN_IS_RUNNING_IN_RECURSION = 12490,27091
    PERLDOC = -MPod::Perldoc::ToTextOverstrike
    PERL_BATCH = yes
    PERL_CANARY_STABILITY_NOPROMPT = 1
    PERL_CPAN_REPORTER_CONFIG = /var/tmp/cpansmoker-1000/2017092406/cpanreporter_000_config.ini
    PERL_EXTUTILS_AUTOINSTALL = --defaultdeps
    SHELL = /bin/zsh
    STDPERL = perl
    TERM = xterm
    TMPDIR = /var/tmp/cpansmoker-1000/2017092406

Perl special variables (and OS-specific diagnostics, for MSWin32):

    $^X = /opt/perl-5.22.2/bin/perl
    $UID/$EUID = 1000 / 1000
    $GID = 1000 4 24 25 27 29 30 44 46 108 111 115 128 1000 1024
    $EGID = 1000 4 24 25 27 29 30 44 46 108 111 115 128 1000 1024

Perl module toolchain versions installed:

    Module              Have    
    ------------------- --------
    CPAN                2.11    
    CPAN::Meta          2.150001
    Cwd                 3.56_01 
    ExtUtils::CBuilder  0.280221
    ExtUtils::Command   1.20    
    ExtUtils::Install   2.04    
    ExtUtils::MakeMaker 7.04_01 
    ExtUtils::Manifest  1.70    
    ExtUtils::ParseXS   3.28    
    File::Spec          3.56_01 
    JSON                2.90    
    JSON::PP            2.27300 
    Module::Build       0.4218  
    Module::Signature   n/a     
    Parse::CPAN::Meta   1.4414  
    Test::Harness       3.35    
    Test::More          1.302026
    YAML                1.15    
    YAML::Syck          1.29    
    version             0.9909  


--

Summary of my perl5 (revision 5 version 22 subversion 2) configuration:
   
  Platform:
    osname=linux, osvers=3.16.0-4-amd64, archname=x86_64-linux
    uname='linux cabulja 3.16.0-4-amd64 #1 smp debian 3.16.7-ckt25-2 (2016-04-08) x86_64 gnulinux '
    config_args='-ds -e -Dprefix=/opt/perl-5.22.2 -Dcf_email=srezic@cpan.org'
    hint=recommended, useposix=true, d_sigaction=define
    useithreads=undef, usemultiplicity=undef
    use64bitint=define, use64bitall=define, uselongdouble=undef
    usemymalloc=n, bincompat5005=undef
  Compiler:
    cc='cc', ccflags ='-fwrapv -fno-strict-aliasing -pipe -fstack-protector-strong -I/usr/local/include -D_LARGEFILE_SOURCE -D_FILE_OFFSET_BITS=64 -D_FORTIFY_SOURCE=2',
    optimize='-O2',
    cppflags='-fwrapv -fno-strict-aliasing -pipe -fstack-protector-strong -I/usr/local/include'
    ccversion='', gccversion='4.9.2', gccosandvers=''
    intsize=4, longsize=8, ptrsize=8, doublesize=8, byteorder=12345678, doublekind=3
    d_longlong=define, longlongsize=8, d_longdbl=define, longdblsize=16, longdblkind=3
    ivtype='long', ivsize=8, nvtype='double', nvsize=8, Off_t='off_t', lseeksize=8
    alignbytes=8, prototype=define
  Linker and Libraries:
    ld='cc', ldflags =' -fstack-protector-strong -L/usr/local/lib'
    libpth=/usr/local/lib /usr/lib/gcc/x86_64-linux-gnu/4.9/include-fixed /usr/include/x86_64-linux-gnu /usr/lib /lib/x86_64-linux-gnu /lib/../lib /usr/lib/x86_64-linux-gnu /usr/lib/../lib /lib
    libs=-lpthread -lnsl -lgdbm -ldb -ldl -lm -lcrypt -lutil -lc -lgdbm_compat
    perllibs=-lpthread -lnsl -ldl -lm -lcrypt -lutil -lc
    libc=libc-2.19.so, so=so, useshrplib=false, libperl=libperl.a
    gnulibc_version='2.19'
  Dynamic Linking:
    dlsrc=dl_dlopen.xs, dlext=so, d_dlsymun=undef, ccdlflags='-Wl,-E'
    cccdlflags='-fPIC', lddlflags='-shared -O2 -L/usr/local/lib -fstack-protector-strong'


Characteristics of this binary (from libperl): 
  Compile-time options: HAS_TIMES PERLIO_LAYERS PERL_DONT_CREATE_GVSV
                        PERL_HASH_FUNC_ONE_AT_A_TIME_HARD PERL_MALLOC_WRAP
                        PERL_NEW_COPY_ON_WRITE PERL_PRESERVE_IVUV
                        USE_64_BIT_ALL USE_64_BIT_INT USE_LARGE_FILES
                        USE_LOCALE USE_LOCALE_COLLATE USE_LOCALE_CTYPE
                        USE_LOCALE_NUMERIC USE_LOCALE_TIME USE_PERLIO
                        USE_PERL_ATOF
  Built under linux
  Compiled at May 28 2016 08:20:06
  %ENV:
    PERL5LIB="/home/eserte/.cpan/build/2017092406/MooX-Types-MooseLike-0.29-d6_OjG/blib/arch:/home/eserte/.cpan/build/2017092406/MooX-Types-MooseLike-0.29-d6_OjG/blib/lib:/home/eserte/.cpan/build/2017092406/MooX-late-0.015-pSPQft/blib/arch:/home/eserte/.cpan/build/2017092406/MooX-late-0.015-pSPQft/blib/lib:/home/eserte/.cpan/build/2017092406/Path-Iterator-Rule-1.012-Nl1ejv/blib/arch:/home/eserte/.cpan/build/2017092406/Path-Iterator-Rule-1.012-Nl1ejv/blib/lib:/home/eserte/.cpan/build/2017092406/Test-Filename-0.03-yKJbbE/blib/arch:/home/eserte/.cpan/build/2017092406/Test-Filename-0.03-yKJbbE/blib/lib"
    PERL5OPT=""
    PERL5_CPANPLUS_IS_RUNNING="27091"
    PERL5_CPAN_IS_RUNNING="27091"
    PERL5_CPAN_IS_RUNNING_IN_RECURSION="12490,27091"
    PERLDOC="-MPod::Perldoc::ToTextOverstrike"
    PERL_BATCH="yes"
    PERL_CANARY_STABILITY_NOPROMPT="1"
    PERL_CPAN_REPORTER_CONFIG="/var/tmp/cpansmoker-1000/2017092406/cpanreporter_000_config.ini"
    PERL_EXTUTILS_AUTOINSTALL="--defaultdeps"
  @INC:
    /home/eserte/.cpan/build/2017092406/MooX-Types-MooseLike-0.29-d6_OjG/blib/arch
    /home/eserte/.cpan/build/2017092406/MooX-Types-MooseLike-0.29-d6_OjG/blib/lib
    /home/eserte/.cpan/build/2017092406/MooX-late-0.015-pSPQft/blib/arch
    /home/eserte/.cpan/build/2017092406/MooX-late-0.015-pSPQft/blib/lib
    /home/eserte/.cpan/build/2017092406/Path-Iterator-Rule-1.012-Nl1ejv/blib/arch
    /home/eserte/.cpan/build/2017092406/Path-Iterator-Rule-1.012-Nl1ejv/blib/lib
    /home/eserte/.cpan/build/2017092406/Test-Filename-0.03-yKJbbE/blib/arch
    /home/eserte/.cpan/build/2017092406/Test-Filename-0.03-yKJbbE/blib/lib
    /opt/perl-5.22.2/lib/site_perl/5.22.2/x86_64-linux
    /opt/perl-5.22.2/lib/site_perl/5.22.2
    /opt/perl-5.22.2/lib/5.22.2/x86_64-linux
    /opt/perl-5.22.2/lib/5.22.2
    .