Back
From: metabase:user:314402c4-2aae-11df-837a-5e0a49663a4f
Subject: PASS Lingua-Stem-Patch-0.06 v5.18.4 FreeBSD
Date: 2016-03-03T18:18:20Z
This distribution has been tested as part of the CPAN Testers
project, supporting the Perl programming language. See
http://wiki.cpantesters.org/ for more information or email
questions to cpan-testers-discuss@perl.org
--
Dear Nova Patch,
This is a computer-generated report for Lingua-Stem-Patch-0.06
on perl 5.18.4, created by CPAN-Reporter-1.2016.
Thank you for uploading your work to CPAN. Congratulations!
All tests were successful.
Sections of this report:
* Tester comments
* Program output
* Prerequisites
* Environment and other context
------------------------------
TESTER COMMENTS
------------------------------
Additional comments from tester:
none provided
------------------------------
PROGRAM OUTPUT
------------------------------
Output from './Build test':
# Lingua::Stem::Patch v0.06, Perl v5.18.4 (/usr/perl5.18.4p/bin/perl5.18.4)
t/00-load.t ........ ok
t/01-stemmer.t ..... ok
t/eo-aggressive.t .. ok
t/eo-roots.t ....... ok
t/eo.t ............. ok
t/io-aggressive.t .. ok
t/io-roots.t ....... ok
t/io.t ............. ok
t/pl.t ............. ok
All tests successful.
Files=9, Tests=886, 8 wallclock secs ( 0.56 usr 0.15 sys + 2.70 cusr 0.58 csys = 3.99 CPU)
Result: PASS
------------------------------
PREREQUISITES
------------------------------
Prerequisite modules loaded:
requires:
Module Need Have
----------------- -------- --------
Carp 0 1.38
Exporter 0 5.72
Moo 1.001000 2.000002
namespace::clean 0 0.26
parent 0 0.234
perl v5.8.1 5.018004
strict 0 1.07
utf8 0 1.10
warnings 0 1.18
build_requires:
Module Need Have
----------------- -------- --------
English 0 1.06_01
open 0 1.10
Pod::Man 2.04 4.05
String::Dump 0.05 0.09
Test::More 0.82 1.001014
configure_requires:
Module Need Have
----------------- -------- --------
Module::Build 0.4004 0.4214
Software::License 0 0.103010
------------------------------
ENVIRONMENT AND OTHER CONTEXT
------------------------------
Environment variables:
LC_ALL = de_DE.ISO8859-1
PATH = /usr/local/bin:/usr/bin:/bin:/usr/local/sbin:/usr/sbin:/sbin:/home/cpansand/bin/freebsd10.1:/home/cpansand/bin/sh:/home/cpansand/bin:/usr/games:/home/cpansand/devel:/home/eserte/src/srezic-misc/scripts
PERL5LIB = /home/cpansand/.cpan/build/2016030318/Lingua-Stem-Snowball-0.952-p7FZEG/blib/arch:/home/cpansand/.cpan/build/2016030318/Lingua-Stem-Snowball-0.952-p7FZEG/blib/lib:/home/cpansand/.cpan/build/2016030318/Lingua-Stem-UniNE-0.08-r_Z6aH/blib/arch:/home/cpansand/.cpan/build/2016030318/Lingua-Stem-UniNE-0.08-r_Z6aH/blib/lib:/home/cpansand/.cpan/build/2016030318/String-Dump-0.09-g9Er1m/blib/arch:/home/cpansand/.cpan/build/2016030318/String-Dump-0.09-g9Er1m/blib/lib
PERL5OPT =
PERL5_CPANPLUS_IS_RUNNING = 58208
PERL5_CPAN_IS_RUNNING = 58208
PERL5_CPAN_IS_RUNNING_IN_RECURSION = 58196,58208
PERLDOC = -MPod::Perldoc::ToTextOverstrike
PERL_BATCH = yes
PERL_CANARY_STABILITY_NOPROMPT = 1
PERL_CPAN_REPORTER_CONFIG = /var/tmp/cpansmoker-1023/2016030318/cpanreporter_001_config.ini
PERL_EXTUTILS_AUTOINSTALL = --defaultdeps
SHELL = /usr/local/bin/zsh
TERM = screen
TMPDIR = /var/tmp/cpansmoker-1023/2016030318
Perl special variables (and OS-specific diagnostics, for MSWin32):
$^X = /usr/perl5.18.4p/bin/perl5.18.4
$UID/$EUID = 1023 / 1023
$GID = 1023 1023
$EGID = 1023 1023
Perl module toolchain versions installed:
Module Have
------------------- --------
CPAN 2.00
CPAN::Meta 2.150005
Cwd 3.60
ExtUtils::CBuilder 0.280224
ExtUtils::Command 7.10
ExtUtils::Install 1.59
ExtUtils::MakeMaker 7.10
ExtUtils::Manifest 1.70
ExtUtils::ParseXS 3.24
File::Spec 3.60
JSON 2.90
JSON::PP 2.27300
Module::Build 0.4214
Module::Signature 0.79
Parse::CPAN::Meta 1.4417
Test::Harness 3.35
Test::More 1.001014
YAML 1.15
YAML::Syck 1.29
version 0.9914
--
Summary of my perl5 (revision 5 version 18 subversion 4) configuration:
Platform:
osname=freebsd, osvers=10.1-release, archname=amd64-freebsd
uname='freebsd cvrsnica-freebsd-101.herceg.de 10.1-release freebsd 10.1-release #0 r274401: tue nov 11 21:02:49 utc 2014 root@releng1.nyi.freebsd.org:usrobjusrsrcsysgeneric amd64 '
config_args='-ds -e -Dprefix=/usr/perl5.18.4p'
hint=recommended, useposix=true, d_sigaction=define
useithreads=undef, usemultiplicity=undef
useperlio=define, d_sfio=undef, uselargefiles=define, usesocks=undef
use64bitint=define, use64bitall=define, uselongdouble=undef
usemymalloc=n, bincompat5005=undef
Compiler:
cc='cc', ccflags ='-DHAS_FPSETMASK -DHAS_FLOATINGPOINT_H -fno-strict-aliasing -pipe -fstack-protector -I/usr/local/include',
optimize='-O',
cppflags='-DHAS_FPSETMASK -DHAS_FLOATINGPOINT_H -fno-strict-aliasing -pipe -fstack-protector -I/usr/local/include'
ccversion='', gccversion='4.2.1 Compatible FreeBSD Clang 3.4.1 (tags/RELEASE_34/dot1-final 208032)', gccosandvers=''
intsize=4, longsize=8, ptrsize=8, doublesize=8, byteorder=12345678
d_longlong=define, longlongsize=8, d_longdbl=define, longdblsize=16
ivtype='long', ivsize=8, nvtype='double', nvsize=8, Off_t='off_t', lseeksize=8
alignbytes=8, prototype=define
Linker and Libraries:
ld='cc', ldflags ='-pthread -Wl,-E -fstack-protector -L/usr/local/lib'
libpth=/usr/lib /usr/local/lib
libs=-lgdbm -lm -lcrypt -lutil -lc
perllibs=-lm -lcrypt -lutil -lc
libc=, so=so, useshrplib=false, libperl=libperl.a
gnulibc_version=''
Dynamic Linking:
dlsrc=dl_dlopen.xs, dlext=so, d_dlsymun=undef, ccdlflags=' '
cccdlflags='-DPIC -fPIC', lddlflags='-shared -L/usr/local/lib -fstack-protector'
Characteristics of this binary (from libperl):
Compile-time options: HAS_TIMES PERLIO_LAYERS PERL_DONT_CREATE_GVSV
PERL_HASH_FUNC_ONE_AT_A_TIME_HARD PERL_MALLOC_WRAP
PERL_PRESERVE_IVUV PERL_SAWAMPERSAND USE_64_BIT_ALL
USE_64_BIT_INT USE_LARGE_FILES USE_LOCALE
USE_LOCALE_COLLATE USE_LOCALE_CTYPE
USE_LOCALE_NUMERIC USE_PERLIO USE_PERL_ATOF
Built under freebsd
Compiled at Apr 4 2015 13:03:15
%ENV:
PERL5LIB="/home/cpansand/.cpan/build/2016030318/Lingua-Stem-Snowball-0.952-p7FZEG/blib/arch:/home/cpansand/.cpan/build/2016030318/Lingua-Stem-Snowball-0.952-p7FZEG/blib/lib:/home/cpansand/.cpan/build/2016030318/Lingua-Stem-UniNE-0.08-r_Z6aH/blib/arch:/home/cpansand/.cpan/build/2016030318/Lingua-Stem-UniNE-0.08-r_Z6aH/blib/lib:/home/cpansand/.cpan/build/2016030318/String-Dump-0.09-g9Er1m/blib/arch:/home/cpansand/.cpan/build/2016030318/String-Dump-0.09-g9Er1m/blib/lib"
PERL5OPT=""
PERL5_CPANPLUS_IS_RUNNING="58208"
PERL5_CPAN_IS_RUNNING="58208"
PERL5_CPAN_IS_RUNNING_IN_RECURSION="58196,58208"
PERLDOC="-MPod::Perldoc::ToTextOverstrike"
PERL_BATCH="yes"
PERL_CANARY_STABILITY_NOPROMPT="1"
PERL_CPAN_REPORTER_CONFIG="/var/tmp/cpansmoker-1023/2016030318/cpanreporter_001_config.ini"
PERL_EXTUTILS_AUTOINSTALL="--defaultdeps"
@INC:
/home/cpansand/.cpan/build/2016030318/Lingua-Stem-Snowball-0.952-p7FZEG/blib/arch
/home/cpansand/.cpan/build/2016030318/Lingua-Stem-Snowball-0.952-p7FZEG/blib/lib
/home/cpansand/.cpan/build/2016030318/Lingua-Stem-UniNE-0.08-r_Z6aH/blib/arch
/home/cpansand/.cpan/build/2016030318/Lingua-Stem-UniNE-0.08-r_Z6aH/blib/lib
/home/cpansand/.cpan/build/2016030318/String-Dump-0.09-g9Er1m/blib/arch
/home/cpansand/.cpan/build/2016030318/String-Dump-0.09-g9Er1m/blib/lib
/usr/perl5.18.4p/lib/site_perl/5.18.4/amd64-freebsd
/usr/perl5.18.4p/lib/site_perl/5.18.4
/usr/perl5.18.4p/lib/5.18.4/amd64-freebsd
/usr/perl5.18.4p/lib/5.18.4
.