Perlbal v1.80 Perl 5 v5.18.4 x86_64-linux-thread-multi

Status
Pass
From
Slaven Rezić (SREZIC)
Dist
Perlbal v1.80
Platform
Perl 5 v5.18.4 x86_64-linux-thread-multi
Date
2017-12-11 11:56:23
ID
4f11ab08-de6a-11e7-a100-d384b6bd62d9
This distribution has been tested as part of the CPAN Testers
project, supporting the Perl programming language.  See
http://wiki.cpantesters.org/ for more information or email
questions to cpan-testers-discuss@perl.org


--
Dear Alan Kasindorf,

This is a computer-generated report for Perlbal-1.80
on perl 5.18.4, created by CPAN-Reporter-1.2018.

Thank you for uploading your work to CPAN.  Congratulations!
All tests were successful.

Sections of this report:

    * Tester comments
    * Program output
    * Prerequisites
    * Environment and other context

------------------------------
TESTER COMMENTS
------------------------------

Additional comments from tester:

none provided

------------------------------
PROGRAM OUTPUT
------------------------------

Output from '/usr/bin/make test':

PERL_DL_NONLAZY=1 /bbbike/perl-5.18.4t/bin/perl "-MExtUtils::Command::MM" "-e" "test_harness(0, 'blib/lib', 'blib/arch')" t/*.t
t/00-use.t ............... ok
t/10-testharness.t ....... ok
t/12-headers.t ........... ok
t/13-server-tokens.t ..... ok
t/15-webserver.t ......... ok
t/17-webserver-concat.t .. ok
Manage command failed: 'SERVER aio_mode = ioaio' 'ERROR: IO::AIO not available
'
Manage command failed: 'SERVER aio_mode = ioaio' 'ERROR: IO::AIO not available
'
Manage command failed: 'SERVER aio_mode = ioaio' 'ERROR: IO::AIO not available
'
t/20-put.t ............... ok
# Writing: 500
# Writing: 5
# Writing: 5
# Writing: 5
# Writing: 100000
# Writing: 60000
# Writing: 1000
# Writing: 338485
t/22-chunked-put.t ....... ok
t/30-reverseproxy.t ...... ok
t/31-realworld.t ......... ok
# separator length 2
# separator length 0
500 response!
t/32-pipelining.t ........ ok
t/32-selector.t .......... ok
Manage command failed: 'SERVER aio_mode = ioaio' 'ERROR: IO::AIO not available
'
t/35-reproxy.t ........... ok
Manage command failed: 'SERVER aio_mode = ioaio' 'ERROR: IO::AIO not available
'
Manage command failed: 'SERVER aio_mode = ioaio' 'ERROR: IO::AIO not available
'
t/40-ranges.t ............ ok
t/45-buffereduploads.t ... ok
t/50-plugins.t ........... ok
t/52-chunked-upload.t .... ok
t/60-child-httpd.t ....... skipped: Alpha feature; test skipped without $ENV{PERLBAL_TEST_ALPHA}
t/75-plugin-include.t .... ok
t/76-plugin-redirect.t ... ok
t/77-plugin-throttle.t ... ok
t/78-plugin-xffextras.t .. ok
t/90-accesscontrol.t ..... skipped: Net::Netmask not installed
t/91-fields.t ............ ok
t/99-benchmark-bool.t .... ok
All tests successful.
Files=25, Tests=525, 56 wallclock secs ( 0.09 usr  0.10 sys +  2.79 cusr  0.62 csys =  3.60 CPU)
Result: PASS

------------------------------
PREREQUISITES
------------------------------

Prerequisite modules loaded:

requires:

    Module              Need Have    
    ------------------- ---- --------
    base                0    2.18    
    BSD::Resource       0    1.2911  
    Carp                0    1.29    
    constant            0    1.27    
    Danga::Socket       1.44 1.61    
    Errno               0    1.18    
    Exporter            0    5.68    
    Fcntl               0    1.11    
    fields              0    2.16    
    File::Path          0    2.09    
    File::Temp          0    0.23    
    FindBin             0    1.51    
    Getopt::Long        0    2.39    
    Hash::Util          0    0.16    
    HTTP::Date          0    6.02    
    HTTP::Request       0    6.11    
    HTTP::Response      0    6.11    
    IO::File            0    1.16    
    IO::Handle          0    1.34    
    IO::Select          0    1.21    
    IO::Socket::INET    0    1.33    
    lib                 0    0.63    
    LWP::UserAgent      0    6.15    
    Scalar::Util        0    1.27    
    Socket              0    2.009   
    strict              0    1.07    
    Sys::Syscall        0    0.25    
    Test::More          0.94 1.302086
    Time::HiRes         0    1.9725  
    vars                0    1.03    
    warnings            0    1.18    

build_requires:

    Module              Need Have    
    ------------------- ---- --------
    ExtUtils::MakeMaker 0    6.66    

configure_requires:

    Module              Need Have    
    ------------------- ---- --------
    ExtUtils::MakeMaker 0    6.66    


------------------------------
ENVIRONMENT AND OTHER CONTEXT
------------------------------

Environment variables:

    LANG = C
    PATH = /usr/local/bin:/usr/bin:/bin:/usr/local/sbin:/usr/sbin:/sbin:/home/cpansand/bin/linux-gnu:/home/cpansand/bin/sh:/home/cpansand/bin:/usr/games:/home/cpansand/devel:/home/eserte/src/srezic-misc/scripts
    PERL5LIB = /home/cpansand/.cpan/build/2017121109/BSD-Resource-1.2911-1V_L0T/blib/arch:/home/cpansand/.cpan/build/2017121109/BSD-Resource-1.2911-1V_L0T/blib/lib:/home/cpansand/.cpan/build/2017121109/Danga-Socket-1.61-YtugSI/blib/arch:/home/cpansand/.cpan/build/2017121109/Danga-Socket-1.61-YtugSI/blib/lib:/home/cpansand/.cpan/build/2017121109/Sys-Syscall-0.25-KX3yRQ/blib/arch:/home/cpansand/.cpan/build/2017121109/Sys-Syscall-0.25-KX3yRQ/blib/lib
    PERL5OPT = 
    PERL5_CPANPLUS_IS_RUNNING = 23608
    PERL5_CPAN_IS_RUNNING = 23608
    PERL5_CPAN_IS_RUNNING_IN_RECURSION = 13024,23608
    PERLDOC = -MPod::Perldoc::ToTextOverstrike
    PERL_BATCH = yes
    PERL_CANARY_STABILITY_NOPROMPT = 1
    PERL_CPAN_REPORTER_CONFIG = /var/tmp/cpansmoker-1023/2017121109/cpanreporter_000_config.ini
    PERL_EXTUTILS_AUTOINSTALL = --defaultdeps
    SHELL = /bin/zsh
    TERM = screen
    TMPDIR = /var/tmp/cpansmoker-1023/2017121109

Perl special variables (and OS-specific diagnostics, for MSWin32):

    $^X = /bbbike/perl-5.18.4t/bin/perl
    $UID/$EUID = 1023 / 1023
    $GID = 1023 1023
    $EGID = 1023 1023

Perl module toolchain versions installed:

    Module              Have    
    ------------------- --------
    CPAN                2.00    
    CPAN::Meta          2.150010
    Cwd                 3.40    
    ExtUtils::CBuilder  0.280210
    ExtUtils::Command   1.17    
    ExtUtils::Install   1.59    
    ExtUtils::MakeMaker 6.66    
    ExtUtils::Manifest  1.63    
    ExtUtils::ParseXS   3.18    
    File::Spec          3.40    
    JSON                n/a     
    JSON::PP            2.27400 
    Module::Build       0.4003  
    Module::Signature   n/a     
    Parse::CPAN::Meta   2.150010
    Test::Harness       3.26    
    Test::More          1.302086
    YAML                1.15    
    YAML::Syck          1.29    
    version             0.9902  


--

Summary of my perl5 (revision 5 version 18 subversion 4) configuration:
   
  Platform:
    osname=linux, osvers=3.16.0-4-amd64, archname=x86_64-linux-thread-multi
    uname='linux eserte 3.16.0-4-amd64 #1 smp debian 3.16.7-ckt25-2 (2016-04-08) x86_64 gnulinux '
    config_args='-ds -e -Dprefix=/opt/perl-5.18.4t -Dusethreads -Dcf_email=srezic@cpan.org'
    hint=recommended, useposix=true, d_sigaction=define
    useithreads=define, usemultiplicity=define
    useperlio=define, d_sfio=undef, uselargefiles=define, usesocks=undef
    use64bitint=define, use64bitall=define, uselongdouble=undef
    usemymalloc=n, bincompat5005=undef
  Compiler:
    cc='cc', ccflags ='-D_REENTRANT -D_GNU_SOURCE -fno-strict-aliasing -pipe -fstack-protector -I/usr/local/include -D_LARGEFILE_SOURCE -D_FILE_OFFSET_BITS=64',
    optimize='-O2',
    cppflags='-D_REENTRANT -D_GNU_SOURCE -fno-strict-aliasing -pipe -fstack-protector -I/usr/local/include'
    ccversion='', gccversion='4.9.2', gccosandvers=''
    intsize=4, longsize=8, ptrsize=8, doublesize=8, byteorder=12345678
    d_longlong=define, longlongsize=8, d_longdbl=define, longdblsize=16
    ivtype='long', ivsize=8, nvtype='double', nvsize=8, Off_t='off_t', lseeksize=8
    alignbytes=8, prototype=define
  Linker and Libraries:
    ld='cc', ldflags =' -fstack-protector -L/usr/local/lib'
    libpth=/usr/local/lib /lib/x86_64-linux-gnu /lib/../lib /usr/lib/x86_64-linux-gnu /usr/lib/../lib /lib /usr/lib
    libs=-lnsl -lgdbm -ldb -ldl -lm -lcrypt -lutil -lpthread -lc -lgdbm_compat
    perllibs=-lnsl -ldl -lm -lcrypt -lutil -lpthread -lc
    libc=, so=so, useshrplib=false, libperl=libperl.a
    gnulibc_version='2.19'
  Dynamic Linking:
    dlsrc=dl_dlopen.xs, dlext=so, d_dlsymun=undef, ccdlflags='-Wl,-E'
    cccdlflags='-fPIC', lddlflags='-shared -O2 -L/usr/local/lib -fstack-protector'


Characteristics of this binary (from libperl): 
  Compile-time options: HAS_TIMES MULTIPLICITY PERLIO_LAYERS
                        PERL_DONT_CREATE_GVSV
                        PERL_HASH_FUNC_ONE_AT_A_TIME_HARD
                        PERL_IMPLICIT_CONTEXT PERL_MALLOC_WRAP
                        PERL_PRESERVE_IVUV PERL_SAWAMPERSAND USE_64_BIT_ALL
                        USE_64_BIT_INT USE_ITHREADS USE_LARGE_FILES
                        USE_LOCALE USE_LOCALE_COLLATE USE_LOCALE_CTYPE
                        USE_LOCALE_NUMERIC USE_PERLIO USE_PERL_ATOF
                        USE_REENTRANT_API
  Built under linux
  Compiled at May  7 2016 17:21:50
  %ENV:
    PERL5LIB="/home/cpansand/.cpan/build/2017121109/BSD-Resource-1.2911-1V_L0T/blib/arch:/home/cpansand/.cpan/build/2017121109/BSD-Resource-1.2911-1V_L0T/blib/lib:/home/cpansand/.cpan/build/2017121109/Danga-Socket-1.61-YtugSI/blib/arch:/home/cpansand/.cpan/build/2017121109/Danga-Socket-1.61-YtugSI/blib/lib:/home/cpansand/.cpan/build/2017121109/Sys-Syscall-0.25-KX3yRQ/blib/arch:/home/cpansand/.cpan/build/2017121109/Sys-Syscall-0.25-KX3yRQ/blib/lib"
    PERL5OPT=""
    PERL5_CPANPLUS_IS_RUNNING="23608"
    PERL5_CPAN_IS_RUNNING="23608"
    PERL5_CPAN_IS_RUNNING_IN_RECURSION="13024,23608"
    PERLDOC="-MPod::Perldoc::ToTextOverstrike"
    PERL_BATCH="yes"
    PERL_CANARY_STABILITY_NOPROMPT="1"
    PERL_CPAN_REPORTER_CONFIG="/var/tmp/cpansmoker-1023/2017121109/cpanreporter_000_config.ini"
    PERL_EXTUTILS_AUTOINSTALL="--defaultdeps"
  @INC:
    /home/cpansand/.cpan/build/2017121109/BSD-Resource-1.2911-1V_L0T/blib/arch
    /home/cpansand/.cpan/build/2017121109/BSD-Resource-1.2911-1V_L0T/blib/lib
    /home/cpansand/.cpan/build/2017121109/Danga-Socket-1.61-YtugSI/blib/arch
    /home/cpansand/.cpan/build/2017121109/Danga-Socket-1.61-YtugSI/blib/lib
    /home/cpansand/.cpan/build/2017121109/Sys-Syscall-0.25-KX3yRQ/blib/arch
    /home/cpansand/.cpan/build/2017121109/Sys-Syscall-0.25-KX3yRQ/blib/lib
    /opt/perl-5.18.4t/lib/site_perl/5.18.4/x86_64-linux-thread-multi
    /opt/perl-5.18.4t/lib/site_perl/5.18.4
    /opt/perl-5.18.4t/lib/5.18.4/x86_64-linux-thread-multi
    /opt/perl-5.18.4t/lib/5.18.4
    .