Test-Routine v0.031 Perl 5 v5.38.2 aarch64-linux-ld
- Status
- Pass
- From
- Slaven Rezić
- Dist
-
Test-Routine v0.031
- Platform
- Perl 5 v5.38.2 aarch64-linux-ld
- Date
- 2025-04-16 15:13:10
- ID
- 4f06d9b2-1ad5-11f0-ac82-eed76d8775ea
This distribution has been tested as part of the CPAN Testers
project, supporting the Perl programming language. See
http://wiki.cpantesters.org/ for more information or email
questions to cpan-testers-discuss@perl.org
--
Dear Ricardo SIGNES :-),
This is a computer-generated report for Test-Routine-0.031
on perl 5.38.2, created by CPAN-Reporter-1.2020.
Thank you for uploading your work to CPAN. Congratulations!
All tests were successful.
Sections of this report:
* Tester comments
* Program output
* Prerequisites
* Environment and other context
------------------------------
TESTER COMMENTS
------------------------------
Additional comments from tester:
none provided
------------------------------
PROGRAM OUTPUT
------------------------------
Output from '/usr/bin/make test':
PERL_DL_NONLAZY=1 "/opt/perl-5.38.2D/bin/perl" "-MExtUtils::Command::MM" "-MTest::Harness" "-e" "undef *Test::Harness::Switches; test_harness(0, 'blib/lib', 'blib/arch')" t/*.t t/demo/*.t t/todo/*.t
#
# Versions for all modules listed in MYMETA.json (including optional ones):
#
# === Configure Requires ===
#
# Module Want Have
# ------------------- ---- ----
# ExtUtils::MakeMaker 6.78 7.72
#
# === Build Requires ===
#
# Module Want Have
# ------------------- ---- ----
# ExtUtils::MakeMaker any 7.72
#
# === Test Requires ===
#
# Module Want Have
# --------------------- ---- --------
# ExtUtils::MakeMaker any 7.72
# File::Spec any 3.88
# Math::Trig any 1.62
# Test::Builder::Tester any 1.302209
# Test::Fatal any 0.017
# Test::Moose any 2.2207
# Test::More 0.96 1.302209
# lib any 0.65
#
# === Test Recommends ===
#
# Module Want Have
# ---------- -------- --------
# CPAN::Meta 2.120900 2.150010
#
# === Runtime Requires ===
#
# Module Want Have
# ---------------------------- -------- --------
# Carp any 1.54
# Class::Load any 0.25
# Moose any 2.2207
# Moose::Exporter any 2.2207
# Moose::Meta::Class any 2.2207
# Moose::Meta::Method any 2.2207
# Moose::Role any 2.2207
# Moose::Util any 2.2207
# Moose::Util::TypeConstraints any 2.2207
# Params::Util any 1.102
# Scalar::Util any 1.69
# Sub::Exporter any 0.991
# Sub::Exporter::Util any 0.991
# Test2::API 1.302045 1.302209
# Test::Abortable 0.002 0.003
# Test::More 0.96 1.302209
# Try::Tiny any 0.32
# namespace::autoclean any 0.31
# namespace::clean any 0.27
# perl 5.012000 5.038002
# strict any 1.12
# warnings any 1.65
#
t/00-report-prereqs.t .. ok
t/abort.t .............. ok
t/demo/01-demo.t ....... ok
t/demo/02-simple.t ..... ok
t/demo/03-advice.t ..... ok
t/demo/04-misc.t ....... ok
t/demo/05-multiple.t ... ok
t/dupe.t ............... ok
t/method-filter.t ...... ok
t/mxms.t ............... skipped: This test requires MooseX::Method::Signatures
t/return.t ............. ok
t/test-traits.t ........ ok
t/todo/mxrp.t .......... skipped: Test::Routine and MXRP not yet compatible
t/unsafe-name.t ........ ok
All tests successful.
Files=14, Tests=33, 3 wallclock secs ( 0.07 usr 0.04 sys + 2.53 cusr 0.39 csys = 3.03 CPU)
Result: PASS
------------------------------
PREREQUISITES
------------------------------
Prerequisite modules loaded:
requires:
Module Need Have
---------------------------- -------- --------
Carp 0 1.54
Class::Load 0 0.25
Moose 0 2.2207
Moose::Exporter 0 2.2207
Moose::Meta::Class 0 2.2207
Moose::Meta::Method 0 2.2207
Moose::Role 0 2.2207
Moose::Util 0 2.2207
Moose::Util::TypeConstraints 0 2.2207
namespace::autoclean 0 0.31
namespace::clean 0 0.27
Params::Util 0 1.102
perl 5.012000 5.038002
Scalar::Util 0 1.69
strict 0 1.12
Sub::Exporter 0 0.991
Sub::Exporter::Util 0 0.991
Test2::API 1.302045 1.302209
Test::Abortable 0.002 0.003
Test::More 0.96 1.302209
Try::Tiny 0 0.32
warnings 0 1.65
build_requires:
Module Need Have
---------------------------- -------- --------
ExtUtils::MakeMaker 0 7.72
File::Spec 0 3.88
lib 0 0.65
Math::Trig 0 1.62
Test::Builder::Tester 0 1.302209
Test::Fatal 0 0.017
Test::Moose 0 2.2207
Test::More 0.96 1.302209
configure_requires:
Module Need Have
---------------------------- -------- --------
ExtUtils::MakeMaker 6.78 7.72
------------------------------
ENVIRONMENT AND OTHER CONTEXT
------------------------------
Environment variables:
LANG = en_US.UTF-8
PATH = /usr/local/bin:/usr/bin:/bin:/usr/local/sbin:/usr/sbin:/sbin:/home/cpansand/bin/linux-gnu:/home/cpansand/bin/sh:/home/cpansand/bin:/usr/games:/home/cpansand/devel:/home/eserte/src/srezic-misc/scripts
PERL5LIB = /home/cpansand/.local/share/.cpan/build/2025041519/Test-Abortable-0.003-0/blib/arch:/home/cpansand/.local/share/.cpan/build/2025041519/Test-Abortable-0.003-0/blib/lib:/home/cpansand/.local/share/.cpan/build/2025041519/Software-License-OrLaterPack-v0.10.2-0/blib/arch:/home/cpansand/.local/share/.cpan/build/2025041519/Software-License-OrLaterPack-v0.10.2-0/blib/lib:/home/cpansand/.local/share/.cpan/build/2025041519/Test-DiagINC-0.010-0/blib/arch:/home/cpansand/.local/share/.cpan/build/2025041519/Test-DiagINC-0.010-0/blib/lib
PERL5OPT =
PERL5_CPANPLUS_IS_RUNNING = 1379823
PERL5_CPAN_IS_RUNNING = 1379823
PERL5_CPAN_IS_RUNNING_IN_RECURSION = 1379718,1379823
PERLDOC = -MPod::Perldoc::ToTextOverstrike
PERL_BATCH = yes
PERL_CANARY_STABILITY_NOPROMPT = 1
PERL_CPAN_REPORTER_CONFIG = /var/tmp/cpansmoker-1023/2025041519/cpanreporter_000_config.ini
PERL_EXTUTILS_AUTOINSTALL = --defaultdeps
PERL_USE_UNSAFE_INC = 1
SHELL = /usr/bin/zsh
TERM = screen
TMPDIR = /var/tmp/cpansmoker-1023/2025041519
Perl special variables (and OS-specific diagnostics, for MSWin32):
$^X = /opt/perl-5.38.2D/bin/perl
$UID/$EUID = 1023 / 1023
$GID = 1023 1023
$EGID = 1023 1023
Perl module toolchain versions installed:
Module Have
------------------- --------
CPAN 2.36
CPAN::Meta 2.150010
Cwd 3.89
ExtUtils::CBuilder 0.280238
ExtUtils::Command 7.72
ExtUtils::Install 2.22
ExtUtils::MakeMaker 7.72
ExtUtils::Manifest 1.75
ExtUtils::ParseXS 3.51
File::Spec 3.88
JSON 4.10
JSON::PP 4.16
Module::Build 0.4234
Module::Signature n/a
Parse::CPAN::Meta 2.150010
Test2 1.302209
Test::Harness 3.44
Test::More 1.302209
YAML 1.31
YAML::Syck 1.34
version 0.9929
--
Summary of my perl5 (revision 5 version 38 subversion 2) configuration:
Platform:
osname=linux
osvers=6.8.0-51-generic
archname=aarch64-linux-ld
uname='linux cloud6.bbbike.org 6.8.0-51-generic #52-ubuntu smp preempt_dynamic thu dec 5 13:32:09 utc 2024 aarch64 aarch64 aarch64 gnulinux '
config_args='-ds -e -Dprefix=/opt/perl-5.38.2D -Uinstallusrbinperl -Duselongdouble -Dcf_email=srezic@cpan.org'
hint=recommended
useposix=true
d_sigaction=define
useithreads=undef
usemultiplicity=undef
use64bitint=define
use64bitall=define
uselongdouble=define
usemymalloc=n
default_inc_excludes_dot=define
Compiler:
cc='cc'
ccflags ='-fwrapv -fno-strict-aliasing -pipe -fstack-protector-strong -I/usr/local/include -D_LARGEFILE_SOURCE -D_FILE_OFFSET_BITS=64'
optimize='-O2'
cppflags='-fwrapv -fno-strict-aliasing -pipe -fstack-protector-strong -I/usr/local/include'
ccversion=''
gccversion='13.3.0'
gccosandvers=''
intsize=4
longsize=8
ptrsize=8
doublesize=8
byteorder=12345678
doublekind=3
d_longlong=define
longlongsize=8
d_longdbl=define
longdblsize=16
longdblkind=1
ivtype='long'
ivsize=8
nvtype='long double'
nvsize=16
Off_t='off_t'
lseeksize=8
alignbytes=16
prototype=define
Linker and Libraries:
ld='cc'
ldflags =' -fstack-protector-strong -L/usr/local/lib'
libpth=/usr/local/lib /usr/lib/aarch64-linux-gnu /usr/lib
libs=-lpthread -lgdbm -ldb -ldl -lm -lcrypt -lutil -lc
perllibs=-lpthread -ldl -lm -lcrypt -lutil -lc
libc=/lib/aarch64-linux-gnu/libc.so.6
so=so
useshrplib=false
libperl=libperl.a
gnulibc_version='2.39'
Dynamic Linking:
dlsrc=dl_dlopen.xs
dlext=so
d_dlsymun=undef
ccdlflags='-Wl,-E'
cccdlflags='-fPIC'
lddlflags='-shared -O2 -L/usr/local/lib -fstack-protector-strong'
Characteristics of this binary (from libperl):
Compile-time options:
HAS_LONG_DOUBLE
HAS_STRTOLD
HAS_TIMES
PERLIO_LAYERS
PERL_COPY_ON_WRITE
PERL_DONT_CREATE_GVSV
PERL_HASH_FUNC_SIPHASH13
PERL_HASH_USE_SBOX32
PERL_MALLOC_WRAP
PERL_OP_PARENT
PERL_PRESERVE_IVUV
PERL_USE_SAFE_PUTENV
USE_64_BIT_ALL
USE_64_BIT_INT
USE_LARGE_FILES
USE_LOCALE
USE_LOCALE_COLLATE
USE_LOCALE_CTYPE
USE_LOCALE_NUMERIC
USE_LOCALE_TIME
USE_LONG_DOUBLE
USE_PERLIO
USE_PERL_ATOF
Built under linux
Compiled at Jan 18 2025 22:45:51
%ENV:
PERL5LIB="/home/cpansand/.local/share/.cpan/build/2025041519/Test-Abortable-0.003-0/blib/arch:/home/cpansand/.local/share/.cpan/build/2025041519/Test-Abortable-0.003-0/blib/lib:/home/cpansand/.local/share/.cpan/build/2025041519/Software-License-OrLaterPack-v0.10.2-0/blib/arch:/home/cpansand/.local/share/.cpan/build/2025041519/Software-License-OrLaterPack-v0.10.2-0/blib/lib:/home/cpansand/.local/share/.cpan/build/2025041519/Test-DiagINC-0.010-0/blib/arch:/home/cpansand/.local/share/.cpan/build/2025041519/Test-DiagINC-0.010-0/blib/lib"
PERL5OPT=""
PERL5_CPANPLUS_IS_RUNNING="1379823"
PERL5_CPAN_IS_RUNNING="1379823"
PERL5_CPAN_IS_RUNNING_IN_RECURSION="1379718,1379823"
PERLDOC="-MPod::Perldoc::ToTextOverstrike"
PERL_BATCH="yes"
PERL_CANARY_STABILITY_NOPROMPT="1"
PERL_CPAN_REPORTER_CONFIG="/var/tmp/cpansmoker-1023/2025041519/cpanreporter_000_config.ini"
PERL_EXTUTILS_AUTOINSTALL="--defaultdeps"
PERL_USE_UNSAFE_INC="1"
@INC:
/home/cpansand/.local/share/.cpan/build/2025041519/Test-Abortable-0.003-0/blib/arch
/home/cpansand/.local/share/.cpan/build/2025041519/Test-Abortable-0.003-0/blib/lib
/home/cpansand/.local/share/.cpan/build/2025041519/Software-License-OrLaterPack-v0.10.2-0/blib/arch
/home/cpansand/.local/share/.cpan/build/2025041519/Software-License-OrLaterPack-v0.10.2-0/blib/lib
/home/cpansand/.local/share/.cpan/build/2025041519/Test-DiagINC-0.010-0/blib/arch
/home/cpansand/.local/share/.cpan/build/2025041519/Test-DiagINC-0.010-0/blib/lib
/opt/perl-5.38.2D/lib/site_perl/5.38.2/aarch64-linux-ld
/opt/perl-5.38.2D/lib/site_perl/5.38.2
/opt/perl-5.38.2D/lib/5.38.2/aarch64-linux-ld
/opt/perl-5.38.2D/lib/5.38.2
.