System-Sub v0.162800 Perl 5 v5.8.9 i386-netbsd-64int
- Status
- Pass
- From
- Chris Williams (BINGOS)
- Dist
-
System-Sub v0.162800
- Platform
- Perl 5 v5.8.9 i386-netbsd-64int
- Date
- 2019-10-27 22:08:30
- ID
- 4efd7d32-f906-11e9-99fe-b031dbec7dbf
This distribution has been tested as part of the CPAN Testers
project, supporting the Perl programming language. See
http://wiki.cpantesters.org/ for more information or email
questions to cpan-testers-discuss@perl.org
--
Dear Olivier Mengue,
This is a computer-generated error report created automatically by
CPANPLUS, version 0.9178. Testers personal comments may appear
at the end of this report.
Thank you for uploading your work to CPAN. Congratulations!
All tests were successful.
TEST RESULTS:
Below is the error stack from stage 'make test':
PERL_DL_NONLAZY=1 "/home/cpan/pit/64bit/perl-5.8.9/bin/perl" "-MExtUtils::Command::MM" "-MTest::Harness" "-e" "undef *Test::Harness::Switches; test_harness(0, 'blib/lib', 'blib/arch')" t/*.t
t/00-compile.t ...... ok
t/20-hostname.t ..... ok
t/21-AUTOLOAD.t ..... ok
t/22-ENV.t .......... ok
t/23-prototype.t .... ok
t/24-error.t ........ ok
t/25-common-opts.t .. ok
All tests successful.
Files=7, Tests=31, 1 wallclock secs ( 0.06 usr 0.01 sys + 1.03 cusr 0.36 csys = 1.46 CPU)
Result: PASS
PREREQUISITES:
Here is a list of prerequisites you specified and versions we
managed to load:
Module Name Have Want
Carp 1.10 0
ExtUtils::MakeMaker 7.36 0
File::Spec 3.75 0
File::Which 1.23 0
IO::Handle 1.27 0
IPC::Open3 1.03 0
IPC::Run 20180523.0 0
Scalar::Util 1.19 1.11
Sub::Name 0.26 0
Symbol 1.06 0
Test::More 1.302164 0
blib 1.04 1.01
constant 1.17 0
strict 1.03 0
warnings 1.05_01 0
Perl module toolchain versions installed:
Module Name Have
CPANPLUS 0.9178
CPANPLUS::Dist::Build 0.90
Cwd 3.75
ExtUtils::CBuilder 0.280231
ExtUtils::Command 7.36
ExtUtils::Install 2.14
ExtUtils::MakeMaker 7.36
ExtUtils::Manifest 1.72
ExtUtils::ParseXS 3.35
File::Spec 3.75
Module::Build 0.4229
Pod::Parser 1.35
Pod::Simple 3.39
Test2 1.302164
Test::Harness 3.42
Test::More 1.302164
version 0.9924
******************************** NOTE ********************************
The comments above are created mechanically, possibly without manual
checking by the sender. As there are many people performing automatic
tests on each upload to CPAN, it is likely that you will receive
identical messages about the same problem.
If you believe that the message is mistaken, please reply to the first
one with correction and/or additional informations, and do not take
it personally. We appreciate your patience. :)
**********************************************************************
Additional comments:
This report was machine-generated by CPANPLUS::Dist::YACSmoke 1.08.
Powered by minismokebox version 0.68
CPANPLUS is prefering Build.PL
------------------------------
ENVIRONMENT AND OTHER CONTEXT
------------------------------
Environment variables:
AUTOMATED_TESTING = 1
NONINTERACTIVE_TESTING = 1
PATH = /home/cpan/bin:/bin:/sbin:/usr/bin:/usr/sbin:/usr/X11R7/bin:/usr/pkg/bin:/usr/pkg/sbin:/usr/games:/usr/local/bin:/usr/local/sbin
PERL5LIB = /home/cpan/pit/jail/ZMFWO1K4e1/lib/perl5:/home/cpan/pit/64bit/conf/perl-5.8.9/.cpanplus/5.8.9/build/p2ZICbRTdY/System-Sub-0.162800/blib/lib:/home/cpan/pit/64bit/conf/perl-5.8.9/.cpanplus/5.8.9/build/p2ZICbRTdY/System-Sub-0.162800/blib/arch
PERL5_CPANPLUS_IS_RUNNING = 17591
PERL5_CPANPLUS_IS_VERSION = 0.9178
PERL5_MINISMOKEBOX = 0.68
PERL5_YACSMOKE_BASE = /home/cpan/pit/64bit/conf/perl-5.8.9
PERL_EXTUTILS_AUTOINSTALL = --defaultdeps
PERL_LOCAL_LIB_ROOT = /home/cpan/pit/jail/ZMFWO1K4e1
PERL_MB_OPT = --install_base "/home/cpan/pit/jail/ZMFWO1K4e1"
PERL_MM_OPT = INSTALL_BASE=/home/cpan/pit/jail/ZMFWO1K4e1
PERL_MM_USE_DEFAULT = 1
PERL_USE_UNSAFE_INC = 1
SHELL = /usr/pkg/bin/bash
TERM = screen
Perl special variables (and OS-specific diagnostics, for MSWin32):
Perl: $^X = /home/cpan/pit/64bit/perl-5.8.9/bin/perl
UID: $< = 1001
EUID: $> = 1001
GID: $( = 100 100
EGID: $) = 100 100
-------------------------------
--
Summary of my perl5 (revision 5 version 8 subversion 9) configuration:
Platform:
osname=netbsd, osvers=8.1, archname=i386-netbsd-64int
uname='netbsd naboo.bingosnet.co.uk 8.1 netbsd 8.1 (generic) #0: fri may 31 08:43:59 utc 2019 mkrepro@mkrepro.netbsd.org:usrsrcsysarchi386compilegeneric i386 '
config_args='-des -Dprefix=/home/cpan/pit/64bit/perl-5.8.9 -Duse64bitint'
hint=recommended, useposix=true, d_sigaction=define
usethreads=undef use5005threads=undef useithreads=undef usemultiplicity=undef
useperlio=define d_sfio=undef uselargefiles=define usesocks=undef
use64bitint=define use64bitall=undef uselongdouble=undef
usemymalloc=n, bincompat5005=undef
Compiler:
cc='cc', ccflags ='-fwrapv -fno-strict-aliasing -pipe -I/usr/pkg/include',
optimize='-O',
cppflags='-fwrapv -fno-strict-aliasing -pipe -I/usr/pkg/include'
ccversion='', gccversion='5.5.0', gccosandvers=''
intsize=4, longsize=4, ptrsize=4, doublesize=8, byteorder=12345678
d_longlong=define, longlongsize=8, d_longdbl=define, longdblsize=12
ivtype='long long', ivsize=8, nvtype='double', nvsize=8, Off_t='off_t', lseeksize=8
alignbytes=4, prototype=define
Linker and Libraries:
ld='cc', ldflags =' -Wl,-rpath,/usr/pkg/lib -Wl,-rpath,/usr/local/lib -L/usr/pkg/lib'
libpth=/usr/pkg/lib /lib /usr/lib
libs=-lgdbm -lm -lcrypt -lutil -lc -lposix
perllibs=-lm -lcrypt -lutil -lc -lposix
libc=/lib/libc.so, so=so, useshrplib=false, libperl=libperl.a
gnulibc_version=''
Dynamic Linking:
dlsrc=dl_dlopen.xs, dlext=so, d_dlsymun=undef, ccdlflags='-Wl,-E '
cccdlflags='-DPIC -fPIC ', lddlflags='-shared -L/usr/pkg/lib'
Characteristics of this binary (from libperl):
Compile-time options: PERL_MALLOC_WRAP USE_64_BIT_INT USE_FAST_STDIO
USE_LARGE_FILES USE_PERLIO
Locally applied patches:
Devel::PatchPerl 1.64
Built under netbsd
Compiled at Aug 4 2019 18:34:30
%ENV:
PERL5LIB="/home/cpan/pit/jail/ZMFWO1K4e1/lib/perl5:/home/cpan/pit/64bit/conf/perl-5.8.9/.cpanplus/5.8.9/build/p2ZICbRTdY/System-Sub-0.162800/blib/lib:/home/cpan/pit/64bit/conf/perl-5.8.9/.cpanplus/5.8.9/build/p2ZICbRTdY/System-Sub-0.162800/blib/arch"
PERL5_CPANPLUS_IS_RUNNING="17591"
PERL5_CPANPLUS_IS_VERSION="0.9178"
PERL5_MINISMOKEBOX="0.68"
PERL5_YACSMOKE_BASE="/home/cpan/pit/64bit/conf/perl-5.8.9"
PERL_EXTUTILS_AUTOINSTALL="--defaultdeps"
PERL_LOCAL_LIB_ROOT="/home/cpan/pit/jail/ZMFWO1K4e1"
PERL_MB_OPT="--install_base "/home/cpan/pit/jail/ZMFWO1K4e1""
PERL_MM_OPT="INSTALL_BASE=/home/cpan/pit/jail/ZMFWO1K4e1"
PERL_MM_USE_DEFAULT="1"
PERL_USE_UNSAFE_INC="1"
@INC:
/home/cpan/pit/jail/ZMFWO1K4e1/lib/perl5/5.8.9/i386-netbsd-64int
/home/cpan/pit/jail/ZMFWO1K4e1/lib/perl5/5.8.9
/home/cpan/pit/jail/ZMFWO1K4e1/lib/perl5/i386-netbsd-64int
/home/cpan/pit/jail/ZMFWO1K4e1/lib/perl5
/home/cpan/pit/64bit/conf/perl-5.8.9/.cpanplus/5.8.9/build/p2ZICbRTdY/System-Sub-0.162800/blib/lib
/home/cpan/pit/64bit/conf/perl-5.8.9/.cpanplus/5.8.9/build/p2ZICbRTdY/System-Sub-0.162800/blib/arch
/home/cpan/pit/64bit/perl-5.8.9/lib/5.8.9/i386-netbsd-64int
/home/cpan/pit/64bit/perl-5.8.9/lib/5.8.9
/home/cpan/pit/64bit/perl-5.8.9/lib/site_perl/5.8.9/i386-netbsd-64int
/home/cpan/pit/64bit/perl-5.8.9/lib/site_perl/5.8.9
.