Report for Curses-UI-0.9607

Back
From: metabase:user:322078bc-2aae-11df-837a-5e0a49663a4f
Subject: PASS Curses-UI-0.9607 v5.14.0 OpenBSD
Date: 2011-06-08T09:40:12Z

This distribution has been tested as part of the CPAN Testers
project, supporting the Perl programming language.  See
http://wiki.cpantesters.org/ for more information or email
questions to cpan-testers-discuss@perl.org


--

Dear Shawn Boyette,

This is a computer-generated error report created automatically by
CPANPLUS, version 0.9105. Testers personal comments may appear
at the end of this report.

MAKE TEST passed: /home/cpan/pit/thr/perl-5.14.0/bin/perl "-Iinc" /home/cpan/pit/thr/conf/perl-5.14.0/.cpanplus/5.14.0/build/Curses-UI-0.9607/Makefile.PL --config= --installdeps=Curses,0,Term::ReadKey,0
Cannot determine perl version info from lib/Curses/UI.pm
WARNING: 'All rights reserved' in copyright may invalidate Open Source license.
PERL_DL_NONLAZY=1 /home/cpan/pit/thr/perl-5.14.0/bin/perl "-MExtUtils::Command::MM" "-e" "test_harness(0, 'inc', 'blib/lib', 'blib/arch')" t/01base_classes.t t/02widget_classes.t t/03dialog_classes.t t/04language_classes.t t/05pod.t t/06ui.t t/07widget.t t/08common.t t/09label.t t/10texteditor.t t/11listbox.t t/12gpm_handler.t t/13notebook.t t/99misc.t
Prototype after '@' for Curses::UI::Widget::width_by_windowscrwidth : $@; at /home/cpan/pit/thr/conf/perl-5.14.0/.cpanplus/5.14.0/build/Curses-UI-0.9607/t/../lib/Curses/UI/Widget.pm line 356.
t/01base_classes.t ...... ok
Prototype after '@' for Curses::UI::Widget::height_by_windowscrheight : $@; at /home/cpan/pit/thr/conf/perl-5.14.0/.cpanplus/5.14.0/build/Curses-UI-0.9607/t/../lib/Curses/UI/Widget.pm line 380.
Prototype after '@' for Curses::UI::Widget::set_binding : $@; at /home/cpan/pit/thr/conf/perl-5.14.0/.cpanplus/5.14.0/build/Curses-UI-0.9607/t/../lib/Curses/UI/Widget.pm line 898.
Prototype after '@' for Curses::UI::Widget::set_mouse_binding : $@; at /home/cpan/pit/thr/conf/perl-5.14.0/.cpanplus/5.14.0/build/Curses-UI-0.9607/t/../lib/Curses/UI/Widget.pm line 924.
Prototype after '@' for Curses::UI::Container::add : $@; at /home/cpan/pit/thr/conf/perl-5.14.0/.cpanplus/5.14.0/build/Curses-UI-0.9607/t/../lib/Curses/UI/Container.pm line 67.
Prototype after '@' for Curses::UI::Container::set_focusorder : @; at /home/cpan/pit/thr/conf/perl-5.14.0/.cpanplus/5.14.0/build/Curses-UI-0.9607/t/../lib/Curses/UI/Container.pm line 475.
Prototype after '@' for Curses::UI::Container::set_draworder : @; at /home/cpan/pit/thr/conf/perl-5.14.0/.cpanplus/5.14.0/build/Curses-UI-0.9607/t/../lib/Curses/UI/Container.pm line 483.
Prototype after '@' for Curses::UI::Widget::width_by_windowscrwidth : $@; at /home/cpan/pit/thr/conf/perl-5.14.0/.cpanplus/5.14.0/build/Curses-UI-0.9607/blib/lib/Curses/UI/Widget.pm line 356.
Prototype after '@' for Curses::UI::Widget::height_by_windowscrheight : $@; at /home/cpan/pit/thr/conf/perl-5.14.0/.cpanplus/5.14.0/build/Curses-UI-0.9607/blib/lib/Curses/UI/Widget.pm line 380.
Prototype after '@' for Curses::UI::Widget::set_binding : $@; at /home/cpan/pit/thr/conf/perl-5.14.0/.cpanplus/5.14.0/build/Curses-UI-0.9607/blib/lib/Curses/UI/Widget.pm line 898.
Prototype after '@' for Curses::UI::Widget::set_mouse_binding : $@; at /home/cpan/pit/thr/conf/perl-5.14.0/.cpanplus/5.14.0/build/Curses-UI-0.9607/blib/lib/Curses/UI/Widget.pm line 924.
Prototype after '@' for Curses::UI::Container::add : $@; at /home/cpan/pit/thr/conf/perl-5.14.0/.cpanplus/5.14.0/build/Curses-UI-0.9607/blib/lib/Curses/UI/Container.pm line 67.
Prototype after '@' for Curses::UI::Container::set_focusorder : @; at /home/cpan/pit/thr/conf/perl-5.14.0/.cpanplus/5.14.0/build/Curses-UI-0.9607/blib/lib/Curses/UI/Container.pm line 475.
Prototype after '@' for Curses::UI::Container::set_draworder : @; at /home/cpan/pit/thr/conf/perl-5.14.0/.cpanplus/5.14.0/build/Curses-UI-0.9607/blib/lib/Curses/UI/Container.pm line 483.
Prototype after '@' for Curses::UI::Listbox::maxlabelwidth : @; at /home/cpan/pit/thr/conf/perl-5.14.0/.cpanplus/5.14.0/build/Curses-UI-0.9607/blib/lib/Curses/UI/Listbox.pm line 221.
t/02widget_classes.t .... ok
Prototype after '@' for Curses::UI::Widget::width_by_windowscrwidth : $@; at /home/cpan/pit/thr/conf/perl-5.14.0/.cpanplus/5.14.0/build/Curses-UI-0.9607/blib/lib/Curses/UI/Widget.pm line 356.
Prototype after '@' for Curses::UI::Widget::height_by_windowscrheight : $@; at /home/cpan/pit/thr/conf/perl-5.14.0/.cpanplus/5.14.0/build/Curses-UI-0.9607/blib/lib/Curses/UI/Widget.pm line 380.
Prototype after '@' for Curses::UI::Widget::set_binding : $@; at /home/cpan/pit/thr/conf/perl-5.14.0/.cpanplus/5.14.0/build/Curses-UI-0.9607/blib/lib/Curses/UI/Widget.pm line 898.
Prototype after '@' for Curses::UI::Widget::set_mouse_binding : $@; at /home/cpan/pit/thr/conf/perl-5.14.0/.cpanplus/5.14.0/build/Curses-UI-0.9607/blib/lib/Curses/UI/Widget.pm line 924.
Prototype after '@' for Curses::UI::Container::add : $@; at /home/cpan/pit/thr/conf/perl-5.14.0/.cpanplus/5.14.0/build/Curses-UI-0.9607/blib/lib/Curses/UI/Container.pm line 67.
Prototype after '@' for Curses::UI::Container::set_focusorder : @; at /home/cpan/pit/thr/conf/perl-5.14.0/.cpanplus/5.14.0/build/Curses-UI-0.9607/blib/lib/Curses/UI/Container.pm line 475.
Prototype after '@' for Curses::UI::Container::set_draworder : @; at /home/cpan/pit/thr/conf/perl-5.14.0/.cpanplus/5.14.0/build/Curses-UI-0.9607/blib/lib/Curses/UI/Container.pm line 483.
t/03dialog_classes.t .... ok
Prototype after '@' for Curses::UI::Widget::width_by_windowscrwidth : $@; at /home/cpan/pit/thr/conf/perl-5.14.0/.cpanplus/5.14.0/build/Curses-UI-0.9607/t/../lib/Curses/UI/Widget.pm line 356.
Prototype after '@' for Curses::UI::Widget::height_by_windowscrheight : $@; at /home/cpan/pit/thr/conf/perl-5.14.0/.cpanplus/5.14.0/build/Curses-UI-0.9607/t/../lib/Curses/UI/Widget.pm line 380.
Prototype after '@' for Curses::UI::Widget::set_binding : $@; at /home/cpan/pit/thr/conf/perl-5.14.0/.cpanplus/5.14.0/build/Curses-UI-0.9607/t/../lib/Curses/UI/Widget.pm line 898.
Prototype after '@' for Curses::UI::Widget::set_mouse_binding : $@; at /home/cpan/pit/thr/conf/perl-5.14.0/.cpanplus/5.14.0/build/Curses-UI-0.9607/t/../lib/Curses/UI/Widget.pm line 924.
Prototype after '@' for Curses::UI::Container::add : $@; at /home/cpan/pit/thr/conf/perl-5.14.0/.cpanplus/5.14.0/build/Curses-UI-0.9607/t/../lib/Curses/UI/Container.pm line 67.
Prototype after '@' for Curses::UI::Container::set_focusorder : @; at /home/cpan/pit/thr/conf/perl-5.14.0/.cpanplus/5.14.0/build/Curses-UI-0.9607/t/../lib/Curses/UI/Container.pm line 475.
Prototype after '@' for Curses::UI::Container::set_draworder : @; at /home/cpan/pit/thr/conf/perl-5.14.0/.cpanplus/5.14.0/build/Curses-UI-0.9607/t/../lib/Curses/UI/Container.pm line 483.
t/04language_classes.t .. ok
t/05pod.t ............... skipped: Test::Pod required for testing POD
Prototype after '@' for Curses::UI::Widget::width_by_windowscrwidth : $@; at /home/cpan/pit/thr/conf/perl-5.14.0/.cpanplus/5.14.0/build/Curses-UI-0.9607/blib/lib/Curses/UI/Widget.pm line 356.
Prototype after '@' for Curses::UI::Widget::height_by_windowscrheight : $@; at /home/cpan/pit/thr/conf/perl-5.14.0/.cpanplus/5.14.0/build/Curses-UI-0.9607/blib/lib/Curses/UI/Widget.pm line 380.
Prototype after '@' for Curses::UI::Widget::set_binding : $@; at /home/cpan/pit/thr/conf/perl-5.14.0/.cpanplus/5.14.0/build/Curses-UI-0.9607/blib/lib/Curses/UI/Widget.pm line 898.
Prototype after '@' for Curses::UI::Widget::set_mouse_binding : $@; at /home/cpan/pit/thr/conf/perl-5.14.0/.cpanplus/5.14.0/build/Curses-UI-0.9607/blib/lib/Curses/UI/Widget.pm line 924.
Prototype after '@' for Curses::UI::Container::add : $@; at /home/cpan/pit/thr/conf/perl-5.14.0/.cpanplus/5.14.0/build/Curses-UI-0.9607/blib/lib/Curses/UI/Container.pm line 67.
Prototype after '@' for Curses::UI::Container::set_focusorder : @; at /home/cpan/pit/thr/conf/perl-5.14.0/.cpanplus/5.14.0/build/Curses-UI-0.9607/blib/lib/Curses/UI/Container.pm line 475.
Prototype after '@' for Curses::UI::Container::set_draworder : @; at /home/cpan/pit/thr/conf/perl-5.14.0/.cpanplus/5.14.0/build/Curses-UI-0.9607/blib/lib/Curses/UI/Container.pm line 483.
t/06ui.t ................ ok
Prototype after '@' for Curses::UI::Widget::width_by_windowscrwidth : $@; at /home/cpan/pit/thr/conf/perl-5.14.0/.cpanplus/5.14.0/build/Curses-UI-0.9607/blib/lib/Curses/UI/Widget.pm line 356.
Prototype after '@' for Curses::UI::Widget::height_by_windowscrheight : $@; at /home/cpan/pit/thr/conf/perl-5.14.0/.cpanplus/5.14.0/build/Curses-UI-0.9607/blib/lib/Curses/UI/Widget.pm line 380.
Prototype after '@' for Curses::UI::Widget::set_binding : $@; at /home/cpan/pit/thr/conf/perl-5.14.0/.cpanplus/5.14.0/build/Curses-UI-0.9607/blib/lib/Curses/UI/Widget.pm line 898.
Prototype after '@' for Curses::UI::Widget::set_mouse_binding : $@; at /home/cpan/pit/thr/conf/perl-5.14.0/.cpanplus/5.14.0/build/Curses-UI-0.9607/blib/lib/Curses/UI/Widget.pm line 924.
Prototype after '@' for Curses::UI::Container::add : $@; at /home/cpan/pit/thr/conf/perl-5.14.0/.cpanplus/5.14.0/build/Curses-UI-0.9607/blib/lib/Curses/UI/Container.pm line 67.
Prototype after '@' for Curses::UI::Container::set_focusorder : @; at /home/cpan/pit/thr/conf/perl-5.14.0/.cpanplus/5.14.0/build/Curses-UI-0.9607/blib/lib/Curses/UI/Container.pm line 475.
Prototype after '@' for Curses::UI::Container::set_draworder : @; at /home/cpan/pit/thr/conf/perl-5.14.0/.cpanplus/5.14.0/build/Curses-UI-0.9607/blib/lib/Curses/UI/Container.pm line 483.
t/07widget.t ............ ok
Prototype after '@' for Curses::UI::Widget::width_by_windowscrwidth : $@; at /home/cpan/pit/thr/conf/perl-5.14.0/.cpanplus/5.14.0/build/Curses-UI-0.9607/blib/lib/Curses/UI/Widget.pm line 356.
Prototype after '@' for Curses::UI::Widget::height_by_windowscrheight : $@; at /home/cpan/pit/thr/conf/perl-5.14.0/.cpanplus/5.14.0/build/Curses-UI-0.9607/blib/lib/Curses/UI/Widget.pm line 380.
Prototype after '@' for Curses::UI::Widget::set_binding : $@; at /home/cpan/pit/thr/conf/perl-5.14.0/.cpanplus/5.14.0/build/Curses-UI-0.9607/blib/lib/Curses/UI/Widget.pm line 898.
Prototype after '@' for Curses::UI::Widget::set_mouse_binding : $@; at /home/cpan/pit/thr/conf/perl-5.14.0/.cpanplus/5.14.0/build/Curses-UI-0.9607/blib/lib/Curses/UI/Widget.pm line 924.
Prototype after '@' for Curses::UI::Container::add : $@; at /home/cpan/pit/thr/conf/perl-5.14.0/.cpanplus/5.14.0/build/Curses-UI-0.9607/blib/lib/Curses/UI/Container.pm line 67.
Prototype after '@' for Curses::UI::Container::set_focusorder : @; at /home/cpan/pit/thr/conf/perl-5.14.0/.cpanplus/5.14.0/build/Curses-UI-0.9607/blib/lib/Curses/UI/Container.pm line 475.
Prototype after '@' for Curses::UI::Container::set_draworder : @; at /home/cpan/pit/thr/conf/perl-5.14.0/.cpanplus/5.14.0/build/Curses-UI-0.9607/blib/lib/Curses/UI/Container.pm line 483.
t/08common.t ............ ok
Prototype after '@' for Curses::UI::Widget::width_by_windowscrwidth : $@; at /home/cpan/pit/thr/conf/perl-5.14.0/.cpanplus/5.14.0/build/Curses-UI-0.9607/blib/lib/Curses/UI/Widget.pm line 356.
Prototype after '@' for Curses::UI::Widget::height_by_windowscrheight : $@; at /home/cpan/pit/thr/conf/perl-5.14.0/.cpanplus/5.14.0/build/Curses-UI-0.9607/blib/lib/Curses/UI/Widget.pm line 380.
Prototype after '@' for Curses::UI::Widget::set_binding : $@; at /home/cpan/pit/thr/conf/perl-5.14.0/.cpanplus/5.14.0/build/Curses-UI-0.9607/blib/lib/Curses/UI/Widget.pm line 898.
Prototype after '@' for Curses::UI::Widget::set_mouse_binding : $@; at /home/cpan/pit/thr/conf/perl-5.14.0/.cpanplus/5.14.0/build/Curses-UI-0.9607/blib/lib/Curses/UI/Widget.pm line 924.
Prototype after '@' for Curses::UI::Container::add : $@; at /home/cpan/pit/thr/conf/perl-5.14.0/.cpanplus/5.14.0/build/Curses-UI-0.9607/blib/lib/Curses/UI/Container.pm line 67.
Prototype after '@' for Curses::UI::Container::set_focusorder : @; at /home/cpan/pit/thr/conf/perl-5.14.0/.cpanplus/5.14.0/build/Curses-UI-0.9607/blib/lib/Curses/UI/Container.pm line 475.
Prototype after '@' for Curses::UI::Container::set_draworder : @; at /home/cpan/pit/thr/conf/perl-5.14.0/.cpanplus/5.14.0/build/Curses-UI-0.9607/blib/lib/Curses/UI/Container.pm line 483.
t/09label.t ............. ok
Prototype after '@' for Curses::UI::Widget::width_by_windowscrwidth : $@; at /home/cpan/pit/thr/conf/perl-5.14.0/.cpanplus/5.14.0/build/Curses-UI-0.9607/blib/lib/Curses/UI/Widget.pm line 356.
Prototype after '@' for Curses::UI::Widget::height_by_windowscrheight : $@; at /home/cpan/pit/thr/conf/perl-5.14.0/.cpanplus/5.14.0/build/Curses-UI-0.9607/blib/lib/Curses/UI/Widget.pm line 380.
Prototype after '@' for Curses::UI::Widget::set_binding : $@; at /home/cpan/pit/thr/conf/perl-5.14.0/.cpanplus/5.14.0/build/Curses-UI-0.9607/blib/lib/Curses/UI/Widget.pm line 898.
Prototype after '@' for Curses::UI::Widget::set_mouse_binding : $@; at /home/cpan/pit/thr/conf/perl-5.14.0/.cpanplus/5.14.0/build/Curses-UI-0.9607/blib/lib/Curses/UI/Widget.pm line 924.
Prototype after '@' for Curses::UI::Container::add : $@; at /home/cpan/pit/thr/conf/perl-5.14.0/.cpanplus/5.14.0/build/Curses-UI-0.9607/blib/lib/Curses/UI/Container.pm line 67.
Prototype after '@' for Curses::UI::Container::set_focusorder : @; at /home/cpan/pit/thr/conf/perl-5.14.0/.cpanplus/5.14.0/build/Curses-UI-0.9607/blib/lib/Curses/UI/Container.pm line 475.
Prototype after '@' for Curses::UI::Container::set_draworder : @; at /home/cpan/pit/thr/conf/perl-5.14.0/.cpanplus/5.14.0/build/Curses-UI-0.9607/blib/lib/Curses/UI/Container.pm line 483.
t/10texteditor.t ........ ok
Prototype after '@' for Curses::UI::Widget::width_by_windowscrwidth : $@; at /home/cpan/pit/thr/conf/perl-5.14.0/.cpanplus/5.14.0/build/Curses-UI-0.9607/blib/lib/Curses/UI/Widget.pm line 356.
Prototype after '@' for Curses::UI::Widget::height_by_windowscrheight : $@; at /home/cpan/pit/thr/conf/perl-5.14.0/.cpanplus/5.14.0/build/Curses-UI-0.9607/blib/lib/Curses/UI/Widget.pm line 380.
Prototype after '@' for Curses::UI::Widget::set_binding : $@; at /home/cpan/pit/thr/conf/perl-5.14.0/.cpanplus/5.14.0/build/Curses-UI-0.9607/blib/lib/Curses/UI/Widget.pm line 898.
Prototype after '@' for Curses::UI::Widget::set_mouse_binding : $@; at /home/cpan/pit/thr/conf/perl-5.14.0/.cpanplus/5.14.0/build/Curses-UI-0.9607/blib/lib/Curses/UI/Widget.pm line 924.
Prototype after '@' for Curses::UI::Container::add : $@; at /home/cpan/pit/thr/conf/perl-5.14.0/.cpanplus/5.14.0/build/Curses-UI-0.9607/blib/lib/Curses/UI/Container.pm line 67.
Prototype after '@' for Curses::UI::Container::set_focusorder : @; at /home/cpan/pit/thr/conf/perl-5.14.0/.cpanplus/5.14.0/build/Curses-UI-0.9607/blib/lib/Curses/UI/Container.pm line 475.
Prototype after '@' for Curses::UI::Container::set_draworder : @; at /home/cpan/pit/thr/conf/perl-5.14.0/.cpanplus/5.14.0/build/Curses-UI-0.9607/blib/lib/Curses/UI/Container.pm line 483.
Prototype after '@' for Curses::UI::Listbox::maxlabelwidth : @; at /home/cpan/pit/thr/conf/perl-5.14.0/.cpanplus/5.14.0/build/Curses-UI-0.9607/blib/lib/Curses/UI/Listbox.pm line 221.
t/11listbox.t ........... ok
Prototype after '@' for Curses::UI::Widget::width_by_windowscrwidth : $@; at /home/cpan/pit/thr/conf/perl-5.14.0/.cpanplus/5.14.0/build/Curses-UI-0.9607/blib/lib/Curses/UI/Widget.pm line 356.
Prototype after '@' for Curses::UI::Widget::height_by_windowscrheight : $@; at /home/cpan/pit/thr/conf/perl-5.14.0/.cpanplus/5.14.0/build/Curses-UI-0.9607/blib/lib/Curses/UI/Widget.pm line 380.
Prototype after '@' for Curses::UI::Widget::set_binding : $@; at /home/cpan/pit/thr/conf/perl-5.14.0/.cpanplus/5.14.0/build/Curses-UI-0.9607/blib/lib/Curses/UI/Widget.pm line 898.
Prototype after '@' for Curses::UI::Widget::set_mouse_binding : $@; at /home/cpan/pit/thr/conf/perl-5.14.0/.cpanplus/5.14.0/build/Curses-UI-0.9607/blib/lib/Curses/UI/Widget.pm line 924.
Prototype after '@' for Curses::UI::Container::add : $@; at /home/cpan/pit/thr/conf/perl-5.14.0/.cpanplus/5.14.0/build/Curses-UI-0.9607/blib/lib/Curses/UI/Container.pm line 67.
Prototype after '@' for Curses::UI::Container::set_focusorder : @; at /home/cpan/pit/thr/conf/perl-5.14.0/.cpanplus/5.14.0/build/Curses-UI-0.9607/blib/lib/Curses/UI/Container.pm line 475.
Prototype after '@' for Curses::UI::Container::set_draworder : @; at /home/cpan/pit/thr/conf/perl-5.14.0/.cpanplus/5.14.0/build/Curses-UI-0.9607/blib/lib/Curses/UI/Container.pm line 483.
t/12gpm_handler.t ....... ok
Prototype after '@' for Curses::UI::Widget::width_by_windowscrwidth : $@; at /home/cpan/pit/thr/conf/perl-5.14.0/.cpanplus/5.14.0/build/Curses-UI-0.9607/blib/lib/Curses/UI/Widget.pm line 356.
Prototype after '@' for Curses::UI::Widget::height_by_windowscrheight : $@; at /home/cpan/pit/thr/conf/perl-5.14.0/.cpanplus/5.14.0/build/Curses-UI-0.9607/blib/lib/Curses/UI/Widget.pm line 380.
Prototype after '@' for Curses::UI::Widget::set_binding : $@; at /home/cpan/pit/thr/conf/perl-5.14.0/.cpanplus/5.14.0/build/Curses-UI-0.9607/blib/lib/Curses/UI/Widget.pm line 898.
Prototype after '@' for Curses::UI::Widget::set_mouse_binding : $@; at /home/cpan/pit/thr/conf/perl-5.14.0/.cpanplus/5.14.0/build/Curses-UI-0.9607/blib/lib/Curses/UI/Widget.pm line 924.
Prototype after '@' for Curses::UI::Container::add : $@; at /home/cpan/pit/thr/conf/perl-5.14.0/.cpanplus/5.14.0/build/Curses-UI-0.9607/blib/lib/Curses/UI/Container.pm line 67.
Prototype after '@' for Curses::UI::Container::set_focusorder : @; at /home/cpan/pit/thr/conf/perl-5.14.0/.cpanplus/5.14.0/build/Curses-UI-0.9607/blib/lib/Curses/UI/Container.pm line 475.
Prototype after '@' for Curses::UI::Container::set_draworder : @; at /home/cpan/pit/thr/conf/perl-5.14.0/.cpanplus/5.14.0/build/Curses-UI-0.9607/blib/lib/Curses/UI/Container.pm line 483.
t/13notebook.t .......... ok
Prototype after '@' for Curses::UI::Widget::width_by_windowscrwidth : $@; at /home/cpan/pit/thr/conf/perl-5.14.0/.cpanplus/5.14.0/build/Curses-UI-0.9607/blib/lib/Curses/UI/Widget.pm line 356.
Prototype after '@' for Curses::UI::Widget::height_by_windowscrheight : $@; at /home/cpan/pit/thr/conf/perl-5.14.0/.cpanplus/5.14.0/build/Curses-UI-0.9607/blib/lib/Curses/UI/Widget.pm line 380.
Prototype after '@' for Curses::UI::Widget::set_binding : $@; at /home/cpan/pit/thr/conf/perl-5.14.0/.cpanplus/5.14.0/build/Curses-UI-0.9607/blib/lib/Curses/UI/Widget.pm line 898.
Prototype after '@' for Curses::UI::Widget::set_mouse_binding : $@; at /home/cpan/pit/thr/conf/perl-5.14.0/.cpanplus/5.14.0/build/Curses-UI-0.9607/blib/lib/Curses/UI/Widget.pm line 924.
Prototype after '@' for Curses::UI::Container::add : $@; at /home/cpan/pit/thr/conf/perl-5.14.0/.cpanplus/5.14.0/build/Curses-UI-0.9607/blib/lib/Curses/UI/Container.pm line 67.
Prototype after '@' for Curses::UI::Container::set_focusorder : @; at /home/cpan/pit/thr/conf/perl-5.14.0/.cpanplus/5.14.0/build/Curses-UI-0.9607/blib/lib/Curses/UI/Container.pm line 475.
Prototype after '@' for Curses::UI::Container::set_draworder : @; at /home/cpan/pit/thr/conf/perl-5.14.0/.cpanplus/5.14.0/build/Curses-UI-0.9607/blib/lib/Curses/UI/Container.pm line 483.
t/99misc.t .............. ok
All tests successful.
Files=14, Tests=124,  2 wallclock secs ( 0.11 usr  0.02 sys +  1.32 cusr  0.29 csys =  1.74 CPU)
Result: PASS

[MSG] [Wed Jun  8 10:40:12 2011] Sending test report for 'Curses-UI-0.9607'

This report was machine-generated by CPANPLUS::Dist::YACSmoke 0.62.
Powered by minismokebox version 0.48

------------------------------
ENVIRONMENT AND OTHER CONTEXT
------------------------------

Environment variables:

    AUTOMATED_TESTING = 1
    PATH = /home/cpan/bin:/bin:/sbin:/usr/bin:/usr/sbin:/usr/X11R6/bin:/usr/local/bin:/usr/local/sbin:/usr/games:.
    PERL5LIB = :/home/cpan/pit/thr/conf/perl-5.14.0/.cpanplus/5.14.0/build/Clone-0.31/blib/lib:/home/cpan/pit/thr/conf/perl-5.14.0/.cpanplus/5.14.0/build/Clone-0.31/blib/arch:/home/cpan/pit/thr/conf/perl-5.14.0/.cpanplus/5.14.0/build/Curses-1.28/blib/lib:/home/cpan/pit/thr/conf/perl-5.14.0/.cpanplus/5.14.0/build/Curses-1.28/blib/arch:/home/cpan/pit/thr/conf/perl-5.14.0/.cpanplus/5.14.0/build/TermReadKey-2.30/blib/lib:/home/cpan/pit/thr/conf/perl-5.14.0/.cpanplus/5.14.0/build/TermReadKey-2.30/blib/arch:/home/cpan/pit/thr/conf/perl-5.14.0/.cpanplus/5.14.0/build/Curses-UI-0.9607/blib/lib:/home/cpan/pit/thr/conf/perl-5.14.0/.cpanplus/5.14.0/build/Curses-UI-0.9607/blib/arch
    PERL5_CPANPLUS_IS_RUNNING = 9889
    PERL5_CPANPLUS_IS_VERSION = 0.9105
    PERL5_MINISMOKEBOX = 0.48
    PERL5_YACSMOKE_BASE = /home/cpan/pit/thr/conf/perl-5.14.0
    PERL_EXTUTILS_AUTOINSTALL = --defaultdeps
    PERL_MM_USE_DEFAULT = 1
    SHELL = /usr/local/bin/bash
    TERM = screen

Perl special variables (and OS-specific diagnostics, for MSWin32):

    Perl: $^X = /home/cpan/pit/thr/perl-5.14.0/bin/perl
    UID:  $<  = 1001
    EUID: $>  = 1001
    GID:  $(  = 1001 1001
    EGID: $)  = 1001 1001


-------------------------------


--

Summary of my perl5 (revision 5 version 14 subversion 0) configuration:
   
  Platform:
    osname=openbsd, osvers=4.9, archname=OpenBSD.amd64-openbsd-thread-multi
    uname='openbsd ostrich.bingosnet.co.uk 4.9 generic#477 amd64 '
    config_args='-des -Dprefix=/home/cpan/pit/thr/perl-5.14.0 -Dusethreads'
    hint=previous, useposix=true, d_sigaction=define
    useithreads=define, usemultiplicity=define
    useperlio=define, d_sfio=undef, uselargefiles=define, usesocks=undef
    use64bitint=define, use64bitall=define, uselongdouble=undef
    usemymalloc=y, bincompat5005=undef
  Compiler:
    cc='cc', ccflags ='-pthread -fno-strict-aliasing -pipe -fstack-protector -I/usr/local/include',
    optimize='-O2',
    cppflags='-pthread -fno-strict-aliasing -pipe -fstack-protector -I/usr/local/include -pthread -fno-strict-aliasing -pipe -fstack-protector -I/usr/local/include'
    ccversion='', gccversion='4.2.1 20070719 ', gccosandvers='openbsd4.9'
    intsize=4, longsize=8, ptrsize=8, doublesize=8, byteorder=12345678
    d_longlong=define, longlongsize=8, d_longdbl=define, longdblsize=16
    ivtype='long', ivsize=8, nvtype='double', nvsize=8, Off_t='off_t', lseeksize=8
    alignbytes=8, prototype=define
  Linker and Libraries:
    ld='cc', ldflags ='-pthread -Wl,-E  -fstack-protector -L/usr/local/lib'
    libpth=/usr/local/lib /usr/lib
    libs=-lgdbm -lm -lutil -lc
    perllibs=-lm -lutil -lc
    libc=/usr/lib/libc.so.58.0, so=so, useshrplib=false, libperl=libperl.a
    gnulibc_version=''
  Dynamic Linking:
    dlsrc=dl_dlopen.xs, dlext=so, d_dlsymun=undef, ccdlflags=' '
    cccdlflags='-DPIC -fPIC ', lddlflags='-shared -fPIC  -L/usr/local/lib -fstack-protector'


Characteristics of this binary (from libperl): 
  Compile-time options: MULTIPLICITY MYMALLOC PERL_DONT_CREATE_GVSV
                        PERL_IMPLICIT_CONTEXT PERL_MALLOC_WRAP
                        PERL_PRESERVE_IVUV USE_64_BIT_ALL USE_64_BIT_INT
                        USE_ITHREADS USE_LARGE_FILES USE_PERLIO USE_PERL_ATOF
                        USE_REENTRANT_API
  Built under openbsd
  Compiled at May 16 2011 13:34:25
  %ENV:
    PERL5LIB=":/home/cpan/pit/thr/conf/perl-5.14.0/.cpanplus/5.14.0/build/Clone-0.31/blib/lib:/home/cpan/pit/thr/conf/perl-5.14.0/.cpanplus/5.14.0/build/Clone-0.31/blib/arch:/home/cpan/pit/thr/conf/perl-5.14.0/.cpanplus/5.14.0/build/Curses-1.28/blib/lib:/home/cpan/pit/thr/conf/perl-5.14.0/.cpanplus/5.14.0/build/Curses-1.28/blib/arch:/home/cpan/pit/thr/conf/perl-5.14.0/.cpanplus/5.14.0/build/TermReadKey-2.30/blib/lib:/home/cpan/pit/thr/conf/perl-5.14.0/.cpanplus/5.14.0/build/TermReadKey-2.30/blib/arch:/home/cpan/pit/thr/conf/perl-5.14.0/.cpanplus/5.14.0/build/Curses-UI-0.9607/blib/lib:/home/cpan/pit/thr/conf/perl-5.14.0/.cpanplus/5.14.0/build/Curses-UI-0.9607/blib/arch"
    PERL5_CPANPLUS_IS_RUNNING="9889"
    PERL5_CPANPLUS_IS_VERSION="0.9105"
    PERL5_MINISMOKEBOX="0.48"
    PERL5_YACSMOKE_BASE="/home/cpan/pit/thr/conf/perl-5.14.0"
    PERL_EXTUTILS_AUTOINSTALL="--defaultdeps"
    PERL_MM_USE_DEFAULT="1"
  @INC:
    /home/cpan/pit/thr/conf/perl-5.14.0/.cpanplus/5.14.0/build/Clone-0.31/blib/lib
    /home/cpan/pit/thr/conf/perl-5.14.0/.cpanplus/5.14.0/build/Clone-0.31/blib/arch
    /home/cpan/pit/thr/conf/perl-5.14.0/.cpanplus/5.14.0/build/Curses-1.28/blib/lib
    /home/cpan/pit/thr/conf/perl-5.14.0/.cpanplus/5.14.0/build/Curses-1.28/blib/arch
    /home/cpan/pit/thr/conf/perl-5.14.0/.cpanplus/5.14.0/build/TermReadKey-2.30/blib/lib
    /home/cpan/pit/thr/conf/perl-5.14.0/.cpanplus/5.14.0/build/TermReadKey-2.30/blib/arch
    /home/cpan/pit/thr/conf/perl-5.14.0/.cpanplus/5.14.0/build/Curses-UI-0.9607/blib/lib
    /home/cpan/pit/thr/conf/perl-5.14.0/.cpanplus/5.14.0/build/Curses-UI-0.9607/blib/arch
    /home/cpan/pit/thr/perl-5.14.0/lib/site_perl/5.14.0/OpenBSD.amd64-openbsd-thread-multi
    /home/cpan/pit/thr/perl-5.14.0/lib/site_perl/5.14.0
    /home/cpan/pit/thr/perl-5.14.0/lib/5.14.0/OpenBSD.amd64-openbsd-thread-multi
    /home/cpan/pit/thr/perl-5.14.0/lib/5.14.0
    .