Report for PerlPoint-Package-0.452

Back
From: metabase:user:322078bc-2aae-11df-837a-5e0a49663a4f
Subject: PASS PerlPoint-Package-0.452 v5.14.1 OpenBSD
Date: 2011-08-08T22:39:42Z

This distribution has been tested as part of the CPAN Testers
project, supporting the Perl programming language.  See
http://wiki.cpantesters.org/ for more information or email
questions to cpan-testers-discuss@perl.org


--

Dear Jochen Stenzel,

This is a computer-generated error report created automatically by
CPANPLUS, version 0.9109. Testers personal comments may appear
at the end of this report.

MAKE TEST passed: PERL_DL_NONLAZY=1 /home/cpan/pit/thr/perl-5.14.1/bin/perl "-MExtUtils::Command::MM" "-e" "test_harness(0, 'blib/lib', 'blib/arch')" t/*.t
t/l0_backend-base.t ... ok
t/l0_backend-modes.t .. ok
t/l0_backend-navi.t ... ok
Use of uninitialized value in uc at /home/cpan/pit/thr/conf/perl-5.14.1/.cpanplus/5.14.1/build/PerlPoint-Package-0.452/blib/lib/PerlPoint/Tags.pm line 502.
Use of uninitialized value in uc at /home/cpan/pit/thr/conf/perl-5.14.1/.cpanplus/5.14.1/build/PerlPoint-Package-0.452/blib/lib/PerlPoint/Tags.pm line 502.
t/l0_backend-toc.t .... ok
Use of uninitialized value in uc at /home/cpan/pit/thr/conf/perl-5.14.1/.cpanplus/5.14.1/build/PerlPoint-Package-0.452/blib/lib/PerlPoint/Tags.pm line 502.
Use of uninitialized value in uc at /home/cpan/pit/thr/conf/perl-5.14.1/.cpanplus/5.14.1/build/PerlPoint-Package-0.452/blib/lib/PerlPoint/Tags.pm line 502.
t/l0_cache-fill.t ..... ok
Use of uninitialized value in uc at /home/cpan/pit/thr/conf/perl-5.14.1/.cpanplus/5.14.1/build/PerlPoint-Package-0.452/blib/lib/PerlPoint/Tags.pm line 502.
Use of uninitialized value in uc at /home/cpan/pit/thr/conf/perl-5.14.1/.cpanplus/5.14.1/build/PerlPoint-Package-0.452/blib/lib/PerlPoint/Tags.pm line 502.
t/l0_cache-hits.t ..... ok
t/l0_cache-remove.t ... ok
t/l0_code.t ........... ok
t/l0_comments.t ....... ok
t/l0_conditions.t ..... ok
t/l0_docstreams1.t .... ok
t/l0_docstreams2.t .... ok
t/l0_docstreams3.t .... ok
t/l0_documents.t ...... ok
t/l0_embedded.t ....... ok
Use of uninitialized value in uc at /home/cpan/pit/thr/conf/perl-5.14.1/.cpanplus/5.14.1/build/PerlPoint-Package-0.452/blib/lib/PerlPoint/Tags.pm line 502.
Use of uninitialized value in uc at /home/cpan/pit/thr/conf/perl-5.14.1/.cpanplus/5.14.1/build/PerlPoint-Package-0.452/blib/lib/PerlPoint/Tags.pm line 502.
t/l0_headlines.t ...... ok
t/l0_ifilters.t ....... ok
t/l0_include1.t ....... ok
t/l0_include2.t ....... ok
t/l0_include3.t ....... ok
t/l0_include6.t ....... ok
Use of uninitialized value in uc at /home/cpan/pit/thr/conf/perl-5.14.1/.cpanplus/5.14.1/build/PerlPoint-Package-0.452/blib/lib/PerlPoint/Tags.pm line 502.
Use of uninitialized value in uc at /home/cpan/pit/thr/conf/perl-5.14.1/.cpanplus/5.14.1/build/PerlPoint-Package-0.452/blib/lib/PerlPoint/Tags.pm line 502.
t/l0_index.t .......... ok
t/l0_linehints.t ...... ok
t/l0_lists.t .......... ok
Use of uninitialized value in uc at /home/cpan/pit/thr/conf/perl-5.14.1/.cpanplus/5.14.1/build/PerlPoint-Package-0.452/blib/lib/PerlPoint/Tags.pm line 502.
Use of uninitialized value in uc at /home/cpan/pit/thr/conf/perl-5.14.1/.cpanplus/5.14.1/build/PerlPoint-Package-0.452/blib/lib/PerlPoint/Tags.pm line 502.
t/l0_macros.t ......... ok
Use of uninitialized value in uc at /home/cpan/pit/thr/conf/perl-5.14.1/.cpanplus/5.14.1/build/PerlPoint-Package-0.452/blib/lib/PerlPoint/Tags.pm line 502.
Use of uninitialized value in uc at /home/cpan/pit/thr/conf/perl-5.14.1/.cpanplus/5.14.1/build/PerlPoint-Package-0.452/blib/lib/PerlPoint/Tags.pm line 502.
t/l0_pfilters.t ....... ok
t/l0_simple.t ......... ok
t/l0_tables.t ......... ok
Use of uninitialized value in uc at /home/cpan/pit/thr/conf/perl-5.14.1/.cpanplus/5.14.1/build/PerlPoint-Package-0.452/blib/lib/PerlPoint/Tags.pm line 502.
Use of uninitialized value in uc at /home/cpan/pit/thr/conf/perl-5.14.1/.cpanplus/5.14.1/build/PerlPoint-Package-0.452/blib/lib/PerlPoint/Tags.pm line 502.
t/l0_tags.t ........... ok
t/l0_text.t ........... ok
t/l0_variables1.t ..... ok
t/l0_variables2.t ..... ok
t/l0_variables3.t ..... ok
t/l0_verbatim.t ....... ok
t/l9_pod-coverage.t ... skipped: Test::Pod::Coverage 1.00 required for testing POD coverage
t/l9_pod.t ............ skipped: Test::Pod 1.00 required for testing POD
All tests successful.
Files=36, Tests=14084, 16 wallclock secs ( 2.55 usr  0.24 sys + 10.95 cusr  1.55 csys = 15.29 CPU)
Result: PASS

[MSG] [Mon Aug  8 23:39:42 2011] Sending test report for 'PerlPoint-Package-0.452'

This report was machine-generated by CPANPLUS::Dist::YACSmoke 0.64.
Powered by minismokebox version 0.54

------------------------------
ENVIRONMENT AND OTHER CONTEXT
------------------------------

Environment variables:

    AUTOMATED_TESTING = 1
    PATH = /home/cpan/bin:/bin:/sbin:/usr/bin:/usr/sbin:/usr/X11R6/bin:/usr/local/bin:/usr/local/sbin:/usr/games:.
    PERL5LIB = :/home/cpan/pit/thr/conf/perl-5.14.1/.cpanplus/5.14.1/build/Getopt-ArgvFile-1.11/blib/lib:/home/cpan/pit/thr/conf/perl-5.14.1/.cpanplus/5.14.1/build/Getopt-ArgvFile-1.11/blib/arch:/home/cpan/pit/thr/conf/perl-5.14.1/.cpanplus/5.14.1/build/Digest-SHA1-2.13/blib/lib:/home/cpan/pit/thr/conf/perl-5.14.1/.cpanplus/5.14.1/build/Digest-SHA1-2.13/blib/arch:/home/cpan/pit/thr/conf/perl-5.14.1/.cpanplus/5.14.1/build/PerlPoint-Package-0.452/blib/lib:/home/cpan/pit/thr/conf/perl-5.14.1/.cpanplus/5.14.1/build/PerlPoint-Package-0.452/blib/arch
    PERL5_CPANPLUS_IS_RUNNING = 6634
    PERL5_CPANPLUS_IS_VERSION = 0.9109
    PERL5_MINISMOKEBOX = 0.54
    PERL5_YACSMOKE_BASE = /home/cpan/pit/thr/conf/perl-5.14.1
    PERL_EXTUTILS_AUTOINSTALL = --defaultdeps
    PERL_MM_USE_DEFAULT = 1
    SHELL = /usr/local/bin/bash
    TERM = screen

Perl special variables (and OS-specific diagnostics, for MSWin32):

    Perl: $^X = /home/cpan/pit/thr/perl-5.14.1/bin/perl
    UID:  $<  = 1001
    EUID: $>  = 1001
    GID:  $(  = 1001 1001
    EGID: $)  = 1001 1001


-------------------------------


--

Summary of my perl5 (revision 5 version 14 subversion 1) configuration:
   
  Platform:
    osname=openbsd, osvers=4.9, archname=OpenBSD.amd64-openbsd-thread-multi
    uname='openbsd ostrich.bingosnet.co.uk 4.9 generic#477 amd64 '
    config_args='-des -Dprefix=/home/cpan/pit/thr/perl-5.14.1 -Dusethreads'
    hint=recommended, useposix=true, d_sigaction=define
    useithreads=define, usemultiplicity=define
    useperlio=define, d_sfio=undef, uselargefiles=define, usesocks=undef
    use64bitint=define, use64bitall=define, uselongdouble=undef
    usemymalloc=y, bincompat5005=undef
  Compiler:
    cc='cc', ccflags ='-pthread -fno-strict-aliasing -pipe -fstack-protector -I/usr/local/include',
    optimize='-O2',
    cppflags='-pthread -fno-strict-aliasing -pipe -fstack-protector -I/usr/local/include'
    ccversion='', gccversion='4.2.1 20070719 ', gccosandvers='openbsd4.9'
    intsize=4, longsize=8, ptrsize=8, doublesize=8, byteorder=12345678
    d_longlong=define, longlongsize=8, d_longdbl=define, longdblsize=16
    ivtype='long', ivsize=8, nvtype='double', nvsize=8, Off_t='off_t', lseeksize=8
    alignbytes=8, prototype=define
  Linker and Libraries:
    ld='cc', ldflags ='-pthread -Wl,-E  -fstack-protector -L/usr/local/lib'
    libpth=/usr/local/lib /usr/lib
    libs=-lgdbm -lm -lutil -lc
    perllibs=-lm -lutil -lc
    libc=/usr/lib/libc.so.58.0, so=so, useshrplib=false, libperl=libperl.a
    gnulibc_version=''
  Dynamic Linking:
    dlsrc=dl_dlopen.xs, dlext=so, d_dlsymun=undef, ccdlflags=' '
    cccdlflags='-DPIC -fPIC ', lddlflags='-shared -fPIC  -L/usr/local/lib -fstack-protector'


Characteristics of this binary (from libperl): 
  Compile-time options: MULTIPLICITY MYMALLOC PERL_DONT_CREATE_GVSV
                        PERL_IMPLICIT_CONTEXT PERL_MALLOC_WRAP
                        PERL_PRESERVE_IVUV USE_64_BIT_ALL USE_64_BIT_INT
                        USE_ITHREADS USE_LARGE_FILES USE_PERLIO USE_PERL_ATOF
                        USE_REENTRANT_API
  Built under openbsd
  Compiled at Jun 23 2011 21:29:47
  %ENV:
    PERL5LIB=":/home/cpan/pit/thr/conf/perl-5.14.1/.cpanplus/5.14.1/build/Getopt-ArgvFile-1.11/blib/lib:/home/cpan/pit/thr/conf/perl-5.14.1/.cpanplus/5.14.1/build/Getopt-ArgvFile-1.11/blib/arch:/home/cpan/pit/thr/conf/perl-5.14.1/.cpanplus/5.14.1/build/Digest-SHA1-2.13/blib/lib:/home/cpan/pit/thr/conf/perl-5.14.1/.cpanplus/5.14.1/build/Digest-SHA1-2.13/blib/arch:/home/cpan/pit/thr/conf/perl-5.14.1/.cpanplus/5.14.1/build/PerlPoint-Package-0.452/blib/lib:/home/cpan/pit/thr/conf/perl-5.14.1/.cpanplus/5.14.1/build/PerlPoint-Package-0.452/blib/arch"
    PERL5_CPANPLUS_IS_RUNNING="6634"
    PERL5_CPANPLUS_IS_VERSION="0.9109"
    PERL5_MINISMOKEBOX="0.54"
    PERL5_YACSMOKE_BASE="/home/cpan/pit/thr/conf/perl-5.14.1"
    PERL_EXTUTILS_AUTOINSTALL="--defaultdeps"
    PERL_MM_USE_DEFAULT="1"
  @INC:
    /home/cpan/pit/thr/conf/perl-5.14.1/.cpanplus/5.14.1/build/Getopt-ArgvFile-1.11/blib/lib
    /home/cpan/pit/thr/conf/perl-5.14.1/.cpanplus/5.14.1/build/Getopt-ArgvFile-1.11/blib/arch
    /home/cpan/pit/thr/conf/perl-5.14.1/.cpanplus/5.14.1/build/Digest-SHA1-2.13/blib/lib
    /home/cpan/pit/thr/conf/perl-5.14.1/.cpanplus/5.14.1/build/Digest-SHA1-2.13/blib/arch
    /home/cpan/pit/thr/conf/perl-5.14.1/.cpanplus/5.14.1/build/PerlPoint-Package-0.452/blib/lib
    /home/cpan/pit/thr/conf/perl-5.14.1/.cpanplus/5.14.1/build/PerlPoint-Package-0.452/blib/arch
    /home/cpan/pit/thr/perl-5.14.1/lib/site_perl/5.14.1/OpenBSD.amd64-openbsd-thread-multi
    /home/cpan/pit/thr/perl-5.14.1/lib/site_perl/5.14.1
    /home/cpan/pit/thr/perl-5.14.1/lib/5.14.1/OpenBSD.amd64-openbsd-thread-multi
    /home/cpan/pit/thr/perl-5.14.1/lib/5.14.1
    .