Pod-Markdown v3.200 Perl 5 v5.24.4 i86pc-solaris-thread-multi

Status
Pass
From
Nigel Horne
Dist
Pod-Markdown v3.200
Platform
Perl 5 v5.24.4 i86pc-solaris-thread-multi
Date
2020-05-10 15:38:33
ID
4ea93df4-92d4-11ea-a3d9-50efc181c852
This distribution has been tested as part of the CPAN Testers
project, supporting the Perl programming language.  See
http://wiki.cpantesters.org/ for more information or email
questions to cpan-testers-discuss@perl.org


--
Dear Randy Stauner,

This is a computer-generated report for Pod-Markdown-3.200
on perl 5.24.4, created by CPAN-Reporter-1.2018.

Thank you for uploading your work to CPAN.  Congratulations!
All tests were successful.

Sections of this report:

    * Tester comments
    * Program output
    * Prerequisites
    * Environment and other context

------------------------------
TESTER COMMENTS
------------------------------

Additional comments from tester:

this report is from an automated smoke testing program
and was not reviewed by a human for accuracy

------------------------------
PROGRAM OUTPUT
------------------------------

Output from '/usr/bin/make test':

PERL_DL_NONLAZY=1 "/export/home/njh/perl5/perlbrew/perls/perl-5.24.4-thread/bin/perl5.24.4" "-MExtUtils::Command::MM" "-MTest::Harness" "-e" "undef *Test::Harness::Switches; test_harness(0, 'blib/lib', 'blib/arch')" t/*.t
t/00-compile.t ......... ok
# 
# Versions for all modules listed in MYMETA.json (including optional ones):
# 
# === Configure Requires ===
# 
#     Module              Want Have
#     ------------------- ---- ----
#     ExtUtils::MakeMaker  any 7.34
# 
# === Build Requires ===
# 
#     Module              Want Have
#     ------------------- ---- ----
#     ExtUtils::MakeMaker  any 7.34
# 
# === Test Requires ===
# 
#     Module                Want     Have
#     --------------------- ---- --------
#     Exporter               any     5.73
#     ExtUtils::MakeMaker    any     7.34
#     File::Spec             any     3.75
#     File::Spec::Functions  any     3.75
#     File::Temp             any   0.2308
#     IO::Handle             any     1.39
#     IPC::Open3             any     1.20
#     Symbol                 any     1.07
#     Test::Differences      any     0.64
#     Test::More            0.88 1.302170
#     lib                    any     0.63
#     utf8                   any     1.19
# 
# === Test Recommends ===
# 
#     Module         Want     Have
#     ---------- -------- --------
#     CPAN::Meta 2.120900 2.150010
# 
# === Runtime Requires ===
# 
#     Module               Want  Have
#     -------------------- ---- -----
#     Encode                any  3.02
#     Getopt::Long          any  2.51
#     Pod::Simple          3.27  3.38
#     Pod::Simple::Methody  any  3.38
#     Pod::Usage            any  1.69
#     URI::Escape           any  3.31
#     parent                any 0.237
#     strict                any  1.11
#     warnings              any  1.36
# 
# === Runtime Recommends ===
# 
#     Module         Want Have
#     -------------- ---- ----
#     HTML::Entities  any 3.69
# 
t/00-report-prereqs.t .. ok
t/back-compat.t ........ ok
t/basic.t .............. ok
t/codes.t .............. ok
t/encoding.t ........... ok
t/entities.t ........... ok
t/escape.t ............. ok
t/formats.t ............ ok
t/links.t .............. ok
t/lists.t .............. ok
t/meta.t ............... ok
t/misc.t ............... ok
t/nested.t ............. ok
t/new.t ................ ok
t/perldoc.t ............ ok
t/pod2markdown.t ....... ok
t/verbatim.t ........... ok
All tests successful.
Files=18, Tests=354,  7 wallclock secs ( 0.11 usr  0.05 sys +  4.72 cusr  1.06 csys =  5.94 CPU)
Result: PASS

------------------------------
PREREQUISITES
------------------------------

Prerequisite modules loaded:

requires:

    Module                Need  Have    
    --------------------- ----- --------
    Encode                0     3.02    
    Getopt::Long          0     2.51    
    parent                0     0.237   
    perl                  5.008 5.024004
    Pod::Simple           3.27  3.38    
    Pod::Simple::Methody  0     3.38    
    Pod::Usage            0     1.69    
    strict                0     1.11    
    URI::Escape           0     3.31    
    warnings              0     1.36    

build_requires:

    Module                Need  Have    
    --------------------- ----- --------
    Exporter              0     5.73    
    ExtUtils::MakeMaker   0     7.34    
    File::Spec            0     3.75    
    File::Spec::Functions 0     3.75    
    File::Temp            0     0.2308  
    IO::Handle            0     1.39    
    IPC::Open3            0     1.20    
    lib                   0     0.63    
    Symbol                0     1.07    
    Test::Differences     0     0.64    
    Test::More            0.88  1.302170
    utf8                  0     1.19    

configure_requires:

    Module                Need  Have    
    --------------------- ----- --------
    ExtUtils::MakeMaker   0     7.34    
    perl                  5.008 5.024004


------------------------------
ENVIRONMENT AND OTHER CONTEXT
------------------------------

Environment variables:

    AUTOMATED_TESTING = 1
    NONINTERACTIVE_TESTING = 1
    PATH = /export/home/njh/perl5/perlbrew/bin:/export/home/njh/perl5/perlbrew/perls/perl-5.24.4-thread/bin:/export/home/njh/src/njh/smoker/bin:/usr/bin
    PERL5LIB = /export/home/njh/.cpan/build/List-AutoNumbered-0.000010-0/blib/arch:/export/home/njh/.cpan/build/List-AutoNumbered-0.000010-0/blib/lib:/export/home/njh/.cpan/build/lib-relative-1.000-0/blib/arch:/export/home/njh/.cpan/build/lib-relative-1.000-0/blib/lib:/export/home/njh/.cpan/build/Import-Into-1.002005-0/blib/arch:/export/home/njh/.cpan/build/Import-Into-1.002005-0/blib/lib:/export/home/njh/.cpan/build/Graph-0.9704-0/blib/arch:/export/home/njh/.cpan/build/Graph-0.9704-0/blib/lib:/export/home/njh/.cpan/build/Getargs-Mixed-1.06-0/blib/arch:/export/home/njh/.cpan/build/Getargs-Mixed-1.06-0/blib/lib
    PERL5OPT = 
    PERL5_CPANPLUS_IS_RUNNING = 9667
    PERL5_CPAN_IS_RUNNING = 9667
    PERL5_CPAN_IS_RUNNING_IN_RECURSION = 9650,9667
    PERLBREW_HOME = /export/home/njh/.perlbrew
    PERLBREW_MANPATH = /export/home/njh/perl5/perlbrew/perls/perl-5.24.4-thread/man
    PERLBREW_PATH = /export/home/njh/perl5/perlbrew/bin:/export/home/njh/perl5/perlbrew/perls/perl-5.24.4-thread/bin
    PERLBREW_PERL = perl-5.24.4-thread
    PERLBREW_ROOT = /export/home/njh/perl5/perlbrew
    PERLBREW_SHELLRC_VERSION = 0.87
    PERLBREW_VERSION = 0.87
    PERL_MM_USE_DEFAULT = 1
    PERL_USE_UNSAFE_INC = 1
    SHELL = /usr/bin/bash
    TERM = dumb
    TMPDIR = /tmp/testwrapper.9653

Perl special variables (and OS-specific diagnostics, for MSWin32):

    $^X = /export/home/njh/perl5/perlbrew/perls/perl-5.24.4-thread/bin/perl5.24.4
    $UID/$EUID = 101 / 101
    $GID = 10 10
    $EGID = 10 10

Perl module toolchain versions installed:

    Module              Have    
    ------------------- --------
    CPAN                2.26    
    CPAN::Meta          2.150010
    Cwd                 3.75    
    ExtUtils::CBuilder  0.280230
    ExtUtils::Command   7.34    
    ExtUtils::Install   2.14    
    ExtUtils::MakeMaker 7.34    
    ExtUtils::Manifest  1.71    
    ExtUtils::ParseXS   3.35    
    File::Spec          3.75    
    JSON                4.02    
    JSON::PP            4.03    
    Module::Build       0.4224  
    Module::Signature   n/a     
    Parse::CPAN::Meta   2.150010
    Test::Harness       3.42    
    Test::More          1.302170
    YAML                1.30    
    YAML::Syck          1.32    
    version             0.9924  


--

Summary of my perl5 (revision 5 version 24 subversion 4) configuration:
   
  Platform:
    osname=solaris, osvers=2.11, archname=i86pc-solaris-thread-multi
    uname='sunos vultr1.bandsman.co.uk 5.11 illumos-b075503f22 i86pc i386 i86pc '
    config_args='-de -Dprefix=/export/home/njh/perl5/perlbrew/perls/perl-5.24.4-thread -Dusedevel -Dusethreads -Accflags= -Aeval:scriptdir=/export/home/njh/perl5/perlbrew/perls/perl-5.24.4-thread/bin'
    hint=recommended, useposix=true, d_sigaction=define
    useithreads=define, usemultiplicity=define
    use64bitint=undef, use64bitall=undef, uselongdouble=undef
    usemymalloc=n, bincompat5005=undef
  Compiler:
    cc='/opt/SUNWspro/bin/cc', ccflags ='-D_REENTRANT -I/usr/gnu/include -D_LARGEFILE_SOURCE -D_FILE_OFFSET_BITS=64 -DPERL_USE_SAFE_PUTENV',
    optimize='-O',
    cppflags='-D_REENTRANT -I/usr/gnu/include'
    ccversion='Sun C 5.10 SunOS_i386 2009/06/03', gccversion='', gccosandvers=''
    intsize=4, longsize=4, ptrsize=4, doublesize=8, byteorder=1234, doublekind=3
    d_longlong=define, longlongsize=8, d_longdbl=define, longdblsize=12, longdblkind=3
    ivtype='long', ivsize=4, nvtype='double', nvsize=8, Off_t='off_t', lseeksize=8
    alignbytes=4, prototype=define
  Linker and Libraries:
    ld='/opt/SUNWspro/bin/cc', ldflags =' -L/usr/lib -L/usr/ccs/lib -L/opt/sunstudio12.1/prod/lib -L/lib -L/usr/gnu/lib '
    libpth=/usr/lib /usr/ccs/lib /opt/sunstudio12.1/prod/lib /lib /usr/gnu/lib
    libs=-lpthread -lsocket -lnsl -lgdbm -ldb -ldl -lm -lc
    perllibs=-lpthread -lsocket -lnsl -ldl -lm -lc
    libc=/lib/libc.so, so=so, useshrplib=true, libperl=libperl.so
    gnulibc_version=''
  Dynamic Linking:
    dlsrc=dl_dlopen.xs, dlext=so, d_dlsymun=undef, ccdlflags='  -R /export/home/njh/perl5/perlbrew/perls/perl-5.24.4-thread/lib/5.24.4/i86pc-solaris-thread-multi/CORE'
    cccdlflags='-KPIC', lddlflags='-G -L/usr/lib -L/usr/ccs/lib -L/opt/sunstudio12.1/prod/lib -L/lib -L/usr/gnu/lib'


Characteristics of this binary (from libperl): 
  Compile-time options: HAS_TIMES MULTIPLICITY PERLIO_LAYERS
                        PERL_COPY_ON_WRITE PERL_DONT_CREATE_GVSV
                        PERL_HASH_FUNC_ONE_AT_A_TIME_HARD
                        PERL_IMPLICIT_CONTEXT PERL_MALLOC_WRAP
                        PERL_PRESERVE_IVUV PERL_USE_DEVEL
                        PERL_USE_SAFE_PUTENV USE_ITHREADS USE_LARGE_FILES
                        USE_LOCALE USE_LOCALE_COLLATE USE_LOCALE_CTYPE
                        USE_LOCALE_NUMERIC USE_LOCALE_TIME USE_PERLIO
                        USE_PERL_ATOF USE_REENTRANT_API
  Locally applied patches:
	Devel::PatchPerl 1.52
  Built under solaris
  Compiled at Sep 11 2018 00:41:23
  %ENV:
    PERL5LIB="/export/home/njh/.cpan/build/List-AutoNumbered-0.000010-0/blib/arch:/export/home/njh/.cpan/build/List-AutoNumbered-0.000010-0/blib/lib:/export/home/njh/.cpan/build/lib-relative-1.000-0/blib/arch:/export/home/njh/.cpan/build/lib-relative-1.000-0/blib/lib:/export/home/njh/.cpan/build/Import-Into-1.002005-0/blib/arch:/export/home/njh/.cpan/build/Import-Into-1.002005-0/blib/lib:/export/home/njh/.cpan/build/Graph-0.9704-0/blib/arch:/export/home/njh/.cpan/build/Graph-0.9704-0/blib/lib:/export/home/njh/.cpan/build/Getargs-Mixed-1.06-0/blib/arch:/export/home/njh/.cpan/build/Getargs-Mixed-1.06-0/blib/lib"
    PERL5OPT=""
    PERL5_CPANPLUS_IS_RUNNING="9667"
    PERL5_CPAN_IS_RUNNING="9667"
    PERL5_CPAN_IS_RUNNING_IN_RECURSION="9650,9667"
    PERLBREW_HOME="/export/home/njh/.perlbrew"
    PERLBREW_MANPATH="/export/home/njh/perl5/perlbrew/perls/perl-5.24.4-thread/man"
    PERLBREW_PATH="/export/home/njh/perl5/perlbrew/bin:/export/home/njh/perl5/perlbrew/perls/perl-5.24.4-thread/bin"
    PERLBREW_PERL="perl-5.24.4-thread"
    PERLBREW_ROOT="/export/home/njh/perl5/perlbrew"
    PERLBREW_SHELLRC_VERSION="0.87"
    PERLBREW_VERSION="0.87"
    PERL_MM_USE_DEFAULT="1"
    PERL_USE_UNSAFE_INC="1"
  @INC:
    /export/home/njh/.cpan/build/List-AutoNumbered-0.000010-0/blib/arch
    /export/home/njh/.cpan/build/List-AutoNumbered-0.000010-0/blib/lib
    /export/home/njh/.cpan/build/lib-relative-1.000-0/blib/arch
    /export/home/njh/.cpan/build/lib-relative-1.000-0/blib/lib
    /export/home/njh/.cpan/build/Import-Into-1.002005-0/blib/arch
    /export/home/njh/.cpan/build/Import-Into-1.002005-0/blib/lib
    /export/home/njh/.cpan/build/Graph-0.9704-0/blib/arch
    /export/home/njh/.cpan/build/Graph-0.9704-0/blib/lib
    /export/home/njh/.cpan/build/Getargs-Mixed-1.06-0/blib/arch
    /export/home/njh/.cpan/build/Getargs-Mixed-1.06-0/blib/lib
    /export/home/njh/perl5/perlbrew/perls/perl-5.24.4-thread/lib/site_perl/5.24.4/i86pc-solaris-thread-multi
    /export/home/njh/perl5/perlbrew/perls/perl-5.24.4-thread/lib/site_perl/5.24.4
    /export/home/njh/perl5/perlbrew/perls/perl-5.24.4-thread/lib/5.24.4/i86pc-solaris-thread-multi
    /export/home/njh/perl5/perlbrew/perls/perl-5.24.4-thread/lib/5.24.4
    .