Test-CleanNamespaces v0.24 Perl 5 v5.12.2 i86pc-solaris-thread-multi-64

Status
Pass
From
Chris Williams (BINGOS)
Dist
Test-CleanNamespaces v0.24
Platform
Perl 5 v5.12.2 i86pc-solaris-thread-multi-64
Date
2020-10-23 04:07:46
ID
4e8079c6-14e5-11eb-a9f9-f9eb91108de4
This distribution has been tested as part of the CPAN Testers
project, supporting the Perl programming language.  See
http://wiki.cpantesters.org/ for more information or email
questions to cpan-testers-discuss@perl.org


--

Dear Karen Etheridge,

This is a computer-generated error report created automatically by
CPANPLUS, version 0.9908. Testers personal comments may appear
at the end of this report.


Thank you for uploading your work to CPAN.  Congratulations!
All tests were successful.

TEST RESULTS:

Below is the error stack from stage 'make test':

PERL_DL_NONLAZY=1 "/home/cpan/pit/thr/perl-5.12.2/bin/perl" "-MExtUtils::Command::MM" "-MTest::Harness" "-e" "undef *Test::Harness::Switches; test_harness(0, 'blib/lib', 'blib/arch')" t/*.t
# 
# Versions for all modules listed in MYMETA.json (including optional ones):
# 
# === Configure Requires ===
# 
#     Module                       Want     Have
#     ------------------------ -------- --------
#     CPAN::Meta::Requirements 2.120620    2.131
#     ExtUtils::MakeMaker           any     7.48
#     Module::Metadata              any 1.000037
# 
# === Build Requires ===
# 
#     Module              Want Have
#     ------------------- ---- ----
#     ExtUtils::MakeMaker  any 7.48
# 
# === Test Requires ===
# 
#     Module                 Want     Have
#     --------------------- ----- --------
#     ExtUtils::MakeMaker     any     7.48
#     File::Spec              any     3.75
#     File::Spec::Functions   any     3.75
#     File::pushd             any    1.016
#     Scalar::Util            any     1.55
#     Sub::Exporter           any    0.987
#     Test::Deep              any    1.130
#     Test::More             0.96 1.302181
#     Test::Needs             any 0.002006
#     Test::Tester            any 1.302181
#     Test::Warnings        0.009    0.030
#     constant                any     1.20
#     if                      any     0.05
#     lib                     any     0.62
#     namespace::clean        any     0.27
#     overload                any     1.10
#     parent                  any    0.223
# 
# === Test Recommends ===
# 
#     Module         Want     Have
#     ---------- -------- --------
#     CPAN::Meta 2.120900 2.150010
# 
# === Test Suggests ===
# 
#     Module                          Want     Have
#     --------------------------- -------- --------
#     Class::MOP::Class                any  missing
#     Moo                              any 2.004000
#     Moo::Role                        any 2.004000
#     Moose                            any  missing
#     Moose::Exporter                  any  missing
#     Moose::Role                      any  missing
#     MooseX::Role::Parameterized      any  missing
#     Mouse                            any  missing
#     Mouse::Role                      any  missing
#     Role::Tiny                  1.003000 2.001004
#     metaclass                        any  missing
# 
# === Runtime Requires ===
# 
#     Module              Want     Have
#     --------------- -------- --------
#     Exporter            5.57  5.64_01
#     File::Find           any     1.15
#     File::Spec           any     3.75
#     Module::Runtime      any    0.016
#     Package::Stash      0.14     0.38
#     Role::Tiny      1.003000 2.001004
#     Sub::Identify        any     0.14
#     Test::Builder        any 1.302181
#     strict               any     1.04
#     warnings             any     1.09
# 
# === Runtime Recommends ===
# 
#     Module             Want Have
#     ------------------ ---- ----
#     Package::Stash::XS  any 0.29
# 
# === Runtime Suggests ===
# 
#     Module     Want     Have
#     ---------- ---- --------
#     Role::Tiny  any 2.001004
# 
# === Other Modules ===
# 
#     Module             Have
#     --------------- -------
#     Encode             3.07
#     File::Temp       0.2311
#     JSON::PP           4.05
#     Module::Runtime   0.016
#     Pod::Coverage   missing
#     Sub::Name          0.26
#     YAML            missing
#     autodie         2.06_01
# 
t/00-report-prereqs.t ......... ok
t/basic.t ..................... ok
t/class_mop.t ................. skipped: Need Class::MOP
t/clean-namespaces.t .......... ok
t/find_modules.t .............. ok
t/moo.t ....................... ok
t/moose-parameterized-role.t .. skipped: Need Moose, MooseX::Role::Parameterized
t/moose.t ..................... skipped: Need Moose
t/mouse.t ..................... skipped: Need Mouse
t/overload.t .................. ok
t/role_tiny.t ................. ok
t/self.t ...................... ok
t/zzz-check-breaks.t .......... ok
All tests successful.
Files=13, Tests=134,  3 wallclock secs ( 0.10 usr  0.06 sys +  2.39 cusr  0.62 csys =  3.18 CPU)
Result: PASS


PREREQUISITES:

Here is a list of prerequisites you specified and versions we
managed to load:

	  Module Name                        Have     Want
	  Exporter                        5.64_01     5.57
	  ExtUtils::MakeMaker                7.48        0
	  File::Find                         1.15        0
	  File::Spec                         3.75        0
	  File::Spec::Functions              3.75        0
	  File::pushd                       1.016        0
	  Module::Runtime                   0.016        0
	  Package::Stash                     0.38     0.14
	  Role::Tiny                     2.001004 1.003000
	  Scalar::Util                       1.55        0
	  Sub::Exporter                     0.987        0
	  Sub::Identify                      0.14        0
	  Test::Builder                  1.302181        0
	  Test::Deep                        1.130        0
	  Test::More                     1.302181     0.96
	  Test::Needs                    0.002006        0
	  Test::Tester                   1.302181        0
	  Test::Warnings                    0.030    0.009
	  constant                           1.20        0
	  if                                 0.05        0
	  lib                                0.62        0
	  namespace::clean                   0.27        0
	  overload                           1.10        0
	  parent                            0.223        0
	  strict                             1.04        0
	  warnings                           1.09        0

Perl module toolchain versions installed:
	Module Name                        Have
	CPANPLUS                         0.9908
	CPANPLUS::Dist::Build              0.90
	Cwd                                3.75
	ExtUtils::CBuilder             0.280234
	ExtUtils::Command                  7.48
	ExtUtils::Install                  2.18
	ExtUtils::MakeMaker                7.48
	ExtUtils::Manifest                 1.72
	ExtUtils::ParseXS                  3.35
	File::Spec                         3.75
	Module::Build                    0.4231
	Pod::Parser                        1.63
	Pod::Simple                        3.41
	Test2                          1.302181
	Test::Harness                      3.42
	Test::More                     1.302181
	version                          0.9928

******************************** NOTE ********************************
The comments above are created mechanically, possibly without manual
checking by the sender.  As there are many people performing automatic
tests on each upload to CPAN, it is likely that you will receive
identical messages about the same problem.

If you believe that the message is mistaken, please reply to the first
one with correction and/or additional informations, and do not take
it personally.  We appreciate your patience. :)
**********************************************************************

Additional comments:


This report was machine-generated by CPANPLUS::Dist::YACSmoke 1.08.
Powered by minismokebox version 0.68

CPANPLUS is prefering Build.PL

------------------------------
ENVIRONMENT AND OTHER CONTEXT
------------------------------

Environment variables:

    AUTOMATED_TESTING = 1
    LANG = en_GB.UTF-8
    NONINTERACTIVE_TESTING = 1
    PATH = /usr/bin:/usr/sbin:/sbin:/opt/ooce/bin:/usr/gnu/bin
    PERL5LIB = /home/cpan/pit/jail/ALYT2jN_Nx/lib/perl5:/home/cpan/pit/thr/conf/perl-5.12.2/.cpanplus/5.12.2/build/cJOqPAF0jp/Test-CleanNamespaces-0.24/blib/lib:/home/cpan/pit/thr/conf/perl-5.12.2/.cpanplus/5.12.2/build/cJOqPAF0jp/Test-CleanNamespaces-0.24/blib/arch
    PERL5_CPANPLUS_IS_RUNNING = 15954
    PERL5_CPANPLUS_IS_VERSION = 0.9908
    PERL5_MINISMOKEBOX = 0.68
    PERL5_YACSMOKE_BASE = /home/cpan/pit/thr/conf/perl-5.12.2
    PERL_EXTUTILS_AUTOINSTALL = --defaultdeps
    PERL_LOCAL_LIB_ROOT = /home/cpan/pit/jail/ALYT2jN_Nx
    PERL_MB_OPT = --install_base "/home/cpan/pit/jail/ALYT2jN_Nx"
    PERL_MM_OPT = INSTALL_BASE=/home/cpan/pit/jail/ALYT2jN_Nx
    PERL_MM_USE_DEFAULT = 1
    PERL_USE_UNSAFE_INC = 1
    SHELL = /bin/bash
    TERM = screen

Perl special variables (and OS-specific diagnostics, for MSWin32):

    Perl: $^X = /home/cpan/pit/thr/perl-5.12.2/bin/perl
    UID:  $<  = 101
    EUID: $>  = 101
    GID:  $(  = 101 101
    EGID: $)  = 101 101


-------------------------------


--

Summary of my perl5 (revision 5 version 12 subversion 2) configuration:
   
  Platform:
    osname=solaris, osvers=2.11, archname=i86pc-solaris-thread-multi-64
    uname='sunos ouzel 5.11 omnios-r151034-0d278a0cc5 i86pc i386 i86pc '
    config_args='-des -Dprefix=/home/cpan/pit/thr/perl-5.12.2 -Dusethreads -Duse64bitall -Dcc=gcc'
    hint=recommended, useposix=true, d_sigaction=define
    useithreads=define, usemultiplicity=define
    useperlio=define, d_sfio=undef, uselargefiles=define, usesocks=undef
    use64bitint=define, use64bitall=define, uselongdouble=undef
    usemymalloc=n, bincompat5005=undef
  Compiler:
    cc='gcc', ccflags ='-D_REENTRANT -m64 -fwrapv -fno-strict-aliasing -pipe -fstack-protector -D_LARGEFILE_SOURCE -D_FILE_OFFSET_BITS=64 -DPERL_USE_SAFE_PUTENV',
    optimize='-O',
    cppflags='-D_REENTRANT -m64 -fwrapv -fno-strict-aliasing -pipe -fstack-protector'
    ccversion='', gccversion='9.3.0', gccosandvers=''
    intsize=4, longsize=8, ptrsize=8, doublesize=8, byteorder=12345678
    d_longlong=define, longlongsize=8, d_longdbl=define, longdblsize=16
    ivtype='long', ivsize=8, nvtype='double', nvsize=8, Off_t='off_t', lseeksize=8
    alignbytes=8, prototype=define
  Linker and Libraries:
    ld='gcc', ldflags =' -m64 -fstack-protector -L/usr/gnu/lib '
    libpth=/usr/gnu/lib /usr/lib /usr/ccs/lib
    libs=-lsocket -lnsl -ldl -lm -lpthread -lc
    perllibs=-lsocket -lnsl -ldl -lm -lpthread -lc
    libc=/lib/libc.so, so=so, useshrplib=true, libperl=libperl.so
    gnulibc_version=''
  Dynamic Linking:
    dlsrc=dl_dlopen.xs, dlext=so, d_dlsymun=undef, ccdlflags='  -R /home/cpan/pit/thr/perl-5.12.2/lib/5.12.2/i86pc-solaris-thread-multi-64/CORE'
    cccdlflags='-fPIC', lddlflags=' -shared -m64 -L/usr/gnu/lib -fstack-protector'


Characteristics of this binary (from libperl): 
  Compile-time options: MULTIPLICITY PERL_DONT_CREATE_GVSV
                        PERL_IMPLICIT_CONTEXT PERL_MALLOC_WRAP
                        PERL_USE_SAFE_PUTENV USE_64_BIT_ALL USE_64_BIT_INT
                        USE_ITHREADS USE_LARGE_FILES USE_PERLIO USE_PERL_ATOF
                        USE_REENTRANT_API
  Locally applied patches:
	Devel::PatchPerl 2.00
  Built under solaris
  Compiled at Aug 19 2020 21:50:00
  %ENV:
    PERL5LIB="/home/cpan/pit/jail/ALYT2jN_Nx/lib/perl5:/home/cpan/pit/thr/conf/perl-5.12.2/.cpanplus/5.12.2/build/cJOqPAF0jp/Test-CleanNamespaces-0.24/blib/lib:/home/cpan/pit/thr/conf/perl-5.12.2/.cpanplus/5.12.2/build/cJOqPAF0jp/Test-CleanNamespaces-0.24/blib/arch"
    PERL5_CPANPLUS_IS_RUNNING="15954"
    PERL5_CPANPLUS_IS_VERSION="0.9908"
    PERL5_MINISMOKEBOX="0.68"
    PERL5_YACSMOKE_BASE="/home/cpan/pit/thr/conf/perl-5.12.2"
    PERL_EXTUTILS_AUTOINSTALL="--defaultdeps"
    PERL_LOCAL_LIB_ROOT="/home/cpan/pit/jail/ALYT2jN_Nx"
    PERL_MB_OPT="--install_base "/home/cpan/pit/jail/ALYT2jN_Nx""
    PERL_MM_OPT="INSTALL_BASE=/home/cpan/pit/jail/ALYT2jN_Nx"
    PERL_MM_USE_DEFAULT="1"
    PERL_USE_UNSAFE_INC="1"
  @INC:
    /home/cpan/pit/jail/ALYT2jN_Nx/lib/perl5/5.12.2/i86pc-solaris-thread-multi-64
    /home/cpan/pit/jail/ALYT2jN_Nx/lib/perl5/5.12.2
    /home/cpan/pit/jail/ALYT2jN_Nx/lib/perl5/i86pc-solaris-thread-multi-64
    /home/cpan/pit/jail/ALYT2jN_Nx/lib/perl5
    /home/cpan/pit/thr/conf/perl-5.12.2/.cpanplus/5.12.2/build/cJOqPAF0jp/Test-CleanNamespaces-0.24/blib/lib
    /home/cpan/pit/thr/conf/perl-5.12.2/.cpanplus/5.12.2/build/cJOqPAF0jp/Test-CleanNamespaces-0.24/blib/arch
    /home/cpan/pit/thr/perl-5.12.2/lib/site_perl/5.12.2/i86pc-solaris-thread-multi-64
    /home/cpan/pit/thr/perl-5.12.2/lib/site_perl/5.12.2
    /home/cpan/pit/thr/perl-5.12.2/lib/5.12.2/i86pc-solaris-thread-multi-64
    /home/cpan/pit/thr/perl-5.12.2/lib/5.12.2
    .