Report for Template-Plugin-GoogleLaTeX-0.03

Back
From: metabase:user:30f0bd62-2aae-11df-837a-5e0a49663a4f
Subject: PASS Template-Plugin-GoogleLaTeX-0.03 v5.10.1 OpenBSD
Date: 2010-09-10T01:47:01Z

This distribution has been tested as part of the CPAN Testers
project, supporting the Perl programming language.  See
http://wiki.cpantesters.org/ for more information or email
questions to cpan-testers-discuss@perl.org


--
Dear A. Sinan Unur,

This is a computer-generated report for Template-Plugin-GoogleLaTeX-0.03
on perl 5.10.1, created by CPAN-Reporter-1.18.

Thank you for uploading your work to CPAN.  Congratulations!
All tests were successful.

Sections of this report:

    * Tester comments
    * Program output
    * Prerequisites
    * Environment and other context

------------------------------
TESTER COMMENTS
------------------------------

Additional comments from tester:

this report is from an automated smoke testing program
and was not reviewed by a human for accuracy

------------------------------
PROGRAM OUTPUT
------------------------------

Output from '/usr/bin/make test':

PERL_DL_NONLAZY=1 /home/sts/cpansmoke/perl-5.10.1/bin/perl "-MExtUtils::Command::MM" "-e" "test_harness(0, 'inc', 'blib/lib', 'blib/arch')" t/00-load.t t/boilerplate.t t/manifest.t t/pod-coverage.t t/pod.t t/render-latex.t
# Testing Template::Plugin::GoogleLaTeX 0.03, Perl 5.010001, /home/sts/cpansmoke/perl-5.10.1/bin/perl
t/00-load.t ....... ok
t/boilerplate.t ... ok
t/manifest.t ...... skipped: Author tests not required for installation
t/pod-coverage.t .. skipped: Test::Pod::Coverage 1.08 required for testing POD coverage
t/pod.t ........... skipped: Test::Pod 1.22 required for testing POD
t/render-latex.t .. ok
All tests successful.

Test Summary Report
-------------------
t/boilerplate.t (Wstat: 0 Tests: 3 Failed: 0)
  TODO passed:   1-3
Files=6, Tests=6,  1 wallclock secs ( 0.05 usr  0.00 sys +  0.26 cusr  0.02 csys =  0.33 CPU)
Result: PASS

------------------------------
PREREQUISITES
------------------------------

Prerequisite modules loaded:

requires:

    Module                   Need Have
    ------------------------ ---- ----
    ExtUtils::MakeMaker      6.42 6.56
    Template::Plugin::Filter 0    1.38
    Test::More               0    0.96
    URI::Escape              0    3.30

configure_requires:

    Module                   Need Have
    ------------------------ ---- ----
    ExtUtils::MakeMaker      6.42 6.56


------------------------------
ENVIRONMENT AND OTHER CONTEXT
------------------------------

Environment variables:

    AUTOMATED_TESTING = 1
    PATH = /home/sts/bin:/bin:/sbin:/usr/bin:/usr/sbin:/usr/X11R6/bin:/usr/local/bin:/usr/local/sbin:/usr/games:.
    PERL5LIB = /home/sts/cpansmoke/perl-5.10.1/cpan/build/Template-Toolkit-2.22-t6LzTd/blib/arch:/home/sts/cpansmoke/perl-5.10.1/cpan/build/Template-Toolkit-2.22-t6LzTd/blib/lib:/home/sts/cpansmoke/perl-5.10.1/cpan/build/AppConfig-1.66-TmXpBs/blib/arch:/home/sts/cpansmoke/perl-5.10.1/cpan/build/AppConfig-1.66-TmXpBs/blib/lib
    PERL5OPT = 
    PERL5_CPANPLUS_IS_RUNNING = 9934
    PERL5_CPAN_IS_RUNNING = 9934
    PERL5_CPAN_IS_RUNNING_IN_RECURSION = 23668,9934
    PERL_CR_SMOKER_CURRENT = Template-Plugin-GoogleLaTeX-0.03
    PERL_EXTUTILS_AUTOINSTALL = --defaultdeps
    PERL_MM_USE_DEFAULT = 1
    SHELL = /usr/local/bin/bash
    TERM = screen

Perl special variables (and OS-specific diagnostics, for MSWin32):

    $^X = /home/sts/cpansmoke/perl-5.10.1/bin/perl
    $UID/$EUID = 1000 / 1000
    $GID = 10 10 0
    $EGID = 10 10 0

Perl module toolchain versions installed:

    Module              Have  
    ------------------- ------
    CPAN                1.9402
    Cwd                 3.31  
    ExtUtils::CBuilder  0.2703
    ExtUtils::Command   1.16  
    ExtUtils::Install   1.54  
    ExtUtils::MakeMaker 6.56  
    ExtUtils::Manifest  1.56  
    ExtUtils::ParseXS   2.2206
    File::Spec          3.31  
    Module::Build       0.3607
    Module::Signature   n/a   
    Test::Harness       3.22  
    Test::More          0.96  
    YAML                0.72  
    YAML::Syck          1.14  
    version             0.77  


--

Summary of my perl5 (revision 5 version 10 subversion 1) configuration:
   
  Platform:
    osname=openbsd, osvers=4.7, archname=OpenBSD.i386-openbsd-thread-multi
    uname='openbsd cpansmoke3 4.7 generic.mp#449 i386 '
    config_args='-des -Dusethreads -Dprefix=/home/sts/cpansmoke/perl-5.10.1'
    hint=recommended, useposix=true, d_sigaction=define
    useithreads=define, usemultiplicity=define
    useperlio=define, d_sfio=undef, uselargefiles=define, usesocks=undef
    use64bitint=undef, use64bitall=undef, uselongdouble=undef
    usemymalloc=n, bincompat5005=undef
  Compiler:
    cc='cc', ccflags ='-pthread -fno-strict-aliasing -pipe -fstack-protector -I/usr/local/include',
    optimize='-O2',
    cppflags='-pthread -fno-strict-aliasing -pipe -fstack-protector -I/usr/local/include'
    ccversion='', gccversion='3.3.5 (propolice)', gccosandvers='openbsd4.7'
    intsize=4, longsize=4, ptrsize=4, doublesize=8, byteorder=1234
    d_longlong=define, longlongsize=8, d_longdbl=define, longdblsize=12
    ivtype='long', ivsize=4, nvtype='double', nvsize=8, Off_t='off_t', lseeksize=8
    alignbytes=4, prototype=define
  Linker and Libraries:
    ld='cc', ldflags ='-pthread -Wl,-E  -fstack-protector -L/usr/local/lib'
    libpth=/usr/local/lib /usr/lib
    libs=-lgdbm -lm -lutil -lc
    perllibs=-lm -lutil -lc
    libc=/usr/lib/libc.so.53.1, so=so, useshrplib=false, libperl=libperl.a
    gnulibc_version=''
  Dynamic Linking:
    dlsrc=dl_dlopen.xs, dlext=so, d_dlsymun=undef, ccdlflags=' '
    cccdlflags='-DPIC -fPIC ', lddlflags='-shared -fPIC  -L/usr/local/lib -fstack-protector'


Characteristics of this binary (from libperl): 
  Compile-time options: MULTIPLICITY PERL_DONT_CREATE_GVSV
                        PERL_IMPLICIT_CONTEXT PERL_MALLOC_WRAP USE_ITHREADS
                        USE_LARGE_FILES USE_PERLIO USE_REENTRANT_API
  Built under openbsd
  Compiled at Sep  9 2010 10:38:44
  %ENV:
    PERL5LIB="/home/sts/cpansmoke/perl-5.10.1/cpan/build/Template-Toolkit-2.22-t6LzTd/blib/arch:/home/sts/cpansmoke/perl-5.10.1/cpan/build/Template-Toolkit-2.22-t6LzTd/blib/lib:/home/sts/cpansmoke/perl-5.10.1/cpan/build/AppConfig-1.66-TmXpBs/blib/arch:/home/sts/cpansmoke/perl-5.10.1/cpan/build/AppConfig-1.66-TmXpBs/blib/lib"
    PERL5OPT=""
    PERL5_CPANPLUS_IS_RUNNING="9934"
    PERL5_CPAN_IS_RUNNING="9934"
    PERL5_CPAN_IS_RUNNING_IN_RECURSION="23668,9934"
    PERL_CR_SMOKER_CURRENT="Template-Plugin-GoogleLaTeX-0.03"
    PERL_EXTUTILS_AUTOINSTALL="--defaultdeps"
    PERL_MM_USE_DEFAULT="1"
  @INC:
    /home/sts/cpansmoke/perl-5.10.1/cpan/build/Template-Toolkit-2.22-t6LzTd/blib/arch
    /home/sts/cpansmoke/perl-5.10.1/cpan/build/Template-Toolkit-2.22-t6LzTd/blib/lib
    /home/sts/cpansmoke/perl-5.10.1/cpan/build/AppConfig-1.66-TmXpBs/blib/arch
    /home/sts/cpansmoke/perl-5.10.1/cpan/build/AppConfig-1.66-TmXpBs/blib/lib
    /home/sts/cpansmoke/perl-5.10.1/lib/5.10.1/OpenBSD.i386-openbsd-thread-multi
    /home/sts/cpansmoke/perl-5.10.1/lib/5.10.1
    /home/sts/cpansmoke/perl-5.10.1/lib/site_perl/5.10.1/OpenBSD.i386-openbsd-thread-multi
    /home/sts/cpansmoke/perl-5.10.1/lib/site_perl/5.10.1
    .