Report for MooseX-Net-API-0.12

Back
From: metabase:user:320bfe00-2aae-11df-837a-5e0a49663a4f
Subject: PASS MooseX-Net-API-0.12 v5.21.10 GNU/Linux
Date: 2015-03-04T11:05:02Z

This distribution has been tested as part of the CPAN Testers
project, supporting the Perl programming language.  See
http://wiki.cpantesters.org/ for more information or email
questions to cpan-testers-discuss@perl.org


--
Dear Franck Cuny,

This is a computer-generated report for MooseX-Net-API-0.12
on perl 5.21.10, created by CPAN-Reporter-1.2011.

Thank you for uploading your work to CPAN.  Congratulations!
All tests were successful.

Sections of this report:

    * Tester comments
    * Program output
    * Prerequisites
    * Environment and other context

------------------------------
TESTER COMMENTS
------------------------------

Additional comments from tester:

this report is from an automated smoke testing program
and was not reviewed by a human for accuracy

------------------------------
PROGRAM OUTPUT
------------------------------

Output from '/usr/bin/make test':

PERL_DL_NONLAZY=1 "/tmp/basesmoker-reloperl-PyKu/bin/perl" "-MExtUtils::Command::MM" "-MTest::Harness" "-e" "undef *Test::Harness::Switches; test_harness(0, 'blib/lib', 'blib/arch')" t/*.t
The MooseX::Net::API module is being deprecated in favour of Net::HTTP::API. Please don't use it. at /tmp/loop_over_bdir-25012-zZFfCC/MooseX-Net-API-0.12-7LanX7/blib/lib/MooseX/Net/API.pm line 8.
Passing a list of values to enum is deprecated. Enum values should be wrapped in an arrayref. at /home/sand/src/perl/repoperls/installed-perls/perl/v5.21.9-64-gc47e32e/a2da/lib/site_perl/5.21.10/x86_64-linux-thread-multi-ld/Moose/Util/TypeConstraints.pm line 437.
	Moose::Util::TypeConstraints::enum("Method", "HEAD", "GET", "POST", "PUT", "DELETE") called at /home/sand/src/perl/repoperls/installed-perls/perl/v5.21.9-64-gc47e32e/a2da/lib/site_perl/5.21.10/Net/HTTP/API/Meta/Method.pm line 21
	require Net/HTTP/API/Meta/Method.pm called at /home/sand/src/perl/repoperls/installed-perls/perl/v5.21.9-64-gc47e32e/a2da/lib/site_perl/5.21.10/Net/HTTP/API/Meta/Method/APIMethod.pm line 10
	Net::HTTP::API::Meta::Method::APIMethod::BEGIN() called at /home/sand/src/perl/repoperls/installed-perls/perl/v5.21.9-64-gc47e32e/a2da/lib/site_perl/5.21.10/Net/HTTP/API/Meta/Method.pm line 0
	eval {...} called at /home/sand/src/perl/repoperls/installed-perls/perl/v5.21.9-64-gc47e32e/a2da/lib/site_perl/5.21.10/Net/HTTP/API/Meta/Method.pm line 0
	require Net/HTTP/API/Meta/Method/APIMethod.pm called at /home/sand/src/perl/repoperls/installed-perls/perl/v5.21.9-64-gc47e32e/a2da/lib/site_perl/5.21.10/Module/Runtime.pm line 317
	Module::Runtime::require_module("Net::HTTP::API::Meta::Method::APIMethod") called at /home/sand/src/perl/repoperls/installed-perls/perl/v5.21.9-64-gc47e32e/a2da/lib/site_perl/5.21.10/Module/Runtime.pm line 348
	Module::Runtime::use_module("Net::HTTP::API::Meta::Method::APIMethod") called at /home/sand/src/perl/repoperls/installed-perls/perl/v5.21.9-64-gc47e32e/a2da/lib/site_perl/5.21.10/x86_64-linux-thread-multi-ld/Moose/Util.pm line 147
	Moose::Util::_apply_all_roles(Moose::Meta::Role=HASH(0x265d800), undef, "Net::HTTP::API::Meta::Method::APIMethod", "Net::HTTP::API::Meta::Method::APIDeclare") called at /home/sand/src/perl/repoperls/installed-perls/perl/v5.21.9-64-gc47e32e/a2da/lib/site_perl/5.21.10/x86_64-linux-thread-multi-ld/Moose/Util.pm line 114
	Moose::Util::apply_all_roles(Moose::Meta::Role=HASH(0x265d800), "Net::HTTP::API::Meta::Method::APIMethod", "Net::HTTP::API::Meta::Method::APIDeclare") called at /home/sand/src/perl/repoperls/installed-perls/perl/v5.21.9-64-gc47e32e/a2da/lib/site_perl/5.21.10/x86_64-linux-thread-multi-ld/Moose/Role.pm line 25
	Moose::Role::with(Moose::Meta::Role=HASH(0x265d800), "Net::HTTP::API::Meta::Method::APIMethod", "Net::HTTP::API::Meta::Method::APIDeclare") called at /home/sand/src/perl/repoperls/installed-perls/perl/v5.21.9-64-gc47e32e/a2da/lib/site_perl/5.21.10/x86_64-linux-thread-multi-ld/Moose/Exporter.pm line 419
	Moose::Role::with("Net::HTTP::API::Meta::Method::APIMethod", "Net::HTTP::API::Meta::Method::APIDeclare") called at /home/sand/src/perl/repoperls/installed-perls/perl/v5.21.9-64-gc47e32e/a2da/lib/site_perl/5.21.10/Net/HTTP/API/Meta/Class.pm line 10
	require Net/HTTP/API/Meta/Class.pm called at /home/sand/src/perl/repoperls/installed-perls/perl/v5.21.9-64-gc47e32e/a2da/lib/site_perl/5.21.10/Module/Runtime.pm line 317
	Module::Runtime::require_module("Net::HTTP::API::Meta::Class") called at /home/sand/src/perl/repoperls/installed-perls/perl/v5.21.9-64-gc47e32e/a2da/lib/site_perl/5.21.10/Module/Runtime.pm line 348
	Module::Runtime::use_module("Net::HTTP::API::Meta::Class") called at /home/sand/src/perl/repoperls/installed-perls/perl/v5.21.9-64-gc47e32e/a2da/lib/site_perl/5.21.10/x86_64-linux-thread-multi-ld/Moose/Util.pm line 147
	Moose::Util::_apply_all_roles(Moose::Meta::Class=HASH(0x2636d10), undef, "Net::HTTP::API::Meta::Class") called at /home/sand/src/perl/repoperls/installed-perls/perl/v5.21.9-64-gc47e32e/a2da/lib/site_perl/5.21.10/x86_64-linux-thread-multi-ld/Moose/Util.pm line 114
	Moose::Util::apply_all_roles(Moose::Meta::Class=HASH(0x2636d10), "Net::HTTP::API::Meta::Class") called at /home/sand/src/perl/repoperls/installed-perls/perl/v5.21.9-64-gc47e32e/a2da/lib/site_perl/5.21.10/x86_64-linux-thread-multi-ld/Moose/Meta/Class.pm line 89
	Moose::Meta::Class::create("Moose::Meta::Class", "Moose::Meta::Class::__ANON__::SERIAL::1", "roles", ARRAY(0x26173c8), "superclasses", ARRAY(0x2636a70), "weaken", "") called at /home/sand/src/perl/repoperls/installed-perls/perl/v5.21.9-64-gc47e32e/a2da/lib/site_perl/5.21.10/x86_64-linux-thread-multi-ld/Class/MOP/Package.pm line 120
	Class::MOP::Package::create_anon("Moose::Meta::Class", "superclasses", ARRAY(0x2636a70), "roles", ARRAY(0x26173c8), "cache", 1) called at /home/sand/src/perl/repoperls/installed-perls/perl/v5.21.9-64-gc47e32e/a2da/lib/site_perl/5.21.10/x86_64-linux-thread-multi-ld/Class/MOP/Class.pm line 472
	Class::MOP::Class::create_anon_class("Moose::Meta::Class", "superclasses", ARRAY(0x2636a70), "roles", ARRAY(0x26173c8), "cache", 1) called at /home/sand/src/perl/repoperls/installed-perls/perl/v5.21.9-64-gc47e32e/a2da/lib/site_perl/5.21.10/x86_64-linux-thread-multi-ld/Moose/Util/MetaRole.pm line 108
	Moose::Util::MetaRole::_make_new_class("Moose::Meta::Class", ARRAY(0x26173c8)) called at /home/sand/src/perl/repoperls/installed-perls/perl/v5.21.9-64-gc47e32e/a2da/lib/site_perl/5.21.10/x86_64-linux-thread-multi-ld/Moose/Util/MetaRole.pm line 53
	Moose::Util::MetaRole::_make_new_metaclass(Moose::Meta::Class=HASH(0x2469778), HASH(0x2617620), "class") called at /home/sand/src/perl/repoperls/installed-perls/perl/v5.21.9-64-gc47e32e/a2da/lib/site_perl/5.21.10/x86_64-linux-thread-multi-ld/Moose/Util/MetaRole.pm line 21
	Moose::Util::MetaRole::apply_metaroles("for", "main", "class_metaroles", HASH(0x2617620)) called at /home/sand/src/perl/repoperls/installed-perls/perl/v5.21.9-64-gc47e32e/a2da/lib/site_perl/5.21.10/Net/HTTP/API.pm line 34
	Net::HTTP::API::init_meta("Net::HTTP::API", "for_class", "MooseX::Types::Moose", "metaclass", undef, "meta_name", "meta") called at /home/sand/src/perl/repoperls/installed-perls/perl/v5.21.9-64-gc47e32e/a2da/lib/site_perl/5.21.10/x86_64-linux-thread-multi-ld/Moose/Exporter.pm line 484
	Net::HTTP::API::import("MooseX::Net::API") called at t/00_compile.t line 4
	main::BEGIN() called at /home/sand/src/perl/repoperls/installed-perls/perl/v5.21.9-64-gc47e32e/a2da/lib/site_perl/5.21.10/Net/HTTP/API/Meta/Method.pm line 0
	eval {...} called at /home/sand/src/perl/repoperls/installed-perls/perl/v5.21.9-64-gc47e32e/a2da/lib/site_perl/5.21.10/Net/HTTP/API/Meta/Method.pm line 0
	eval 'package main;
#line 4 "t/00_compile.t"
use MooseX::Net::API @args;
1;
' called at /home/sand/src/perl/repoperls/installed-perls/perl/v5.21.9-64-gc47e32e/a2da/lib/5.21.10/Test/Stream/Util.pm line 106
	Test::Stream::Util::__ANON__() called at /home/sand/src/perl/repoperls/installed-perls/perl/v5.21.9-64-gc47e32e/a2da/lib/5.21.10/Test/Stream/Util.pm line 37
	eval {...} called at /home/sand/src/perl/repoperls/installed-perls/perl/v5.21.9-64-gc47e32e/a2da/lib/5.21.10/Test/Stream/Util.pm line 37
	Test::Stream::Util::_local_protect(CODE(0x247b0a0)) called at /home/sand/src/perl/repoperls/installed-perls/perl/v5.21.9-64-gc47e32e/a2da/lib/5.21.10/Test/Stream/Util.pm line 115
	Test::Stream::Util::spoof(ARRAY(0x2617398), "use MooseX::Net::API \@args") called at /home/sand/src/perl/repoperls/installed-perls/perl/v5.21.9-64-gc47e32e/a2da/lib/5.21.10/Test/More.pm line 371
	Test::More::use_ok("MooseX::Net::API") called at t/00_compile.t line 4
	main::BEGIN() called at /home/sand/src/perl/repoperls/installed-perls/perl/v5.21.9-64-gc47e32e/a2da/lib/site_perl/5.21.10/Net/HTTP/API/Meta/Method.pm line 0
	eval {...} called at /home/sand/src/perl/repoperls/installed-perls/perl/v5.21.9-64-gc47e32e/a2da/lib/site_perl/5.21.10/Net/HTTP/API/Meta/Method.pm line 0
Passing a list of values to enum is deprecated. Enum values should be wrapped in an arrayref. at /home/sand/src/perl/repoperls/installed-perls/perl/v5.21.9-64-gc47e32e/a2da/lib/site_perl/5.21.10/x86_64-linux-thread-multi-ld/Moose/Util/TypeConstraints.pm line 437.
	Moose::Util::TypeConstraints::enum("FormatMode", "content-type", "append") called at /home/sand/src/perl/repoperls/installed-perls/perl/v5.21.9-64-gc47e32e/a2da/lib/site_perl/5.21.10/Net/HTTP/API/Role/Format.pm line 23
	require Net/HTTP/API/Role/Format.pm called at /home/sand/src/perl/repoperls/installed-perls/perl/v5.21.9-64-gc47e32e/a2da/lib/site_perl/5.21.10/Module/Runtime.pm line 317
	Module::Runtime::require_module("Net::HTTP::API::Role::Format") called at /home/sand/src/perl/repoperls/installed-perls/perl/v5.21.9-64-gc47e32e/a2da/lib/site_perl/5.21.10/Module/Runtime.pm line 348
	Module::Runtime::use_module("Net::HTTP::API::Role::Format") called at /home/sand/src/perl/repoperls/installed-perls/perl/v5.21.9-64-gc47e32e/a2da/lib/site_perl/5.21.10/x86_64-linux-thread-multi-ld/Moose/Util.pm line 147
	Moose::Util::_apply_all_roles(Moose::Meta::Class=HASH(0x247b4a8), undef, "Net::HTTP::API::Role::UserAgent", "Net::HTTP::API::Role::Format", "Net::HTTP::API::Role::Authentication", "Net::HTTP::API::Role::Serialization", "Net::HTTP::API::Role::Request") called at /home/sand/src/perl/repoperls/installed-perls/perl/v5.21.9-64-gc47e32e/a2da/lib/site_perl/5.21.10/x86_64-linux-thread-multi-ld/Moose/Util.pm line 114
	Moose::Util::apply_all_roles(Moose::Meta::Class=HASH(0x247b4a8), "Net::HTTP::API::Role::UserAgent", "Net::HTTP::API::Role::Format", "Net::HTTP::API::Role::Authentication", "Net::HTTP::API::Role::Serialization", "Net::HTTP::API::Role::Request") called at /home/sand/src/perl/repoperls/installed-perls/perl/v5.21.9-64-gc47e32e/a2da/lib/site_perl/5.21.10/x86_64-linux-thread-multi-ld/Moose/Meta/Class.pm line 89
	Moose::Meta::Class::create("Moose::Meta::Class", "Moose::Meta::Class::__ANON__::SERIAL::10", "weaken", "", "superclasses", ARRAY(0x2a98808), "roles", ARRAY(0x2617638)) called at /home/sand/src/perl/repoperls/installed-perls/perl/v5.21.9-64-gc47e32e/a2da/lib/site_perl/5.21.10/x86_64-linux-thread-multi-ld/Class/MOP/Package.pm line 120
	Class::MOP::Package::create_anon("Moose::Meta::Class", "superclasses", ARRAY(0x2a98808), "roles", ARRAY(0x2617638), "cache", 1) called at /home/sand/src/perl/repoperls/installed-perls/perl/v5.21.9-64-gc47e32e/a2da/lib/site_perl/5.21.10/x86_64-linux-thread-multi-ld/Class/MOP/Class.pm line 472
	Class::MOP::Class::create_anon_class("Moose::Meta::Class", "superclasses", ARRAY(0x2a98808), "roles", ARRAY(0x2617638), "cache", 1) called at /home/sand/src/perl/repoperls/installed-perls/perl/v5.21.9-64-gc47e32e/a2da/lib/site_perl/5.21.10/x86_64-linux-thread-multi-ld/Moose/Util/MetaRole.pm line 108
	Moose::Util::MetaRole::_make_new_class("main", ARRAY(0x2617638), ARRAY(0x2a98808)) called at /home/sand/src/perl/repoperls/installed-perls/perl/v5.21.9-64-gc47e32e/a2da/lib/site_perl/5.21.10/x86_64-linux-thread-multi-ld/Moose/Util/MetaRole.pm line 88
	Moose::Util::MetaRole::apply_base_class_roles("for", "main", "roles", ARRAY(0x2617638)) called at /home/sand/src/perl/repoperls/installed-perls/perl/v5.21.9-64-gc47e32e/a2da/lib/site_perl/5.21.10/Net/HTTP/API.pm line 41
	Net::HTTP::API::init_meta("Net::HTTP::API", "for_class", "Net::HTTP::API::Role::Format", "metaclass", undef, "meta_name", "meta") called at /home/sand/src/perl/repoperls/installed-perls/perl/v5.21.9-64-gc47e32e/a2da/lib/site_perl/5.21.10/x86_64-linux-thread-multi-ld/Moose/Exporter.pm line 484
	Net::HTTP::API::import("MooseX::Net::API") called at t/00_compile.t line 4
	main::BEGIN() called at /home/sand/src/perl/repoperls/installed-perls/perl/v5.21.9-64-gc47e32e/a2da/lib/site_perl/5.21.10/Net/HTTP/API/Role/Format.pm line 0
	eval {...} called at /home/sand/src/perl/repoperls/installed-perls/perl/v5.21.9-64-gc47e32e/a2da/lib/site_perl/5.21.10/Net/HTTP/API/Role/Format.pm line 0
	eval 'package main;
#line 4 "t/00_compile.t"
use MooseX::Net::API @args;
1;
' called at /home/sand/src/perl/repoperls/installed-perls/perl/v5.21.9-64-gc47e32e/a2da/lib/5.21.10/Test/Stream/Util.pm line 106
	Test::Stream::Util::__ANON__() called at /home/sand/src/perl/repoperls/installed-perls/perl/v5.21.9-64-gc47e32e/a2da/lib/5.21.10/Test/Stream/Util.pm line 37
	eval {...} called at /home/sand/src/perl/repoperls/installed-perls/perl/v5.21.9-64-gc47e32e/a2da/lib/5.21.10/Test/Stream/Util.pm line 37
	Test::Stream::Util::_local_protect(CODE(0x247b0a0)) called at /home/sand/src/perl/repoperls/installed-perls/perl/v5.21.9-64-gc47e32e/a2da/lib/5.21.10/Test/Stream/Util.pm line 115
	Test::Stream::Util::spoof(ARRAY(0x2617398), "use MooseX::Net::API \@args") called at /home/sand/src/perl/repoperls/installed-perls/perl/v5.21.9-64-gc47e32e/a2da/lib/5.21.10/Test/More.pm line 371
	Test::More::use_ok("MooseX::Net::API") called at t/00_compile.t line 4
	main::BEGIN() called at /home/sand/src/perl/repoperls/installed-perls/perl/v5.21.9-64-gc47e32e/a2da/lib/site_perl/5.21.10/Net/HTTP/API/Role/Format.pm line 0
	eval {...} called at /home/sand/src/perl/repoperls/installed-perls/perl/v5.21.9-64-gc47e32e/a2da/lib/site_perl/5.21.10/Net/HTTP/API/Role/Format.pm line 0
t/00_compile.t ............ ok
The MooseX::Net::API module is being deprecated in favour of Net::HTTP::API. Please don't use it. at /tmp/loop_over_bdir-25012-zZFfCC/MooseX-Net-API-0.12-7LanX7/blib/lib/MooseX/Net/API.pm line 8.
Passing a list of values to enum is deprecated. Enum values should be wrapped in an arrayref. at /home/sand/src/perl/repoperls/installed-perls/perl/v5.21.9-64-gc47e32e/a2da/lib/site_perl/5.21.10/x86_64-linux-thread-multi-ld/Moose/Util/TypeConstraints.pm line 437.
	Moose::Util::TypeConstraints::enum("Method", "HEAD", "GET", "POST", "PUT", "DELETE") called at /home/sand/src/perl/repoperls/installed-perls/perl/v5.21.9-64-gc47e32e/a2da/lib/site_perl/5.21.10/Net/HTTP/API/Meta/Method.pm line 21
	require Net/HTTP/API/Meta/Method.pm called at /home/sand/src/perl/repoperls/installed-perls/perl/v5.21.9-64-gc47e32e/a2da/lib/site_perl/5.21.10/Net/HTTP/API/Meta/Method/APIMethod.pm line 10
	Net::HTTP::API::Meta::Method::APIMethod::BEGIN() called at /home/sand/src/perl/repoperls/installed-perls/perl/v5.21.9-64-gc47e32e/a2da/lib/site_perl/5.21.10/Net/HTTP/API/Meta/Method.pm line 0
	eval {...} called at /home/sand/src/perl/repoperls/installed-perls/perl/v5.21.9-64-gc47e32e/a2da/lib/site_perl/5.21.10/Net/HTTP/API/Meta/Method.pm line 0
	require Net/HTTP/API/Meta/Method/APIMethod.pm called at /home/sand/src/perl/repoperls/installed-perls/perl/v5.21.9-64-gc47e32e/a2da/lib/site_perl/5.21.10/Module/Runtime.pm line 317
	Module::Runtime::require_module("Net::HTTP::API::Meta::Method::APIMethod") called at /home/sand/src/perl/repoperls/installed-perls/perl/v5.21.9-64-gc47e32e/a2da/lib/site_perl/5.21.10/Module/Runtime.pm line 348
	Module::Runtime::use_module("Net::HTTP::API::Meta::Method::APIMethod") called at /home/sand/src/perl/repoperls/installed-perls/perl/v5.21.9-64-gc47e32e/a2da/lib/site_perl/5.21.10/x86_64-linux-thread-multi-ld/Moose/Util.pm line 147
	Moose::Util::_apply_all_roles(Moose::Meta::Role=HASH(0x21ba490), undef, "Net::HTTP::API::Meta::Method::APIMethod", "Net::HTTP::API::Meta::Method::APIDeclare") called at /home/sand/src/perl/repoperls/installed-perls/perl/v5.21.9-64-gc47e32e/a2da/lib/site_perl/5.21.10/x86_64-linux-thread-multi-ld/Moose/Util.pm line 114
	Moose::Util::apply_all_roles(Moose::Meta::Role=HASH(0x21ba490), "Net::HTTP::API::Meta::Method::APIMethod", "Net::HTTP::API::Meta::Method::APIDeclare") called at /home/sand/src/perl/repoperls/installed-perls/perl/v5.21.9-64-gc47e32e/a2da/lib/site_perl/5.21.10/x86_64-linux-thread-multi-ld/Moose/Role.pm line 25
	Moose::Role::with(Moose::Meta::Role=HASH(0x21ba490), "Net::HTTP::API::Meta::Method::APIMethod", "Net::HTTP::API::Meta::Method::APIDeclare") called at /home/sand/src/perl/repoperls/installed-perls/perl/v5.21.9-64-gc47e32e/a2da/lib/site_perl/5.21.10/x86_64-linux-thread-multi-ld/Moose/Exporter.pm line 419
	Moose::Role::with("Net::HTTP::API::Meta::Method::APIMethod", "Net::HTTP::API::Meta::Method::APIDeclare") called at /home/sand/src/perl/repoperls/installed-perls/perl/v5.21.9-64-gc47e32e/a2da/lib/site_perl/5.21.10/Net/HTTP/API/Meta/Class.pm line 10
	require Net/HTTP/API/Meta/Class.pm called at /home/sand/src/perl/repoperls/installed-perls/perl/v5.21.9-64-gc47e32e/a2da/lib/site_perl/5.21.10/Module/Runtime.pm line 317
	Module::Runtime::require_module("Net::HTTP::API::Meta::Class") called at /home/sand/src/perl/repoperls/installed-perls/perl/v5.21.9-64-gc47e32e/a2da/lib/site_perl/5.21.10/Module/Runtime.pm line 348
	Module::Runtime::use_module("Net::HTTP::API::Meta::Class") called at /home/sand/src/perl/repoperls/installed-perls/perl/v5.21.9-64-gc47e32e/a2da/lib/site_perl/5.21.10/x86_64-linux-thread-multi-ld/Moose/Util.pm line 147
	Moose::Util::_apply_all_roles(Moose::Meta::Class=HASH(0x114ec20), undef, "Net::HTTP::API::Meta::Class") called at /home/sand/src/perl/repoperls/installed-perls/perl/v5.21.9-64-gc47e32e/a2da/lib/site_perl/5.21.10/x86_64-linux-thread-multi-ld/Moose/Util.pm line 114
	Moose::Util::apply_all_roles(Moose::Meta::Class=HASH(0x114ec20), "Net::HTTP::API::Meta::Class") called at /home/sand/src/perl/repoperls/installed-perls/perl/v5.21.9-64-gc47e32e/a2da/lib/site_perl/5.21.10/x86_64-linux-thread-multi-ld/Moose/Meta/Class.pm line 89
	Moose::Meta::Class::create("Moose::Meta::Class", "Moose::Meta::Class::__ANON__::SERIAL::1", "roles", ARRAY(0x1162ee0), "weaken", "", "superclasses", ARRAY(0x218e9e8)) called at /home/sand/src/perl/repoperls/installed-perls/perl/v5.21.9-64-gc47e32e/a2da/lib/site_perl/5.21.10/x86_64-linux-thread-multi-ld/Class/MOP/Package.pm line 120
	Class::MOP::Package::create_anon("Moose::Meta::Class", "superclasses", ARRAY(0x218e9e8), "roles", ARRAY(0x1162ee0), "cache", 1) called at /home/sand/src/perl/repoperls/installed-perls/perl/v5.21.9-64-gc47e32e/a2da/lib/site_perl/5.21.10/x86_64-linux-thread-multi-ld/Class/MOP/Class.pm line 472
	Class::MOP::Class::create_anon_class("Moose::Meta::Class", "superclasses", ARRAY(0x218e9e8), "roles", ARRAY(0x1162ee0), "cache", 1) called at /home/sand/src/perl/repoperls/installed-perls/perl/v5.21.9-64-gc47e32e/a2da/lib/site_perl/5.21.10/x86_64-linux-thread-multi-ld/Moose/Util/MetaRole.pm line 108
	Moose::Util::MetaRole::_make_new_class("Moose::Meta::Class", ARRAY(0x1162ee0)) called at /home/sand/src/perl/repoperls/installed-perls/perl/v5.21.9-64-gc47e32e/a2da/lib/site_perl/5.21.10/x86_64-linux-thread-multi-ld/Moose/Util/MetaRole.pm line 53
	Moose::Util::MetaRole::_make_new_metaclass(Moose::Meta::Class=HASH(0x218e6e8), HASH(0x1162fb8), "class") called at /home/sand/src/perl/repoperls/installed-perls/perl/v5.21.9-64-gc47e32e/a2da/lib/site_perl/5.21.10/x86_64-linux-thread-multi-ld/Moose/Util/MetaRole.pm line 21
	Moose::Util::MetaRole::apply_metaroles("for", "TestAPI", "class_metaroles", HASH(0x1162fb8)) called at /home/sand/src/perl/repoperls/installed-perls/perl/v5.21.9-64-gc47e32e/a2da/lib/site_perl/5.21.10/Net/HTTP/API.pm line 34
	Net::HTTP::API::init_meta("Net::HTTP::API", "for_class", "MooseX::Types::Moose", "metaclass", undef, "meta_name", "meta") called at /home/sand/src/perl/repoperls/installed-perls/perl/v5.21.9-64-gc47e32e/a2da/lib/site_perl/5.21.10/x86_64-linux-thread-multi-ld/Moose/Exporter.pm line 484
	Net::HTTP::API::import("MooseX::Net::API") called at t/lib/TestAPI.pm line 2
	TestAPI::BEGIN() called at /home/sand/src/perl/repoperls/installed-perls/perl/v5.21.9-64-gc47e32e/a2da/lib/site_perl/5.21.10/Net/HTTP/API/Meta/Method.pm line 0
	eval {...} called at /home/sand/src/perl/repoperls/installed-perls/perl/v5.21.9-64-gc47e32e/a2da/lib/site_perl/5.21.10/Net/HTTP/API/Meta/Method.pm line 0
	require TestAPI.pm called at t/01_basic.t line 9
	main::BEGIN() called at /home/sand/src/perl/repoperls/installed-perls/perl/v5.21.9-64-gc47e32e/a2da/lib/site_perl/5.21.10/Net/HTTP/API/Meta/Method.pm line 0
	eval {...} called at /home/sand/src/perl/repoperls/installed-perls/perl/v5.21.9-64-gc47e32e/a2da/lib/site_perl/5.21.10/Net/HTTP/API/Meta/Method.pm line 0
Passing a list of values to enum is deprecated. Enum values should be wrapped in an arrayref. at /home/sand/src/perl/repoperls/installed-perls/perl/v5.21.9-64-gc47e32e/a2da/lib/site_perl/5.21.10/x86_64-linux-thread-multi-ld/Moose/Util/TypeConstraints.pm line 437.
	Moose::Util::TypeConstraints::enum("FormatMode", "content-type", "append") called at /home/sand/src/perl/repoperls/installed-perls/perl/v5.21.9-64-gc47e32e/a2da/lib/site_perl/5.21.10/Net/HTTP/API/Role/Format.pm line 23
	require Net/HTTP/API/Role/Format.pm called at /home/sand/src/perl/repoperls/installed-perls/perl/v5.21.9-64-gc47e32e/a2da/lib/site_perl/5.21.10/Module/Runtime.pm line 317
	Module::Runtime::require_module("Net::HTTP::API::Role::Format") called at /home/sand/src/perl/repoperls/installed-perls/perl/v5.21.9-64-gc47e32e/a2da/lib/site_perl/5.21.10/Module/Runtime.pm line 348
	Module::Runtime::use_module("Net::HTTP::API::Role::Format") called at /home/sand/src/perl/repoperls/installed-perls/perl/v5.21.9-64-gc47e32e/a2da/lib/site_perl/5.21.10/x86_64-linux-thread-multi-ld/Moose/Util.pm line 147
	Moose::Util::_apply_all_roles(Moose::Meta::Class=HASH(0x2494990), undef, "Net::HTTP::API::Role::UserAgent", "Net::HTTP::API::Role::Format", "Net::HTTP::API::Role::Authentication", "Net::HTTP::API::Role::Serialization", "Net::HTTP::API::Role::Request") called at /home/sand/src/perl/repoperls/installed-perls/perl/v5.21.9-64-gc47e32e/a2da/lib/site_perl/5.21.10/x86_64-linux-thread-multi-ld/Moose/Util.pm line 114
	Moose::Util::apply_all_roles(Moose::Meta::Class=HASH(0x2494990), "Net::HTTP::API::Role::UserAgent", "Net::HTTP::API::Role::Format", "Net::HTTP::API::Role::Authentication", "Net::HTTP::API::Role::Serialization", "Net::HTTP::API::Role::Request") called at /home/sand/src/perl/repoperls/installed-perls/perl/v5.21.9-64-gc47e32e/a2da/lib/site_perl/5.21.10/x86_64-linux-thread-multi-ld/Moose/Meta/Class.pm line 89
	Moose::Meta::Class::create("Moose::Meta::Class", "Moose::Meta::Class::__ANON__::SERIAL::10", "roles", ARRAY(0x1163030), "weaken", "", "superclasses", ARRAY(0x25cfd48)) called at /home/sand/src/perl/repoperls/installed-perls/perl/v5.21.9-64-gc47e32e/a2da/lib/site_perl/5.21.10/x86_64-linux-thread-multi-ld/Class/MOP/Package.pm line 120
	Class::MOP::Package::create_anon("Moose::Meta::Class", "superclasses", ARRAY(0x25cfd48), "roles", ARRAY(0x1163030), "cache", 1) called at /home/sand/src/perl/repoperls/installed-perls/perl/v5.21.9-64-gc47e32e/a2da/lib/site_perl/5.21.10/x86_64-linux-thread-multi-ld/Class/MOP/Class.pm line 472
	Class::MOP::Class::create_anon_class("Moose::Meta::Class", "superclasses", ARRAY(0x25cfd48), "roles", ARRAY(0x1163030), "cache", 1) called at /home/sand/src/perl/repoperls/installed-perls/perl/v5.21.9-64-gc47e32e/a2da/lib/site_perl/5.21.10/x86_64-linux-thread-multi-ld/Moose/Util/MetaRole.pm line 108
	Moose::Util::MetaRole::_make_new_class("TestAPI", ARRAY(0x1163030), ARRAY(0x25cfd48)) called at /home/sand/src/perl/repoperls/installed-perls/perl/v5.21.9-64-gc47e32e/a2da/lib/site_perl/5.21.10/x86_64-linux-thread-multi-ld/Moose/Util/MetaRole.pm line 88
	Moose::Util::MetaRole::apply_base_class_roles("for", "TestAPI", "roles", ARRAY(0x1163030)) called at /home/sand/src/perl/repoperls/installed-perls/perl/v5.21.9-64-gc47e32e/a2da/lib/site_perl/5.21.10/Net/HTTP/API.pm line 41
	Net::HTTP::API::init_meta("Net::HTTP::API", "for_class", "Net::HTTP::API::Role::Format", "metaclass", undef, "meta_name", "meta") called at /home/sand/src/perl/repoperls/installed-perls/perl/v5.21.9-64-gc47e32e/a2da/lib/site_perl/5.21.10/x86_64-linux-thread-multi-ld/Moose/Exporter.pm line 484
	Net::HTTP::API::import("MooseX::Net::API") called at t/lib/TestAPI.pm line 2
	TestAPI::BEGIN() called at /home/sand/src/perl/repoperls/installed-perls/perl/v5.21.9-64-gc47e32e/a2da/lib/site_perl/5.21.10/Net/HTTP/API/Role/Format.pm line 0
	eval {...} called at /home/sand/src/perl/repoperls/installed-perls/perl/v5.21.9-64-gc47e32e/a2da/lib/site_perl/5.21.10/Net/HTTP/API/Role/Format.pm line 0
	require TestAPI.pm called at t/01_basic.t line 9
	main::BEGIN() called at /home/sand/src/perl/repoperls/installed-perls/perl/v5.21.9-64-gc47e32e/a2da/lib/site_perl/5.21.10/Net/HTTP/API/Role/Format.pm line 0
	eval {...} called at /home/sand/src/perl/repoperls/installed-perls/perl/v5.21.9-64-gc47e32e/a2da/lib/site_perl/5.21.10/Net/HTTP/API/Role/Format.pm line 0
Class::MOP::load_class is deprecated at /home/sand/src/perl/repoperls/installed-perls/perl/v5.21.9-64-gc47e32e/a2da/lib/site_perl/5.21.10/x86_64-linux-thread-multi-ld/Class/MOP.pm line 69.
	Class::MOP::load_class("Net::HTTP::API::Parser::JSON") called at /home/sand/src/perl/repoperls/installed-perls/perl/v5.21.9-64-gc47e32e/a2da/lib/site_perl/5.21.10/Net/HTTP/API/Role/Serialization.pm line 74
	Net::HTTP::API::Role::Serialization::_load_serializer(TestAPI=HASH(0xcbfba0), "json") called at /home/sand/src/perl/repoperls/installed-perls/perl/v5.21.9-64-gc47e32e/a2da/lib/site_perl/5.21.10/Net/HTTP/API/Role/Serialization.pm line 53
	Net::HTTP::API::Role::Serialization::deserialize(TestAPI=HASH(0xcbfba0), "[{\"name\":\"eris\"}]", ARRAY(0x295dac0)) called at /home/sand/src/perl/repoperls/installed-perls/perl/v5.21.9-64-gc47e32e/a2da/lib/site_perl/5.21.10/Net/HTTP/API/Role/Serialization.pm line 37
	Net::HTTP::API::Role::Serialization::get_content(TestAPI=HASH(0xcbfba0), HTTP::Response=HASH(0x31a49f0)) called at /home/sand/src/perl/repoperls/installed-perls/perl/v5.21.9-64-gc47e32e/a2da/lib/site_perl/5.21.10/Net/HTTP/API/Meta/Method.pm line 134
	TestAPI::users(TestAPI=HASH(0xcbfba0)) called at /home/sand/src/perl/repoperls/installed-perls/perl/v5.21.9-64-gc47e32e/a2da/lib/site_perl/5.21.10/x86_64-linux-thread-multi-ld/Class/MOP/Method/Wrapped.pm line 43
	Class::MOP::Method::Wrapped::__ANON__(TestAPI=HASH(0xcbfba0)) called at /home/sand/src/perl/repoperls/installed-perls/perl/v5.21.9-64-gc47e32e/a2da/lib/site_perl/5.21.10/x86_64-linux-thread-multi-ld/Class/MOP/Method/Wrapped.pm line 87
	TestAPI::users(TestAPI=HASH(0xcbfba0)) called at t/01_basic.t line 29
t/01_basic.t .............. ok
t/release-eol.t ........... skipped: these tests are for release candidate testing
t/release-no-tabs.t ....... skipped: these tests are for release candidate testing
t/release-pod-coverage.t .. skipped: these tests are for release candidate testing
t/release-pod-syntax.t .... skipped: these tests are for release candidate testing
All tests successful.
Files=6, Tests=26,  1 wallclock secs ( 0.03 usr  0.01 sys +  1.09 cusr  0.06 csys =  1.19 CPU)
Result: PASS

------------------------------
PREREQUISITES
------------------------------

Prerequisite modules loaded:

requires:

    Module              Need Have        
    ------------------- ---- ------------
    Net::HTTP::API      0    0.11        

build_requires:

    Module              Need Have        
    ------------------- ---- ------------
    HTTP::Response      0    6.04        
    Moose               0    2.1403      
    Test::Exception     0    0.38        
    Test::More          0    1.301001_098

configure_requires:

    Module              Need Have        
    ------------------- ---- ------------
    ExtUtils::MakeMaker 6.31 7.04        


------------------------------
ENVIRONMENT AND OTHER CONTEXT
------------------------------

Environment variables:

    AUTOMATED_TESTING = 1
    LANG = en_US.UTF-8
    LANGUAGE = en_US:en
    PATH = /home/sand/bin:/usr/local/bin:/usr/bin:/bin:/usr/games:/usr/local/perl/bin:/usr/X11/bin:/sbin:/usr/sbin
    PERL5LIB = 
    PERL5OPT = 
    PERL5_CPANPLUS_IS_RUNNING = 27123
    PERL5_CPAN_IS_RUNNING = 27123
    PERL_MM_USE_DEFAULT = 1
    SHELL = /usr/bin/zsh
    TERM = screen

Perl special variables (and OS-specific diagnostics, for MSWin32):

    $^X = /tmp/basesmoker-reloperl-PyKu/bin/perl
    $UID/$EUID = 1005 / 1005
    $GID = 1005 1005
    $EGID = 1005 1005

Perl module toolchain versions installed:

    Module              Have        
    ------------------- ------------
    CPAN                2.05        
    CPAN::Meta          2.143240    
    Cwd                 3.54        
    ExtUtils::CBuilder  0.280221    
    ExtUtils::Command   1.20        
    ExtUtils::Install   2.04        
    ExtUtils::MakeMaker 7.04        
    ExtUtils::Manifest  1.70        
    ExtUtils::ParseXS   3.27        
    File::Spec          3.53        
    JSON                2.90        
    JSON::PP            2.27300     
    Module::Build       0.4211      
    Module::Signature   0.73        
    Parse::CPAN::Meta   1.4414      
    Test::Harness       3.35        
    Test::More          1.301001_098
    YAML                1.14        
    YAML::Syck          1.29        
    version             0.9912      


--

Summary of my perl5 (revision 5 version 21 subversion 10) configuration:
  Commit id: c47e32e38f12c56c3098cb7845b451787467f03c
  Platform:
    osname=linux, osvers=3.16.0-4-amd64, archname=x86_64-linux-thread-multi-ld
    uname='linux k83 3.16.0-4-amd64 #1 smp debian 3.16.7-ckt2-1 (2014-12-08) x86_64 gnulinux '
    config_args='-Dprefix=/home/sand/src/perl/repoperls/installed-perls/perl/v5.21.9-64-gc47e32e/a2da -Dmyhostname=k83 -Dinstallusrbinperl=n -Uversiononly -Dusedevel -des -Ui_db -Duseithreads -Duselongdouble -DDEBUGGING=-g'
    hint=recommended, useposix=true, d_sigaction=define
    useithreads=define, usemultiplicity=define
    use64bitint=define, use64bitall=define, uselongdouble=define
    usemymalloc=n, bincompat5005=undef
  Compiler:
    cc='cc', ccflags ='-D_REENTRANT -D_GNU_SOURCE -fwrapv -fno-strict-aliasing -pipe -fstack-protector-strong -I/usr/local/include -D_LARGEFILE_SOURCE -D_FILE_OFFSET_BITS=64 -D_FORTIFY_SOURCE=2',
    optimize='-O2 -g',
    cppflags='-D_REENTRANT -D_GNU_SOURCE -fwrapv -fno-strict-aliasing -pipe -fstack-protector-strong -I/usr/local/include'
    ccversion='', gccversion='4.9.2', gccosandvers=''
    intsize=4, longsize=8, ptrsize=8, doublesize=8, byteorder=12345678, doublekind=3
    d_longlong=define, longlongsize=8, d_longdbl=define, longdblsize=16, longdblkind=3
    ivtype='long', ivsize=8, nvtype='long double', nvsize=16, Off_t='off_t', lseeksize=8
    alignbytes=16, prototype=define
  Linker and Libraries:
    ld='cc', ldflags =' -fstack-protector-strong -L/usr/local/lib'
    libpth=/usr/local/lib /usr/lib/gcc/x86_64-linux-gnu/4.9/include-fixed /usr/include/x86_64-linux-gnu /usr/lib /lib/x86_64-linux-gnu /lib/../lib /usr/lib/x86_64-linux-gnu /usr/lib/../lib /lib
    libs=-lpthread -lnsl -lgdbm -ldb -ldl -lm -lcrypt -lutil -lc -lgdbm_compat
    perllibs=-lpthread -lnsl -ldl -lm -lcrypt -lutil -lc
    libc=libc-2.19.so, so=so, useshrplib=false, libperl=libperl.a
    gnulibc_version='2.19'
  Dynamic Linking:
    dlsrc=dl_dlopen.xs, dlext=so, d_dlsymun=undef, ccdlflags='-Wl,-E'
    cccdlflags='-fPIC', lddlflags='-shared -O2 -g -L/usr/local/lib -fstack-protector-strong'


Characteristics of this binary (from libperl): 
  Compile-time options: HAS_TIMES MULTIPLICITY PERLIO_LAYERS
                        PERL_DONT_CREATE_GVSV
                        PERL_HASH_FUNC_ONE_AT_A_TIME_HARD
                        PERL_IMPLICIT_CONTEXT PERL_MALLOC_WRAP
                        PERL_NEW_COPY_ON_WRITE PERL_PRESERVE_IVUV
                        PERL_USE_DEVEL USE_64_BIT_ALL USE_64_BIT_INT
                        USE_ITHREADS USE_LARGE_FILES USE_LOCALE
                        USE_LOCALE_COLLATE USE_LOCALE_CTYPE
                        USE_LOCALE_NUMERIC USE_LOCALE_TIME USE_LONG_DOUBLE
                        USE_PERLIO USE_PERL_ATOF USE_REENTRANT_API
  Built under linux
  Compiled at Mar  3 2015 03:49:55
  %ENV:
    PERL5LIB=""
    PERL5OPT=""
    PERL5_CPANPLUS_IS_RUNNING="27123"
    PERL5_CPAN_IS_RUNNING="27123"
    PERL_MM_USE_DEFAULT="1"
  @INC:
    /home/sand/src/perl/repoperls/installed-perls/perl/v5.21.9-64-gc47e32e/a2da/lib/site_perl/5.21.10/x86_64-linux-thread-multi-ld
    /home/sand/src/perl/repoperls/installed-perls/perl/v5.21.9-64-gc47e32e/a2da/lib/site_perl/5.21.10
    /home/sand/src/perl/repoperls/installed-perls/perl/v5.21.9-64-gc47e32e/a2da/lib/5.21.10/x86_64-linux-thread-multi-ld
    /home/sand/src/perl/repoperls/installed-perls/perl/v5.21.9-64-gc47e32e/a2da/lib/5.21.10
    .