Data-FormValidator-Constraints-DateTime v1.11 Perl 5 v5.26.3 x86_64-linux
- Status
- Pass
- From
- Slaven Rezić (SREZIC)
- Dist
-
Data-FormValidator-Constraints-DateTime v1.11
- Platform
- Perl 5 v5.26.3 x86_64-linux
- Date
- 2019-05-23 18:48:07
- ID
- 4df1a7fc-7d8b-11e9-8d4d-69881f24ea8f
This distribution has been tested as part of the CPAN Testers
project, supporting the Perl programming language. See
http://wiki.cpantesters.org/ for more information or email
questions to cpan-testers-discuss@perl.org
--
Dear Michael Peters,
This is a computer-generated report for Data-FormValidator-Constraints-DateTime-1.11
on perl 5.26.3, created by CPAN-Reporter-1.2018.
Thank you for uploading your work to CPAN. Congratulations!
All tests were successful.
Sections of this report:
* Tester comments
* Program output
* Prerequisites
* Environment and other context
------------------------------
TESTER COMMENTS
------------------------------
Additional comments from tester:
none provided
------------------------------
PROGRAM OUTPUT
------------------------------
Output from './Build test':
t/3x_databases.t ..... ok
t/3x_dates.t ......... ok
t/cgi_and_hashref.t .. ok
t/databases.t ........ ok
t/dates.t ............ ok
t/datetime_format.t .. ok
All tests successful.
Files=6, Tests=292, 2 wallclock secs ( 0.06 usr 0.01 sys + 1.84 cusr 0.28 csys = 2.19 CPU)
Result: PASS
------------------------------
PREREQUISITES
------------------------------
Prerequisite modules loaded:
requires:
Module Need Have
-------------------------- ------ --------
Data::FormValidator 3.61 4.88
DateTime 0.23 1.50
DateTime::Format::Strptime 1.00 1.75
Exporter 0 5.72
perl v5.6.1 5.026003
build_requires:
Module Need Have
-------------------------- ------ --------
DateTime::Format::Builder 0 0.81
configure_requires:
Module Need Have
-------------------------- ------ --------
Module::Build 0.36 0.4224
opt_requires:
Module Need Have
-------------------------- ------ --------
DateTime::Format::MySQL 0.0301 0.06
DateTime::Format::Pg 0.050 0.16013
------------------------------
ENVIRONMENT AND OTHER CONTEXT
------------------------------
Environment variables:
LANG = en_US.UTF-8
PATH = /usr/local/bin:/usr/bin:/bin:/usr/local/sbin:/usr/sbin:/sbin:/home/cpansand/bin/linux-gnu:/home/cpansand/bin/sh:/home/cpansand/bin:/usr/games:/home/cpansand/devel:/home/eserte/src/srezic-misc/scripts
PERL5LIB = /home/cpansand/.cpan/build/2019052320/Data-FormValidator-4.88-0/blib/arch:/home/cpansand/.cpan/build/2019052320/Data-FormValidator-4.88-0/blib/lib:/home/cpansand/.cpan/build/2019052320/File-MMagic-1.30-0/blib/arch:/home/cpansand/.cpan/build/2019052320/File-MMagic-1.30-0/blib/lib:/home/cpansand/.cpan/build/2019052320/CGI-4.43-0/blib/arch:/home/cpansand/.cpan/build/2019052320/CGI-4.43-0/blib/lib
PERL5OPT =
PERL5_CPANPLUS_IS_RUNNING = 18997
PERL5_CPAN_IS_RUNNING = 18997
PERL5_CPAN_IS_RUNNING_IN_RECURSION = 18980,18997
PERLDOC = -MPod::Perldoc::ToTextOverstrike
PERL_BATCH = yes
PERL_CANARY_STABILITY_NOPROMPT = 1
PERL_CPAN_REPORTER_CONFIG = /var/tmp/cpansmoker-1023/2019052320/cpanreporter_001_config.ini
PERL_EXTUTILS_AUTOINSTALL = --defaultdeps
PERL_USE_UNSAFE_INC = 1
SHELL = /usr/bin/zsh
TERM = screen
TMPDIR = /var/tmp/cpansmoker-1023/2019052320
Perl special variables (and OS-specific diagnostics, for MSWin32):
$^X = /opt/perl-5.26.3/bin/perl
$UID/$EUID = 1023 / 1023
$GID = 1023 1023
$EGID = 1023 1023
Perl module toolchain versions installed:
Module Have
------------------- --------
CPAN 2.26
CPAN::Meta 2.150010
Cwd 3.75
ExtUtils::CBuilder 0.280225
ExtUtils::Command 7.34
ExtUtils::Install 2.06
ExtUtils::MakeMaker 7.34
ExtUtils::Manifest 1.72
ExtUtils::ParseXS 3.34
File::Spec 3.75
JSON 4.02
JSON::PP 4.01
Module::Build 0.4224
Module::Signature 0.83
Parse::CPAN::Meta 2.150010
Test::Harness 3.38
Test::More 1.302162
YAML 1.27
YAML::Syck 1.31
version 0.9924
--
Summary of my perl5 (revision 5 version 26 subversion 3) configuration:
Platform:
osname=linux
osvers=3.10.0-862.14.4.el7.x86_64
archname=x86_64-linux
uname='linux centos-4gb-hel1-1 3.10.0-862.14.4.el7.x86_64 #1 smp wed sep 26 15:12:11 utc 2018 x86_64 x86_64 x86_64 gnulinux '
config_args='-ds -e -Dprefix=/opt/perl-5.26.3 -Dcf_email=srezic@cpan.org'
hint=recommended
useposix=true
d_sigaction=define
useithreads=undef
usemultiplicity=undef
use64bitint=define
use64bitall=define
uselongdouble=undef
usemymalloc=n
default_inc_excludes_dot=define
bincompat5005=undef
Compiler:
cc='cc'
ccflags ='-fwrapv -fno-strict-aliasing -pipe -fstack-protector-strong -I/usr/local/include -D_LARGEFILE_SOURCE -D_FILE_OFFSET_BITS=64 -D_FORTIFY_SOURCE=2'
optimize='-O2'
cppflags='-fwrapv -fno-strict-aliasing -pipe -fstack-protector-strong -I/usr/local/include'
ccversion=''
gccversion='4.8.5 20150623 (Red Hat 4.8.5-28)'
gccosandvers=''
intsize=4
longsize=8
ptrsize=8
doublesize=8
byteorder=12345678
doublekind=3
d_longlong=define
longlongsize=8
d_longdbl=define
longdblsize=16
longdblkind=3
ivtype='long'
ivsize=8
nvtype='double'
nvsize=8
Off_t='off_t'
lseeksize=8
alignbytes=8
prototype=define
Linker and Libraries:
ld='cc'
ldflags =' -fstack-protector-strong -L/usr/local/lib'
libpth=/usr/local/lib /usr/lib /lib/../lib64 /usr/lib/../lib64 /lib /lib64 /usr/lib64 /usr/local/lib64
libs=-lpthread -lnsl -lgdbm -ldb -ldl -lm -lcrypt -lutil -lc -lgdbm_compat
perllibs=-lpthread -lnsl -ldl -lm -lcrypt -lutil -lc
libc=libc-2.17.so
so=so
useshrplib=false
libperl=libperl.a
gnulibc_version='2.17'
Dynamic Linking:
dlsrc=dl_dlopen.xs
dlext=so
d_dlsymun=undef
ccdlflags='-Wl,-E'
cccdlflags='-fPIC'
lddlflags='-shared -O2 -L/usr/local/lib -fstack-protector-strong'
Characteristics of this binary (from libperl):
Compile-time options:
HAS_TIMES
PERLIO_LAYERS
PERL_COPY_ON_WRITE
PERL_DONT_CREATE_GVSV
PERL_MALLOC_WRAP
PERL_OP_PARENT
PERL_PRESERVE_IVUV
USE_64_BIT_ALL
USE_64_BIT_INT
USE_LARGE_FILES
USE_LOCALE
USE_LOCALE_COLLATE
USE_LOCALE_CTYPE
USE_LOCALE_NUMERIC
USE_LOCALE_TIME
USE_PERLIO
USE_PERL_ATOF
Built under linux
Compiled at Nov 29 2018 22:53:06
%ENV:
PERL5LIB="/home/cpansand/.cpan/build/2019052320/Data-FormValidator-4.88-0/blib/arch:/home/cpansand/.cpan/build/2019052320/Data-FormValidator-4.88-0/blib/lib:/home/cpansand/.cpan/build/2019052320/File-MMagic-1.30-0/blib/arch:/home/cpansand/.cpan/build/2019052320/File-MMagic-1.30-0/blib/lib:/home/cpansand/.cpan/build/2019052320/CGI-4.43-0/blib/arch:/home/cpansand/.cpan/build/2019052320/CGI-4.43-0/blib/lib"
PERL5OPT=""
PERL5_CPANPLUS_IS_RUNNING="18997"
PERL5_CPAN_IS_RUNNING="18997"
PERL5_CPAN_IS_RUNNING_IN_RECURSION="18980,18997"
PERLDOC="-MPod::Perldoc::ToTextOverstrike"
PERL_BATCH="yes"
PERL_CANARY_STABILITY_NOPROMPT="1"
PERL_CPAN_REPORTER_CONFIG="/var/tmp/cpansmoker-1023/2019052320/cpanreporter_001_config.ini"
PERL_EXTUTILS_AUTOINSTALL="--defaultdeps"
PERL_USE_UNSAFE_INC="1"
@INC:
/home/cpansand/.cpan/build/2019052320/Data-FormValidator-4.88-0/blib/arch
/home/cpansand/.cpan/build/2019052320/Data-FormValidator-4.88-0/blib/lib
/home/cpansand/.cpan/build/2019052320/File-MMagic-1.30-0/blib/arch
/home/cpansand/.cpan/build/2019052320/File-MMagic-1.30-0/blib/lib
/home/cpansand/.cpan/build/2019052320/CGI-4.43-0/blib/arch
/home/cpansand/.cpan/build/2019052320/CGI-4.43-0/blib/lib
/opt/perl-5.26.3/lib/site_perl/5.26.3/x86_64-linux
/opt/perl-5.26.3/lib/site_perl/5.26.3
/opt/perl-5.26.3/lib/5.26.3/x86_64-linux
/opt/perl-5.26.3/lib/5.26.3
.