CatalystX-OAuth2 v0.001009 Perl 5 v5.24.1 x86_64-linux

Status
Pass
From
Slaven Rezić (SREZIC)
Dist
CatalystX-OAuth2 v0.001009
Platform
Perl 5 v5.24.1 x86_64-linux
Date
2017-12-13 01:45:31
ID
4db0af78-dfa7-11e7-9d0c-f9ac1350ad92
This distribution has been tested as part of the CPAN Testers
project, supporting the Perl programming language.  See
http://wiki.cpantesters.org/ for more information or email
questions to cpan-testers-discuss@perl.org


--
Dear John Napiorkowski,

This is a computer-generated report for CatalystX-OAuth2-0.001009
on perl 5.24.1, created by CPAN-Reporter-1.2018.

Thank you for uploading your work to CPAN.  Congratulations!
All tests were successful.

Sections of this report:

    * Tester comments
    * Program output
    * Prerequisites
    * Environment and other context

------------------------------
TESTER COMMENTS
------------------------------

Additional comments from tester:

none provided

------------------------------
PROGRAM OUTPUT
------------------------------

Output from '/usr/bin/make test':

PERL_DL_NONLAZY=1 "/opt/perl-5.24.1/bin/perl5.24.1" "-MExtUtils::Command::MM" "-MTest::Harness" "-e" "undef *Test::Harness::Switches; test_harness(0, 'blib/lib', 'blib/arch')" t/*.t t/integration/*.t t/unit/*.t
t/00-compile.t ........................................ ok
t/author-pod-syntax.t ................................. skipped: these tests are for testing by the author
t/author-synopsis.t ................................... skipped: these tests are for testing by the author
t/integration/100-client-access-protected-resource.t .. ok
[error] Attribute (client_id) is required at /opt/perl-5.24.1/lib/site_perl/5.24.1/x86_64-linux/Moose/Object.pm line 24
	Moose::Object::new('CatalystX::OAuth2::Request::RequestAuth') called at /home/cpansand/.cpan/build/2017121300/CatalystX-OAuth2-0.001009-4/blib/lib/Catalyst/ActionRole/OAuth2/RequestAuth.pm line 21
	Catalyst::ActionRole::OAuth2::RequestAuth::try {...}  at /opt/perl-5.24.1/lib/site_perl/5.24.1/Try/Tiny.pm line 103
	eval {...} at /opt/perl-5.24.1/lib/site_perl/5.24.1/Try/Tiny.pm line 94
	Try::Tiny::try('CODE(0x55a0f36cd658)', 'Try::Tiny::Catch=REF(0x55a0f3668690)') called at /home/cpansand/.cpan/build/2017121300/CatalystX-OAuth2-0.001009-4/blib/lib/Catalyst/ActionRole/OAuth2/RequestAuth.pm line 31
	Catalyst::ActionRole::OAuth2::RequestAuth::build_oauth2_request('Moose::Meta::Class::__ANON__::SERIAL::11=HASH(0x55a0f337b4e8)', 'AuthServer::Controller::OAuth2::Provider=HASH(0x55a0f32a8920)', 'AuthServer=HASH(0x55a0f32ac130)') called at /home/cpansand/.cpan/build/2017121300/CatalystX-OAuth2-0.001009-4/blib/lib/CatalystX/OAuth2/ActionRole/RequestInjector.pm line 17
	Class::MOP::Class:::before('Moose::Meta::Class::__ANON__::SERIAL::11=HASH(0x55a0f337b4e8)', 'AuthServer::Controller::OAuth2::Provider=HASH(0x55a0f32a8920)', 'AuthServer=HASH(0x55a0f32ac130)') called at /opt/perl-5.24.1/lib/site_perl/5.24.1/x86_64-linux/Class/MOP/Method/Wrapped.pm line 27
	Moose::Meta::Class::__ANON__::SERIAL::11::_wrapped_execute('Moose::Meta::Class::__ANON__::SERIAL::11=HASH(0x55a0f337b4e8)', 'AuthServer::Controller::OAuth2::Provider=HASH(0x55a0f32a8920)', 'AuthServer=HASH(0x55a0f32ac130)') called at /opt/perl-5.24.1/lib/site_perl/5.24.1/x86_64-linux/Class/MOP/Method/Wrapped.pm line 95
	Moose::Meta::Class::__ANON__::SERIAL::11::execute('Moose::Meta::Class::__ANON__::SERIAL::11=HASH(0x55a0f337b4e8)', 'AuthServer::Controller::OAuth2::Provider=HASH(0x55a0f32a8920)', 'AuthServer=HASH(0x55a0f32ac130)') called at /opt/perl-5.24.1/lib/site_perl/5.24.1/Catalyst.pm line 2052
	eval {...} at /opt/perl-5.24.1/lib/site_perl/5.24.1/Catalyst.pm line 2052
	Catalyst::execute('AuthServer=HASH(0x55a0f32ac130)', 'AuthServer::Controller::OAuth2::Provider', 'Moose::Meta::Class::__ANON__::SERIAL::11=HASH(0x55a0f337b4e8)') called at /opt/perl-5.24.1/lib/site_perl/5.24.1/Catalyst/Action.pm line 353
	Catalyst::Action::dispatch('Moose::Meta::Class::__ANON__::SERIAL::11=HASH(0x55a0f337b4e8)', 'AuthServer=HASH(0x55a0f32ac130)') called at /opt/perl-5.24.1/lib/site_perl/5.24.1/Catalyst/ActionChain.pm line 46
	Catalyst::ActionChain::dispatch('Catalyst::ActionChain=HASH(0x55a0f3669368)', 'AuthServer=HASH(0x55a0f32ac130)') called at /opt/perl-5.24.1/lib/site_perl/5.24.1/Catalyst/Controller.pm line 171
	Catalyst::Controller::_ACTION('AuthServer::Controller::OAuth2::Provider=HASH(0x55a0f32a8920)', 'AuthServer=HASH(0x55a0f32ac130)') called at /opt/perl-5.24.1/lib/site_perl/5.24.1/Catalyst/Action.pm line 358
	Catalyst::Action::execute('Catalyst::Action=HASH(0x55a0f3377468)', 'AuthServer::Controller::OAuth2::Provider=HASH(0x55a0f32a8920)', 'AuthServer=HASH(0x55a0f32ac130)') called at /opt/perl-5.24.1/lib/site_perl/5.24.1/Catalyst.pm line 2052
	eval {...} at /opt/perl-5.24.1/lib/site_perl/5.24.1/Catalyst.pm line 2052
	Catalyst::execute('AuthServer=HASH(0x55a0f32ac130)', 'AuthServer::Controller::OAuth2::Provider', 'Catalyst::Action=HASH(0x55a0f3377468)') called at /opt/perl-5.24.1/lib/site_perl/5.24.1/Catalyst/Action.pm line 353
	Catalyst::Action::dispatch('Catalyst::Action=HASH(0x55a0f3377468)', 'AuthServer=HASH(0x55a0f32ac130)') called at /opt/perl-5.24.1/lib/site_perl/5.24.1/Catalyst/Dispatcher.pm line 262
	Catalyst::Dispatcher::_do_forward('Catalyst::Dispatcher=HASH(0x55a0f15bc240)', 'forward', 'AuthServer=HASH(0x55a0f32ac130)', '_ACTION') called at /opt/perl-5.24.1/lib/site_perl/5.24.1/Catalyst/Dispatcher.pm line 242
	Catalyst::Dispatcher::forward('Catalyst::Dispatcher=HASH(0x55a0f15bc240)', 'AuthServer=HASH(0x55a0f32ac130)', '_ACTION') called at /opt/perl-5.24.1/lib/site_perl/5.24.1/Catalyst.pm line 477
	Catalyst::forward('AuthServer=HASH(0x55a0f32ac130)', '_ACTION') called at /opt/perl-5.24.1/lib/site_perl/5.24.1/Catalyst/Controller.pm line 135
	Catalyst::Controller::_DISPATCH('AuthServer::Controller::OAuth2::Provider=HASH(0x55a0f32a8920)', 'AuthServer=HASH(0x55a0f32ac130)') called at /opt/perl-5.24.1/lib/site_perl/5.24.1/Catalyst/Action.pm line 358
	Catalyst::Action::execute('Catalyst::Action=HASH(0x55a0f3371a90)', 'AuthServer::Controller::OAuth2::Provider=HASH(0x55a0f32a8920)', 'AuthServer=HASH(0x55a0f32ac130)') called at /opt/perl-5.24.1/lib/site_perl/5.24.1/Catalyst.pm line 2052
	eval {...} at /opt/perl-5.24.1/lib/site_perl/5.24.1/Catalyst.pm line 2052
	Catalyst::execute('AuthServer=HASH(0x55a0f32ac130)', 'AuthServer::Controller::OAuth2::Provider', 'Catalyst::Action=HASH(0x55a0f3371a90)') called at /opt/perl-5.24.1/lib/site_perl/5.24.1/Catalyst/Action.pm line 353
	Catalyst::Action::dispatch('Catalyst::Action=HASH(0x55a0f3371a90)', 'AuthServer=HASH(0x55a0f32ac130)') called at /opt/perl-5.24.1/lib/site_perl/5.24.1/Catalyst/Dispatcher.pm line 262
	Catalyst::Dispatcher::_do_forward('Catalyst::Dispatcher=HASH(0x55a0f15bc240)', 'forward', 'AuthServer=HASH(0x55a0f32ac130)', '/oauth2/provider/_DISPATCH') called at /opt/perl-5.24.1/lib/site_perl/5.24.1/Catalyst/Dispatcher.pm line 242
	Catalyst::Dispatcher::forward('Catalyst::Dispatcher=HASH(0x55a0f15bc240)', 'AuthServer=HASH(0x55a0f32ac130)', '/oauth2/provider/_DISPATCH') called at /opt/perl-5.24.1/lib/site_perl/5.24.1/Catalyst.pm line 477
	Catalyst::forward('AuthServer=HASH(0x55a0f32ac130)', '/oauth2/provider/_DISPATCH') called at /opt/perl-5.24.1/lib/site_perl/5.24.1/Catalyst/Dispatcher.pm line 108
	Catalyst::Dispatcher::dispatch('Catalyst::Dispatcher=HASH(0x55a0f15bc240)', 'AuthServer=HASH(0x55a0f32ac130)') called at /opt/perl-5.24.1/lib/site_perl/5.24.1/Catalyst.pm line 1998
	Catalyst::dispatch('AuthServer=HASH(0x55a0f32ac130)') called at /opt/perl-5.24.1/lib/site_perl/5.24.1/x86_64-linux/Class/MOP/Method/Wrapped.pm line 56
	AuthServer::_wrapped_dispatch('AuthServer=HASH(0x55a0f32ac130)') called at /opt/perl-5.24.1/lib/site_perl/5.24.1/x86_64-linux/Class/MOP/Method/Wrapped.pm line 95
	AuthServer::dispatch('AuthServer=HASH(0x55a0f32ac130)') called at /opt/perl-5.24.1/lib/site_perl/5.24.1/Catalyst.pm line 2393
	Catalyst::try {...}  at /opt/perl-5.24.1/lib/site_perl/5.24.1/Try/Tiny.pm line 103
	eval {...} at /opt/perl-5.24.1/lib/site_perl/5.24.1/Try/Tiny.pm line 94
	Try::Tiny::try('CODE(0x55a0f33ebbb0)', 'Try::Tiny::Catch=REF(0x55a0f33819b8)') called at /opt/perl-5.24.1/lib/site_perl/5.24.1/Catalyst.pm line 2402
	Catalyst::handle_request('AuthServer', 'env', 'HASH(0x55a0f2743828)', 'response_cb', 'CODE(0x55a0f2ae03b0)') called at /opt/perl-5.24.1/lib/site_perl/5.24.1/Catalyst/Engine.pm line 800
	Catalyst::Engine::__ANON__('CODE(0x55a0f2ae03b0)') called at /opt/perl-5.24.1/lib/site_perl/5.24.1/Plack/Middleware/HTTPExceptions.pm line 32
	Plack::Middleware::HTTPExceptions::try {...}  at /opt/perl-5.24.1/lib/site_perl/5.24.1/Try/Tiny.pm line 103
	eval {...} at /opt/perl-5.24.1/lib/site_perl/5.24.1/Try/Tiny.pm line 94
	Try::Tiny::try('CODE(0x55a0f3360710)', 'Try::Tiny::Catch=REF(0x55a0f36144b0)') called at /opt/perl-5.24.1/lib/site_perl/5.24.1/Plack/Middleware/HTTPExceptions.pm line 41
	Plack::Middleware::HTTPExceptions::__ANON__('CODE(0x55a0f3495cd0)') called at /opt/perl-5.24.1/lib/site_perl/5.24.1/Plack/Util.pm line 339
	Plack::Util::__ANON__('CODE(0x55a0f3462af0)') called at /opt/perl-5.24.1/lib/site_perl/5.24.1/Plack/Util.pm line 339
	Plack::Util::__ANON__('CODE(0x55a0f2faa5d8)') called at /opt/perl-5.24.1/lib/site_perl/5.24.1/Plack/Util.pm line 339
	Plack::Util::__ANON__('CODE(0x55a0f2e187a0)') called at /opt/perl-5.24.1/lib/site_perl/5.24.1/HTTP/Message/PSGI.pm line 100
	HTTP::Message::PSGI::res_from_psgi('CODE(0x55a0f2cc0d50)') called at /opt/perl-5.24.1/lib/site_perl/5.24.1/HTTP/Message/PSGI.pm line 156
	HTTP::Response::from_psgi('HTTP::Response', 'CODE(0x55a0f2cc0d50)') called at /opt/perl-5.24.1/lib/site_perl/5.24.1/Plack/Test/MockHTTP.pm line 24
	Plack::Test::MockHTTP::try {...}  at /opt/perl-5.24.1/lib/site_perl/5.24.1/Try/Tiny.pm line 101
	eval {...} at /opt/perl-5.24.1/lib/site_perl/5.24.1/Try/Tiny.pm line 94
	Try::Tiny::try('CODE(0x55a0f35e5c80)', 'Try::Tiny::Catch=REF(0x55a0f3650130)') called at /opt/perl-5.24.1/lib/site_perl/5.24.1/Plack/Test/MockHTTP.pm line 27
	Plack::Test::MockHTTP::request('Plack::Test::MockHTTP=HASH(0x55a0f36584d0)', 'HTTP::Request=HASH(0x55a0f36580e0)') called at /opt/perl-5.24.1/lib/site_perl/5.24.1/Plack/Test.pm line 38
	Plack::Test::__ANON__('HTTP::Request=HASH(0x55a0f36580e0)') called at /opt/perl-5.24.1/lib/site_perl/5.24.1/Catalyst/Test.pm line 281
	Catalyst::Test::__ANON__('CODE(0x55a0f3658368)') called at /opt/perl-5.24.1/lib/site_perl/5.24.1/Plack/Test.pm line 38
	Plack::Test::test_psgi('mangle_response', 'CODE(0x55a0f35ec890)', 'app', 'CODE(0x55a0f3650b08)', 'app', 'CODE(0x55a0f35b3158)', 'client', 'CODE(0x55a0f3658260)') called at /opt/perl-5.24.1/lib/site_perl/5.24.1/Catalyst/Test.pm line 284
	Catalyst::Test::_request('HASH(0x55a0f3657dc8)', '/request') called at /opt/perl-5.24.1/lib/site_perl/5.24.1/Catalyst/Test.pm line 327
	Catalyst::Test::_local_request('AuthServer', '/request') called at /opt/perl-5.24.1/lib/site_perl/5.24.1/Catalyst/Test.pm line 32
	Catalyst::Test::__ANON__('/request') called at /opt/perl-5.24.1/lib/site_perl/5.24.1/Catalyst/Test.pm line 72
	Catalyst::Test::__ANON__('/request') called at t/unit/100-controller-role-provider.t line 30
bless( {
  "Plugin::ConfigLoader" => {},
  action => bless( {
    args_constraints => [],
    attributes => {
      Args => [
        0,
      ],
      Chained => [
        "/oauth2/provider/base",
      ],
      Does => [
        "Catalyst::ActionRole::OAuth2::RequestAuth",
      ],
      PathPart => [
        bless( do{\(my $o = "request")}, 'URI::_generic' ),
      ],
    },
    chain => [
      bless( {
        attributes => {
          CaptureArgs => [
            0,
          ],
          Chained => [
            "/",
          ],
          PathPart => [
            bless( do{\(my $o = "")}, 'URI::_generic' ),
          ],
        },
        class => "AuthServer::Controller::OAuth2::Provider",
        code => sub {
            package AuthServer::Controller::OAuth2::Provider;
            use warnings;
            use strict;
            
        },
        name => "base",
        namespace => "oauth2/provider",
        number_of_captures => 0,
        reverse => "oauth2/provider/base",
      }, 'Catalyst::Action' ),
      bless( {
        args_constraints => $VAR1->{action}{args_constraints},
        attributes => $VAR1->{action}{attributes},
        class => "AuthServer::Controller::OAuth2::Provider",
        code => sub {
            package AuthServer::Controller::OAuth2::Provider;
            use warnings;
            use strict;
            
        },
        enable_client_secret => 0,
        name => "request",
        namespace => "oauth2/provider",
        number_of_args => 0,
        reverse => "oauth2/provider/request",
      }, 'Moose::Meta::Class::__ANON__::SERIAL::11' ),
    ],
    class => "AuthServer::Controller::OAuth2::Provider",
    code => $VAR1->{action}{chain}[1]{code},
    enable_client_secret => 0,
    name => "request",
    namespace => "oauth2/provider",
    number_of_args => 0,
    reverse => "oauth2/provider/request",
  }, 'Catalyst::ActionChain' ),
  counter => {},
  home => "/home/cpansand/.cpan/build/2017121300/CatalystX-OAuth2-0.001009-4/t/lib/AuthServer",
  namespace => "oauth2/provider",
  request => bless( {
    _body => 0,
    _log => bless( {
      _body => undef,
      _psgi_errors => *::STDERR,
      abort => undef,
      autoflush => 1,
      level => 31,
    }, 'Catalyst::Log' ),
    _path => "request",
    _read_length => 0,
    _read_position => 0,
    _use_hash_multivalue => 0,
    action => "/oauth2/provider/request",
    address => "127.0.0.1",
    arguments => [],
    base => bless( do{\(my $o = "http://localhost/")}, 'URI::http' ),
    body_parameters => {},
    captures => [],
    cookies => {},
    data_handlers => {
      "application/json" => sub {
          package Catalyst;
          use warnings;
          use strict;
          my($fh, $req) = @_;
          my $parser = Class::Load::load_first_existing_class('JSON::MaybeXS', 'JSON');
          my $slurped;
          return eval {
              do {
                  local $/;
                  $slurped = $fh->getline;
                  $parser->can('decode_json')->($slurped)
              }
          } || 'Catalyst::Exception'->throw(sprintf(q[Error Parsing POST '%s', Error: %s], defined $slurped ? $slurped : 'undef', $@));
      },
      "application/x-www-form-urlencoded" => sub {
          package Catalyst;
          use warnings;
          use strict;
          my($fh, $req) = @_;
          my $params = $req->_use_hash_multivalue ? $req->body_parameters->mixed : $req->body_parameters;
          Class::Load::load_first_existing_class('CGI::Struct::XS', 'CGI::Struct')->can('build_cgi_struct')->($params);
      },
    },
    env => {
      CONTENT_LENGTH => 0,
      "Catalyst.Stash.v2" => sub {
          package Catalyst::Middleware::Stash;
          use warnings;
          use strict;
          if (@_) {
              my $new_stash = @_ > 1 ? {@_} : $_[0];
              croak('stash takes a hash or hashref') unless ref $new_stash;
              foreach my $key (keys %$new_stash) {
                  $stash->{$key} = $new_stash->{$key};
              }
          }
          $stash;
      },
      HTTP_HOST => "localhost",
      PATH_INFO => "/request",
      QUERY_STRING => "",
      REMOTE_ADDR => "127.0.0.1",
      REMOTE_HOST => "localhost",
      REMOTE_PORT => 32487,
      REQUEST_METHOD => "GET",
      REQUEST_URI => "/request",
      SCRIPT_NAME => "",
      SERVER_NAME => "localhost",
      SERVER_PORT => 80,
      SERVER_PROTOCOL => "HTTP/1.1",
      "plack.original_request_method" => "GET",
      "psgi.errors" => *::STDERR,
      "psgi.input" => \*{"HTTP::Message::PSGI::\$input"},
      "psgi.multiprocess" => "",
      "psgi.multithread" => "",
      "psgi.nonblocking" => "",
      "psgi.run_once" => 1,
      "psgi.streaming" => 1,
      "psgi.url_scheme" => "http",
      "psgi.version" => [
        1,
        1,
      ],
    },
    headers => bless( {
      "::std_case" => {
        cookie => "Cookie",
      },
      "content-length" => 0,
      host => "localhost",
    }, 'HTTP::Headers' ),
    hostname => "localhost",
    match => "/oauth2/provider/request",
    method => "GET",
    parameters => {},
    protocol => "HTTP/1.1",
    query_keywords => "",
    query_parameters => {},
    remote_user => undef,
    secure => 0,
    uploads => {},
    uri => bless( do{\(my $o = "http://localhost/request")}, 'URI::http' ),
  }, 'Catalyst::Request' ),
  response => bless( {
    _context => $VAR1,
    _log => $VAR1->{request}{_log},
    body => "warning: response_type/client_id invalid or missing",
    cookies => {},
    encodable_content_type => qr/text|xml$|javascript$/,
    encoding => bless( {
      Name => "utf-8-strict",
      strict_utf8 => 1,
    }, 'Encode::utf8' ),
    finalized_headers => 1,
    headers => bless( {}, 'HTTP::Headers' ),
    status => 200,
  }, 'Catalyst::Response' ),
  root => bless( {
    dirs => [
      "",
      "home",
      "cpansand",
      ".cpan",
      "build",
      "2017121300",
      "CatalystX-OAuth2-0.001009-4",
      "t",
      "lib",
      "AuthServer",
      "root",
    ],
    file_spec_class => undef,
    volume => "",
  }, 'Path::Class::Dir' ),
  stack => [],
  stash => {},
  state => 1,
  stats => bless( {
    enable => 0,
    tree => bless( {
      _children => [],
      _depth => -1,
      _height => 1,
      _node => {
        t => [
          "1513129434",
          504040,
        ],
      },
      _parent => "root",
      _uid => "0x55a0f33408d0",
      _width => 1,
    }, 'Tree::Simple' ),
  }, 'Catalyst::Stats' ),
}, 'AuthServer' )
t/unit/100-controller-role-provider.t ................. ok
[error] Attribute (response_type) is required at /opt/perl-5.24.1/lib/site_perl/5.24.1/x86_64-linux/Moose/Object.pm line 24
	Moose::Object::new('CatalystX::OAuth2::Request::RequestAuth') called at /home/cpansand/.cpan/build/2017121300/CatalystX-OAuth2-0.001009-4/blib/lib/Catalyst/ActionRole/OAuth2/RequestAuth.pm line 21
	Catalyst::ActionRole::OAuth2::RequestAuth::try {...}  at /opt/perl-5.24.1/lib/site_perl/5.24.1/Try/Tiny.pm line 103
	eval {...} at /opt/perl-5.24.1/lib/site_perl/5.24.1/Try/Tiny.pm line 94
	Try::Tiny::try('CODE(0x55a8021b26f0)', 'Try::Tiny::Catch=REF(0x55a8021992a8)') called at /home/cpansand/.cpan/build/2017121300/CatalystX-OAuth2-0.001009-4/blib/lib/Catalyst/ActionRole/OAuth2/RequestAuth.pm line 31
	Catalyst::ActionRole::OAuth2::RequestAuth::build_oauth2_request('Moose::Meta::Class::__ANON__::SERIAL::11=HASH(0x55a801f33ec0)', 'AuthServer::Controller::OAuth2::Provider=HASH(0x55a801db5900)', 'AuthServer=HASH(0x55a801a61ce8)') called at /home/cpansand/.cpan/build/2017121300/CatalystX-OAuth2-0.001009-4/blib/lib/CatalystX/OAuth2/ActionRole/RequestInjector.pm line 17
	Class::MOP::Class:::before('Moose::Meta::Class::__ANON__::SERIAL::11=HASH(0x55a801f33ec0)', 'AuthServer::Controller::OAuth2::Provider=HASH(0x55a801db5900)', 'AuthServer=HASH(0x55a801a61ce8)') called at /opt/perl-5.24.1/lib/site_perl/5.24.1/x86_64-linux/Class/MOP/Method/Wrapped.pm line 27
	Moose::Meta::Class::__ANON__::SERIAL::11::_wrapped_execute('Moose::Meta::Class::__ANON__::SERIAL::11=HASH(0x55a801f33ec0)', 'AuthServer::Controller::OAuth2::Provider=HASH(0x55a801db5900)', 'AuthServer=HASH(0x55a801a61ce8)') called at /opt/perl-5.24.1/lib/site_perl/5.24.1/x86_64-linux/Class/MOP/Method/Wrapped.pm line 95
	Moose::Meta::Class::__ANON__::SERIAL::11::execute('Moose::Meta::Class::__ANON__::SERIAL::11=HASH(0x55a801f33ec0)', 'AuthServer::Controller::OAuth2::Provider=HASH(0x55a801db5900)', 'AuthServer=HASH(0x55a801a61ce8)') called at /opt/perl-5.24.1/lib/site_perl/5.24.1/Catalyst.pm line 2052
	eval {...} at /opt/perl-5.24.1/lib/site_perl/5.24.1/Catalyst.pm line 2052
	Catalyst::execute('AuthServer=HASH(0x55a801a61ce8)', 'AuthServer::Controller::OAuth2::Provider', 'Moose::Meta::Class::__ANON__::SERIAL::11=HASH(0x55a801f33ec0)') called at /opt/perl-5.24.1/lib/site_perl/5.24.1/Catalyst/Action.pm line 353
	Catalyst::Action::dispatch('Moose::Meta::Class::__ANON__::SERIAL::11=HASH(0x55a801f33ec0)', 'AuthServer=HASH(0x55a801a61ce8)') called at /opt/perl-5.24.1/lib/site_perl/5.24.1/Catalyst/ActionChain.pm line 46
	Catalyst::ActionChain::dispatch('Catalyst::ActionChain=HASH(0x55a8021ab110)', 'AuthServer=HASH(0x55a801a61ce8)') called at /opt/perl-5.24.1/lib/site_perl/5.24.1/Catalyst/Controller.pm line 171
	Catalyst::Controller::_ACTION('AuthServer::Controller::OAuth2::Provider=HASH(0x55a801db5900)', 'AuthServer=HASH(0x55a801a61ce8)') called at /opt/perl-5.24.1/lib/site_perl/5.24.1/Catalyst/Action.pm line 358
	Catalyst::Action::execute('Catalyst::Action=HASH(0x55a801eb8da0)', 'AuthServer::Controller::OAuth2::Provider=HASH(0x55a801db5900)', 'AuthServer=HASH(0x55a801a61ce8)') called at /opt/perl-5.24.1/lib/site_perl/5.24.1/Catalyst.pm line 2052
	eval {...} at /opt/perl-5.24.1/lib/site_perl/5.24.1/Catalyst.pm line 2052
	Catalyst::execute('AuthServer=HASH(0x55a801a61ce8)', 'AuthServer::Controller::OAuth2::Provider', 'Catalyst::Action=HASH(0x55a801eb8da0)') called at /opt/perl-5.24.1/lib/site_perl/5.24.1/Catalyst/Action.pm line 353
	Catalyst::Action::dispatch('Catalyst::Action=HASH(0x55a801eb8da0)', 'AuthServer=HASH(0x55a801a61ce8)') called at /opt/perl-5.24.1/lib/site_perl/5.24.1/Catalyst/Dispatcher.pm line 262
	Catalyst::Dispatcher::_do_forward('Catalyst::Dispatcher=HASH(0x55a8000e5728)', 'forward', 'AuthServer=HASH(0x55a801a61ce8)', '_ACTION') called at /opt/perl-5.24.1/lib/site_perl/5.24.1/Catalyst/Dispatcher.pm line 242
	Catalyst::Dispatcher::forward('Catalyst::Dispatcher=HASH(0x55a8000e5728)', 'AuthServer=HASH(0x55a801a61ce8)', '_ACTION') called at /opt/perl-5.24.1/lib/site_perl/5.24.1/Catalyst.pm line 477
	Catalyst::forward('AuthServer=HASH(0x55a801a61ce8)', '_ACTION') called at /opt/perl-5.24.1/lib/site_perl/5.24.1/Catalyst/Controller.pm line 135
	Catalyst::Controller::_DISPATCH('AuthServer::Controller::OAuth2::Provider=HASH(0x55a801db5900)', 'AuthServer=HASH(0x55a801a61ce8)') called at /opt/perl-5.24.1/lib/site_perl/5.24.1/Catalyst/Action.pm line 358
	Catalyst::Action::execute('Catalyst::Action=HASH(0x55a801eb3078)', 'AuthServer::Controller::OAuth2::Provider=HASH(0x55a801db5900)', 'AuthServer=HASH(0x55a801a61ce8)') called at /opt/perl-5.24.1/lib/site_perl/5.24.1/Catalyst.pm line 2052
	eval {...} at /opt/perl-5.24.1/lib/site_perl/5.24.1/Catalyst.pm line 2052
	Catalyst::execute('AuthServer=HASH(0x55a801a61ce8)', 'AuthServer::Controller::OAuth2::Provider', 'Catalyst::Action=HASH(0x55a801eb3078)') called at /opt/perl-5.24.1/lib/site_perl/5.24.1/Catalyst/Action.pm line 353
	Catalyst::Action::dispatch('Catalyst::Action=HASH(0x55a801eb3078)', 'AuthServer=HASH(0x55a801a61ce8)') called at /opt/perl-5.24.1/lib/site_perl/5.24.1/Catalyst/Dispatcher.pm line 262
	Catalyst::Dispatcher::_do_forward('Catalyst::Dispatcher=HASH(0x55a8000e5728)', 'forward', 'AuthServer=HASH(0x55a801a61ce8)', '/oauth2/provider/_DISPATCH') called at /opt/perl-5.24.1/lib/site_perl/5.24.1/Catalyst/Dispatcher.pm line 242
	Catalyst::Dispatcher::forward('Catalyst::Dispatcher=HASH(0x55a8000e5728)', 'AuthServer=HASH(0x55a801a61ce8)', '/oauth2/provider/_DISPATCH') called at /opt/perl-5.24.1/lib/site_perl/5.24.1/Catalyst.pm line 477
	Catalyst::forward('AuthServer=HASH(0x55a801a61ce8)', '/oauth2/provider/_DISPATCH') called at /opt/perl-5.24.1/lib/site_perl/5.24.1/Catalyst/Dispatcher.pm line 108
	Catalyst::Dispatcher::dispatch('Catalyst::Dispatcher=HASH(0x55a8000e5728)', 'AuthServer=HASH(0x55a801a61ce8)') called at /opt/perl-5.24.1/lib/site_perl/5.24.1/Catalyst.pm line 1998
	Catalyst::dispatch('AuthServer=HASH(0x55a801a61ce8)') called at /opt/perl-5.24.1/lib/site_perl/5.24.1/x86_64-linux/Class/MOP/Method/Wrapped.pm line 56
	AuthServer::_wrapped_dispatch('AuthServer=HASH(0x55a801a61ce8)') called at /opt/perl-5.24.1/lib/site_perl/5.24.1/x86_64-linux/Class/MOP/Method/Wrapped.pm line 95
	AuthServer::dispatch('AuthServer=HASH(0x55a801a61ce8)') called at /opt/perl-5.24.1/lib/site_perl/5.24.1/Catalyst.pm line 2393
	Catalyst::try {...}  at /opt/perl-5.24.1/lib/site_perl/5.24.1/Try/Tiny.pm line 103
	eval {...} at /opt/perl-5.24.1/lib/site_perl/5.24.1/Try/Tiny.pm line 94
	Try::Tiny::try('CODE(0x55a801df1998)', 'Try::Tiny::Catch=REF(0x55a801f331d0)') called at /opt/perl-5.24.1/lib/site_perl/5.24.1/Catalyst.pm line 2402
	Catalyst::handle_request('AuthServer', 'env', 'HASH(0x55a80212fc58)', 'response_cb', 'CODE(0x55a802018680)') called at /opt/perl-5.24.1/lib/site_perl/5.24.1/Catalyst/Engine.pm line 800
	Catalyst::Engine::__ANON__('CODE(0x55a802018680)') called at /opt/perl-5.24.1/lib/site_perl/5.24.1/Plack/Middleware/HTTPExceptions.pm line 32
	Plack::Middleware::HTTPExceptions::try {...}  at /opt/perl-5.24.1/lib/site_perl/5.24.1/Try/Tiny.pm line 103
	eval {...} at /opt/perl-5.24.1/lib/site_perl/5.24.1/Try/Tiny.pm line 94
	Try::Tiny::try('CODE(0x55a801e66790)', 'Try::Tiny::Catch=REF(0x55a801df6730)') called at /opt/perl-5.24.1/lib/site_perl/5.24.1/Plack/Middleware/HTTPExceptions.pm line 41
	Plack::Middleware::HTTPExceptions::__ANON__('CODE(0x55a801fd65a0)') called at /opt/perl-5.24.1/lib/site_perl/5.24.1/Plack/Util.pm line 339
	Plack::Util::__ANON__('CODE(0x55a80007a810)') called at /opt/perl-5.24.1/lib/site_perl/5.24.1/Plack/Util.pm line 339
	Plack::Util::__ANON__('CODE(0x55a801f79c10)') called at /opt/perl-5.24.1/lib/site_perl/5.24.1/Plack/Util.pm line 339
	Plack::Util::__ANON__('CODE(0x55a80210c160)') called at /opt/perl-5.24.1/lib/site_perl/5.24.1/HTTP/Message/PSGI.pm line 100
	HTTP::Message::PSGI::res_from_psgi('CODE(0x55a801a54008)') called at /opt/perl-5.24.1/lib/site_perl/5.24.1/HTTP/Message/PSGI.pm line 156
	HTTP::Response::from_psgi('HTTP::Response', 'CODE(0x55a801a54008)') called at /opt/perl-5.24.1/lib/site_perl/5.24.1/Plack/Test/MockHTTP.pm line 24
	Plack::Test::MockHTTP::try {...}  at /opt/perl-5.24.1/lib/site_perl/5.24.1/Try/Tiny.pm line 101
	eval {...} at /opt/perl-5.24.1/lib/site_perl/5.24.1/Try/Tiny.pm line 94
	Try::Tiny::try('CODE(0x55a801dde730)', 'Try::Tiny::Catch=REF(0x55a802134298)') called at /opt/perl-5.24.1/lib/site_perl/5.24.1/Plack/Test/MockHTTP.pm line 27
	Plack::Test::MockHTTP::request('Plack::Test::MockHTTP=HASH(0x55a802138350)', 'HTTP::Request=HASH(0x55a802137f48)') called at /opt/perl-5.24.1/lib/site_perl/5.24.1/Plack/Test.pm line 38
	Plack::Test::__ANON__('HTTP::Request=HASH(0x55a802137f48)') called at /opt/perl-5.24.1/lib/site_perl/5.24.1/Catalyst/Test.pm line 281
	Catalyst::Test::__ANON__('CODE(0x55a8021381d0)') called at /opt/perl-5.24.1/lib/site_perl/5.24.1/Plack/Test.pm line 38
	Plack::Test::test_psgi('mangle_response', 'CODE(0x55a7ff189638)', 'app', 'CODE(0x55a802134c70)', 'app', 'CODE(0x55a8020f3458)', 'client', 'CODE(0x55a8021380c8)') called at /opt/perl-5.24.1/lib/site_perl/5.24.1/Catalyst/Test.pm line 284
	Catalyst::Test::_request('HASH(0x55a802137c30)', '/request') called at /opt/perl-5.24.1/lib/site_perl/5.24.1/Catalyst/Test.pm line 327
	Catalyst::Test::_local_request('AuthServer', '/request') called at /opt/perl-5.24.1/lib/site_perl/5.24.1/Catalyst/Test.pm line 32
	Catalyst::Test::__ANON__('/request') called at /opt/perl-5.24.1/lib/site_perl/5.24.1/Catalyst/Test.pm line 72
	Catalyst::Test::__ANON__('/request') called at t/unit/200-actionrole-request-auth.t line 15
[error] Attribute (client_id) is required at /opt/perl-5.24.1/lib/site_perl/5.24.1/x86_64-linux/Moose/Object.pm line 24
	Moose::Object::new('CatalystX::OAuth2::Request::RequestAuth') called at /home/cpansand/.cpan/build/2017121300/CatalystX-OAuth2-0.001009-4/blib/lib/Catalyst/ActionRole/OAuth2/RequestAuth.pm line 21
	Catalyst::ActionRole::OAuth2::RequestAuth::try {...}  at /opt/perl-5.24.1/lib/site_perl/5.24.1/Try/Tiny.pm line 103
	eval {...} at /opt/perl-5.24.1/lib/site_perl/5.24.1/Try/Tiny.pm line 94
	Try::Tiny::try('CODE(0x55a80223f770)', 'Try::Tiny::Catch=REF(0x55a80220f338)') called at /home/cpansand/.cpan/build/2017121300/CatalystX-OAuth2-0.001009-4/blib/lib/Catalyst/ActionRole/OAuth2/RequestAuth.pm line 31
	Catalyst::ActionRole::OAuth2::RequestAuth::build_oauth2_request('Moose::Meta::Class::__ANON__::SERIAL::11=HASH(0x55a801f33ec0)', 'AuthServer::Controller::OAuth2::Provider=HASH(0x55a801db5900)', 'AuthServer=HASH(0x55a801a61ce8)') called at /home/cpansand/.cpan/build/2017121300/CatalystX-OAuth2-0.001009-4/blib/lib/CatalystX/OAuth2/ActionRole/RequestInjector.pm line 17
	Class::MOP::Class:::before('Moose::Meta::Class::__ANON__::SERIAL::11=HASH(0x55a801f33ec0)', 'AuthServer::Controller::OAuth2::Provider=HASH(0x55a801db5900)', 'AuthServer=HASH(0x55a801a61ce8)') called at /opt/perl-5.24.1/lib/site_perl/5.24.1/x86_64-linux/Class/MOP/Method/Wrapped.pm line 27
	Moose::Meta::Class::__ANON__::SERIAL::11::_wrapped_execute('Moose::Meta::Class::__ANON__::SERIAL::11=HASH(0x55a801f33ec0)', 'AuthServer::Controller::OAuth2::Provider=HASH(0x55a801db5900)', 'AuthServer=HASH(0x55a801a61ce8)') called at /opt/perl-5.24.1/lib/site_perl/5.24.1/x86_64-linux/Class/MOP/Method/Wrapped.pm line 95
	Moose::Meta::Class::__ANON__::SERIAL::11::execute('Moose::Meta::Class::__ANON__::SERIAL::11=HASH(0x55a801f33ec0)', 'AuthServer::Controller::OAuth2::Provider=HASH(0x55a801db5900)', 'AuthServer=HASH(0x55a801a61ce8)') called at /opt/perl-5.24.1/lib/site_perl/5.24.1/Catalyst.pm line 2052
	eval {...} at /opt/perl-5.24.1/lib/site_perl/5.24.1/Catalyst.pm line 2052
	Catalyst::execute('AuthServer=HASH(0x55a801a61ce8)', 'AuthServer::Controller::OAuth2::Provider', 'Moose::Meta::Class::__ANON__::SERIAL::11=HASH(0x55a801f33ec0)') called at /opt/perl-5.24.1/lib/site_perl/5.24.1/Catalyst/Action.pm line 353
	Catalyst::Action::dispatch('Moose::Meta::Class::__ANON__::SERIAL::11=HASH(0x55a801f33ec0)', 'AuthServer=HASH(0x55a801a61ce8)') called at /opt/perl-5.24.1/lib/site_perl/5.24.1/Catalyst/ActionChain.pm line 46
	Catalyst::ActionChain::dispatch('Catalyst::ActionChain=HASH(0x55a8021ab110)', 'AuthServer=HASH(0x55a801a61ce8)') called at /opt/perl-5.24.1/lib/site_perl/5.24.1/Catalyst/Controller.pm line 171
	Catalyst::Controller::_ACTION('AuthServer::Controller::OAuth2::Provider=HASH(0x55a801db5900)', 'AuthServer=HASH(0x55a801a61ce8)') called at /opt/perl-5.24.1/lib/site_perl/5.24.1/Catalyst/Action.pm line 358
	Catalyst::Action::execute('Catalyst::Action=HASH(0x55a801eb8da0)', 'AuthServer::Controller::OAuth2::Provider=HASH(0x55a801db5900)', 'AuthServer=HASH(0x55a801a61ce8)') called at /opt/perl-5.24.1/lib/site_perl/5.24.1/Catalyst.pm line 2052
	eval {...} at /opt/perl-5.24.1/lib/site_perl/5.24.1/Catalyst.pm line 2052
	Catalyst::execute('AuthServer=HASH(0x55a801a61ce8)', 'AuthServer::Controller::OAuth2::Provider', 'Catalyst::Action=HASH(0x55a801eb8da0)') called at /opt/perl-5.24.1/lib/site_perl/5.24.1/Catalyst/Action.pm line 353
	Catalyst::Action::dispatch('Catalyst::Action=HASH(0x55a801eb8da0)', 'AuthServer=HASH(0x55a801a61ce8)') called at /opt/perl-5.24.1/lib/site_perl/5.24.1/Catalyst/Dispatcher.pm line 262
	Catalyst::Dispatcher::_do_forward('Catalyst::Dispatcher=HASH(0x55a8000e5728)', 'forward', 'AuthServer=HASH(0x55a801a61ce8)', '_ACTION') called at /opt/perl-5.24.1/lib/site_perl/5.24.1/Catalyst/Dispatcher.pm line 242
	Catalyst::Dispatcher::forward('Catalyst::Dispatcher=HASH(0x55a8000e5728)', 'AuthServer=HASH(0x55a801a61ce8)', '_ACTION') called at /opt/perl-5.24.1/lib/site_perl/5.24.1/Catalyst.pm line 477
	Catalyst::forward('AuthServer=HASH(0x55a801a61ce8)', '_ACTION') called at /opt/perl-5.24.1/lib/site_perl/5.24.1/Catalyst/Controller.pm line 135
	Catalyst::Controller::_DISPATCH('AuthServer::Controller::OAuth2::Provider=HASH(0x55a801db5900)', 'AuthServer=HASH(0x55a801a61ce8)') called at /opt/perl-5.24.1/lib/site_perl/5.24.1/Catalyst/Action.pm line 358
	Catalyst::Action::execute('Catalyst::Action=HASH(0x55a801eb3078)', 'AuthServer::Controller::OAuth2::Provider=HASH(0x55a801db5900)', 'AuthServer=HASH(0x55a801a61ce8)') called at /opt/perl-5.24.1/lib/site_perl/5.24.1/Catalyst.pm line 2052
	eval {...} at /opt/perl-5.24.1/lib/site_perl/5.24.1/Catalyst.pm line 2052
	Catalyst::execute('AuthServer=HASH(0x55a801a61ce8)', 'AuthServer::Controller::OAuth2::Provider', 'Catalyst::Action=HASH(0x55a801eb3078)') called at /opt/perl-5.24.1/lib/site_perl/5.24.1/Catalyst/Action.pm line 353
	Catalyst::Action::dispatch('Catalyst::Action=HASH(0x55a801eb3078)', 'AuthServer=HASH(0x55a801a61ce8)') called at /opt/perl-5.24.1/lib/site_perl/5.24.1/Catalyst/Dispatcher.pm line 262
	Catalyst::Dispatcher::_do_forward('Catalyst::Dispatcher=HASH(0x55a8000e5728)', 'forward', 'AuthServer=HASH(0x55a801a61ce8)', '/oauth2/provider/_DISPATCH') called at /opt/perl-5.24.1/lib/site_perl/5.24.1/Catalyst/Dispatcher.pm line 242
	Catalyst::Dispatcher::forward('Catalyst::Dispatcher=HASH(0x55a8000e5728)', 'AuthServer=HASH(0x55a801a61ce8)', '/oauth2/provider/_DISPATCH') called at /opt/perl-5.24.1/lib/site_perl/5.24.1/Catalyst.pm line 477
	Catalyst::forward('AuthServer=HASH(0x55a801a61ce8)', '/oauth2/provider/_DISPATCH') called at /opt/perl-5.24.1/lib/site_perl/5.24.1/Catalyst/Dispatcher.pm line 108
	Catalyst::Dispatcher::dispatch('Catalyst::Dispatcher=HASH(0x55a8000e5728)', 'AuthServer=HASH(0x55a801a61ce8)') called at /opt/perl-5.24.1/lib/site_perl/5.24.1/Catalyst.pm line 1998
	Catalyst::dispatch('AuthServer=HASH(0x55a801a61ce8)') called at /opt/perl-5.24.1/lib/site_perl/5.24.1/x86_64-linux/Class/MOP/Method/Wrapped.pm line 56
	AuthServer::_wrapped_dispatch('AuthServer=HASH(0x55a801a61ce8)') called at /opt/perl-5.24.1/lib/site_perl/5.24.1/x86_64-linux/Class/MOP/Method/Wrapped.pm line 95
	AuthServer::dispatch('AuthServer=HASH(0x55a801a61ce8)') called at t/unit/200-actionrole-request-auth.t line 19
[warn] Useless setting a header value after finalize_headers and the response callback has been called. Since we don't support tail headers this will not work as you might expect.
[warn] Useless setting a header value after finalize_headers and the response callback has been called. Since we don't support tail headers this will not work as you might expect.
t/unit/200-actionrole-request-auth.t .................. ok
[warn] Useless setting a header value after finalize_headers and the response callback has been called. Since we don't support tail headers this will not work as you might expect.
[warn] Useless setting a header value after finalize_headers and the response callback has been called. Since we don't support tail headers this will not work as you might expect.
[warn] Useless setting a header value after finalize_headers and the response callback has been called. Since we don't support tail headers this will not work as you might expect.
t/unit/300-actionrole-grant-auth.t .................... ok
t/unit/400-actionrole-auth-token-via-auth-grant.t ..... ok
t/unit/500-actionrole-auth-token-via-refresh-token.t .. ok
[warn] Useless setting a header value after finalize_headers and the response callback has been called. Since we don't support tail headers this will not work as you might expect.
t/unit/600-actionrole-protected-resource.t ............ ok
[error] No default action defined
[warn] Useless setting a header value after finalize_headers and the response callback has been called. Since we don't support tail headers this will not work as you might expect.
[error] No default action defined
t/unit/700-client.t ................................... ok
All tests successful.
Files=11, Tests=153, 10 wallclock secs ( 0.05 usr  0.02 sys +  8.78 cusr  0.99 csys =  9.84 CPU)
Result: PASS

------------------------------
PREREQUISITES
------------------------------

Prerequisite modules loaded:

requires:

    Module                                   Need    Have      
    ---------------------------------------- ------- ----------
    base                                     0       2.23      
    Class::Load                              0       0.24      
    DBIx::Class                              0       0.082840  
    DBIx::Class::ResultSet                   0       0         
    DBIx::Class::Schema                      0       0         
    HTTP::Request::Common                    0       6.13      
    JSON::Any                                0       1.39      
    LWP::UserAgent                           0       6.29      
    Moose                                    0       2.2006    
    Moose::Role                              0       2.2006    
    Moose::Util                              0       2.2006    
    Moose::Util::TypeConstraints             0       2.2006    
    MooseX::NonMoose                         0       0.26      
    MooseX::SetOnce                          0       0.200002  
    MooseX::Types::Common::String            0       0.001014  
    parent                                   0       0.234     
    perl                                     5.006   5.024001  
    Scalar::Util                             0       1.49      
    strict                                   0       1.11      
    Try::Tiny                                0       0.28      
    URI                                      0       1.71      
    warnings                                 0       1.36      

build_requires:

    Module                                   Need    Have      
    ---------------------------------------- ------- ----------
    blib                                     1.01    1.06      
    Catalyst                                 0       5.90115   
    Catalyst::Controller                     0       0         
    Catalyst::Controller::ActionRole         0       0.17      
    Catalyst::Model::DBIC::Schema            0       0.65      
    Catalyst::Plugin::Authentication         0       0.10023   
    Catalyst::Plugin::ConfigLoader           0       0.34      
    Catalyst::Plugin::Session                0       0.40      
    Catalyst::Plugin::Session::State::Cookie 0       0.17      
    Catalyst::Test                           0       0         
    Devel::Dwarn                             0       0         
    ExtUtils::MakeMaker                      0       7.30      
    File::Spec                               0       3.63_01   
    HTTP::Request                            0       6.13      
    IO::Handle                               0       1.36      
    IPC::Open3                               0       1.20      
    lib                                      0       0.63      
    namespace::autoclean                     0       0.28      
    Plack::Builder                           0       0         
    Plack::Test                              0       0         
    SQL::Translator                          0.11006 0.11023   
    strictures                               1       2.000003  
    Test::Exception                          0       0.43      
    Test::MockObject                         0       1.20161202
    Test::More                               0       1.302120  
    Test::WWW::Mechanize::PSGI               0       0.37      

configure_requires:

    Module                                   Need    Have      
    ---------------------------------------- ------- ----------
    ExtUtils::MakeMaker                      0       7.30      


------------------------------
ENVIRONMENT AND OTHER CONTEXT
------------------------------

Environment variables:

    LANG = C
    PATH = /usr/local/bin:/usr/bin:/bin:/usr/local/sbin:/usr/sbin:/sbin:/home/cpansand/bin/linux-gnu:/home/cpansand/bin/sh:/home/cpansand/bin:/usr/games:/home/cpansand/devel:/home/eserte/src/srezic-misc/scripts
    PERL5LIB = 
    PERL5OPT = 
    PERL5_CPANPLUS_IS_RUNNING = 19591
    PERL5_CPAN_IS_RUNNING = 19591
    PERL5_CPAN_IS_RUNNING_IN_RECURSION = 19496,19591
    PERLDOC = -MPod::Perldoc::ToTextOverstrike
    PERL_BATCH = yes
    PERL_CANARY_STABILITY_NOPROMPT = 1
    PERL_CPAN_REPORTER_CONFIG = /var/tmp/cpansmoker-1023/2017121300/cpanreporter_000_config.ini
    PERL_EXTUTILS_AUTOINSTALL = --defaultdeps
    PERL_USE_UNSAFE_INC = 1
    SHELL = /usr/bin/zsh
    TERM = screen
    TMPDIR = /var/tmp/cpansmoker-1023/2017121300

Perl special variables (and OS-specific diagnostics, for MSWin32):

    $^X = /opt/perl-5.24.1/bin/perl5.24.1
    $UID/$EUID = 1023 / 1023
    $GID = 1023 1023
    $EGID = 1023 1023

Perl module toolchain versions installed:

    Module              Have    
    ------------------- --------
    CPAN                2.16    
    CPAN::Meta          2.150010
    Cwd                 3.63_01 
    ExtUtils::CBuilder  0.280230
    ExtUtils::Command   7.30    
    ExtUtils::Install   2.06    
    ExtUtils::MakeMaker 7.30    
    ExtUtils::Manifest  1.70    
    ExtUtils::ParseXS   3.31    
    File::Spec          3.63_01 
    JSON                2.96    
    JSON::PP            2.95    
    Module::Build       0.4224  
    Module::Signature   0.81    
    Parse::CPAN::Meta   2.150010
    Test::Harness       3.39    
    Test::More          1.302120
    YAML                1.24    
    YAML::Syck          1.30    
    version             0.9916  


--

Summary of my perl5 (revision 5 version 24 subversion 1) configuration:
   
  Platform:
    osname=linux, osvers=4.9.0-3-amd64, archname=x86_64-linux
    uname='linux debian9 4.9.0-3-amd64 #1 smp debian 4.9.30-2+deb9u1 (2017-06-18) x86_64 gnulinux '
    config_args='-ds -e -Dprefix=/opt/perl-5.24.1 -Dcf_email=srezic@cpan.org'
    hint=recommended, useposix=true, d_sigaction=define
    useithreads=undef, usemultiplicity=undef
    use64bitint=define, use64bitall=define, uselongdouble=undef
    usemymalloc=n, bincompat5005=undef
  Compiler:
    cc='cc', ccflags ='-fwrapv -fno-strict-aliasing -pipe -fstack-protector-strong -I/usr/local/include -D_LARGEFILE_SOURCE -D_FILE_OFFSET_BITS=64',
    optimize='-O2',
    cppflags='-fwrapv -fno-strict-aliasing -pipe -fstack-protector-strong -I/usr/local/include'
    ccversion='', gccversion='6.3.0 20170516', gccosandvers=''
    intsize=4, longsize=8, ptrsize=8, doublesize=8, byteorder=12345678, doublekind=3
    d_longlong=define, longlongsize=8, d_longdbl=define, longdblsize=16, longdblkind=3
    ivtype='long', ivsize=8, nvtype='double', nvsize=8, Off_t='off_t', lseeksize=8
    alignbytes=8, prototype=define
  Linker and Libraries:
    ld='cc', ldflags =' -fstack-protector-strong -L/usr/local/lib'
    libpth=/usr/local/lib /usr/lib/gcc/x86_64-linux-gnu/6/include-fixed /usr/include/x86_64-linux-gnu /usr/lib /lib/x86_64-linux-gnu /lib/../lib /usr/lib/x86_64-linux-gnu /usr/lib/../lib /lib
    libs=-lpthread -lnsl -lgdbm -ldb -ldl -lm -lcrypt -lutil -lc -lgdbm_compat
    perllibs=-lpthread -lnsl -ldl -lm -lcrypt -lutil -lc
    libc=libc-2.24.so, so=so, useshrplib=false, libperl=libperl.a
    gnulibc_version='2.24'
  Dynamic Linking:
    dlsrc=dl_dlopen.xs, dlext=so, d_dlsymun=undef, ccdlflags='-Wl,-E'
    cccdlflags='-fPIC', lddlflags='-shared -O2 -L/usr/local/lib -fstack-protector-strong'


Characteristics of this binary (from libperl): 
  Compile-time options: HAS_TIMES PERLIO_LAYERS PERL_COPY_ON_WRITE
                        PERL_DONT_CREATE_GVSV
                        PERL_HASH_FUNC_ONE_AT_A_TIME_HARD PERL_MALLOC_WRAP
                        PERL_PRESERVE_IVUV USE_64_BIT_ALL USE_64_BIT_INT
                        USE_LARGE_FILES USE_LOCALE USE_LOCALE_COLLATE
                        USE_LOCALE_CTYPE USE_LOCALE_NUMERIC USE_LOCALE_TIME
                        USE_PERLIO USE_PERL_ATOF
  Built under linux
  Compiled at Jun 23 2017 20:31:37
  %ENV:
    PERL5LIB=""
    PERL5OPT=""
    PERL5_CPANPLUS_IS_RUNNING="19591"
    PERL5_CPAN_IS_RUNNING="19591"
    PERL5_CPAN_IS_RUNNING_IN_RECURSION="19496,19591"
    PERLDOC="-MPod::Perldoc::ToTextOverstrike"
    PERL_BATCH="yes"
    PERL_CANARY_STABILITY_NOPROMPT="1"
    PERL_CPAN_REPORTER_CONFIG="/var/tmp/cpansmoker-1023/2017121300/cpanreporter_000_config.ini"
    PERL_EXTUTILS_AUTOINSTALL="--defaultdeps"
    PERL_USE_UNSAFE_INC="1"
  @INC:
    /opt/perl-5.24.1/lib/site_perl/5.24.1/x86_64-linux
    /opt/perl-5.24.1/lib/site_perl/5.24.1
    /opt/perl-5.24.1/lib/5.24.1/x86_64-linux
    /opt/perl-5.24.1/lib/5.24.1
    .