Math-MPFR v4.38 Perl 5 v5.34.3 x86_64-linux-quadmath

Status
Pass
From
Andreas J. König (ANDK)
Dist
Math-MPFR v4.38
Platform
Perl 5 v5.34.3 x86_64-linux-quadmath
Date
2025-03-27 04:59:46
ID
4d9bc6cc-0ac8-11f0-b498-b6904b1899cb
This distribution has been tested as part of the CPAN Testers
project, supporting the Perl programming language.  See
http://wiki.cpantesters.org/ for more information or email
questions to cpan-testers-discuss@perl.org


--
Dear Sisyphus,

This is a computer-generated report for Math-MPFR-4.38
on perl 5.34.3, created by CPAN-Reporter-1.2020.

Thank you for uploading your work to CPAN.  Congratulations!
All tests were successful.

Sections of this report:

    * Tester comments
    * Program output
    * Prerequisites
    * Environment and other context

------------------------------
TESTER COMMENTS
------------------------------

Additional comments from tester:

this report is from an automated smoke testing program
and was not reviewed by a human for accuracy

------------------------------
PROGRAM OUTPUT
------------------------------

Output from '/usr/bin/make test':

"/home/sand/src/perl/repoperls/installed-perls/host/k93msid/v5.34.3/ec94/bin/perl" -MExtUtils::Command::MM -e 'cp_nonempty' -- MPFR.bs blib/arch/auto/Math/MPFR/MPFR.bs 644
make[1]: Entering directory '/tmp/loop_over_bdir-2639088-XEQdHM/Math-MPFR-4.38-0/Prec'
"/home/sand/src/perl/repoperls/installed-perls/host/k93msid/v5.34.3/ec94/bin/perl" -MExtUtils::Command::MM -e 'cp_nonempty' -- Prec.bs ../blib/arch/auto/Math/MPFR/Prec/Prec.bs 644
make[1]: Leaving directory '/tmp/loop_over_bdir-2639088-XEQdHM/Math-MPFR-4.38-0/Prec'
make[1]: Entering directory '/tmp/loop_over_bdir-2639088-XEQdHM/Math-MPFR-4.38-0/Random'
"/home/sand/src/perl/repoperls/installed-perls/host/k93msid/v5.34.3/ec94/bin/perl" -MExtUtils::Command::MM -e 'cp_nonempty' -- Random.bs ../blib/arch/auto/Math/MPFR/Random/Random.bs 644
make[1]: Leaving directory '/tmp/loop_over_bdir-2639088-XEQdHM/Math-MPFR-4.38-0/Random'
make[1]: Entering directory '/tmp/loop_over_bdir-2639088-XEQdHM/Math-MPFR-4.38-0/V'
"/home/sand/src/perl/repoperls/installed-perls/host/k93msid/v5.34.3/ec94/bin/perl" -MExtUtils::Command::MM -e 'cp_nonempty' -- V.bs ../blib/arch/auto/Math/MPFR/V/V.bs 644
make[1]: Leaving directory '/tmp/loop_over_bdir-2639088-XEQdHM/Math-MPFR-4.38-0/V'
make[1]: Entering directory '/tmp/loop_over_bdir-2639088-XEQdHM/Math-MPFR-4.38-0/Prec'
"/home/sand/src/perl/repoperls/installed-perls/host/k93msid/v5.34.3/ec94/bin/perl" -MExtUtils::Command::MM -e 'cp_nonempty' -- Prec.bs ../blib/arch/auto/Math/MPFR/Prec/Prec.bs 644
No tests defined for Math::MPFR::Prec extension.
make[1]: Leaving directory '/tmp/loop_over_bdir-2639088-XEQdHM/Math-MPFR-4.38-0/Prec'
make[1]: Entering directory '/tmp/loop_over_bdir-2639088-XEQdHM/Math-MPFR-4.38-0/Random'
"/home/sand/src/perl/repoperls/installed-perls/host/k93msid/v5.34.3/ec94/bin/perl" -MExtUtils::Command::MM -e 'cp_nonempty' -- Random.bs ../blib/arch/auto/Math/MPFR/Random/Random.bs 644
No tests defined for Math::MPFR::Random extension.
make[1]: Leaving directory '/tmp/loop_over_bdir-2639088-XEQdHM/Math-MPFR-4.38-0/Random'
make[1]: Entering directory '/tmp/loop_over_bdir-2639088-XEQdHM/Math-MPFR-4.38-0/V'
"/home/sand/src/perl/repoperls/installed-perls/host/k93msid/v5.34.3/ec94/bin/perl" -MExtUtils::Command::MM -e 'cp_nonempty' -- V.bs ../blib/arch/auto/Math/MPFR/V/V.bs 644
No tests defined for Math::MPFR::V extension.
make[1]: Leaving directory '/tmp/loop_over_bdir-2639088-XEQdHM/Math-MPFR-4.38-0/V'
PERL_DL_NONLAZY=1 "/home/sand/src/perl/repoperls/installed-perls/host/k93msid/v5.34.3/ec94/bin/perl" "-MExtUtils::Command::MM" "-MTest::Harness" "-e" "undef *Test::Harness::Switches; test_harness(0, 'blib/lib', 'blib/arch')" t/*.t

GMP Header version (major): 6
GMP Header version (minor): 3
GMP Header version (patchlevel): 0
GMP CC: x86_64-linux-gnu-gcc
GMP CFLAGS: -g -O2 -ffile-prefix-map=BUILDPATH=. -fstack-protector-strong -fstack-clash-protection -Wformat -Werror=format-security -fcf-protection -O3
MPFR Header version (major): 4
MPFR Header version (minor): 2
MPFR Header version (patchlevel): 1
t/_1aaa_v.t ...................... ok

# Using Math::MPFR version     4.38
# MPFR_VERSION is              262657
# Using mpfr library version   4.2.1
# Using gmp library version    6.3.0
# GMP_LIMB_BITS is             64
# GMP_NAIL_BITS is             0
# __GMP__CFLAGS is             -g -O2 -ffile-prefix-map=BUILDPATH=. -fstack-protector-strong -fstack-clash-protection -Wformat -Werror=format-security -fcf-protection -O3
# __GMP__CC is                 x86_64-linux-gnu-gcc
# sizeof mpfr_exp_t:           8 bytes
# sizeof mpfr_prec_t:          8 bytes
# has _WIN32_BIZARRE_INFNAN:   0
# has MPFR_PV_NV_BUG:          0
# has WIN32_FMT_BUG:           0
# has _Float16                 0
# Machine appears to be little-endian
# Byte Order: 12345678
# mpfr library built WITH thread safety
# mpfr library built WITH _Decimal64 support
# mpfr library built WITH _Decimal128 support
# mpfr library built WITH __float128 support
# mpfr library built WITHOUT gmp internals
# mpfr library built WITHOUT shared cache
# mpfr library thresholds file: src/x86_64/mparam.h
t/_1basic.t ...................... ok
t/_2exp.t ........................ ok
t/_Float16.t ..................... ok
t/_itsa.t ........................ ok
t/anomaly.t ...................... ok
t/anytoa.t ....................... ok
t/atonum.t ....................... ok
t/atonv.t ........................ ok
t/base_conversion.t .............. ok
t/bessel.t ....................... ok
t/buildopt.t ..................... ok

byteorder: 12345678
longdblkind: 3: x86 80-bit little endian
HAVE_IEEE_754_LONG_DOUBLE is 0
HAVE_EXTENDED_PRECISION_LONG_DOUBLE is 1
t/bytes.t ........................ ok
t/cmp_uj_sj.t .................... ok
MPFR_VERSION: 262657
MPFR_VERSION_STRING: 4.2.1
t/compound.t ..................... ok

FYI:
 DBL_DIG = 15

FYI:
 LDBL_DIG = 18

FYI:
 FLT128_DIG = 33
t/constants.t .................... ok
Skipping all tests - we need Math-GMPq-0.61 or later, but have only version 0.57 at t/cross_class_mpq.t line 29.
t/cross_class_mpq.t .............. ok

Skipping all tests
Couldn't load Math::Decimal64
t/D64_LD.t ....................... ok

 Skipping all tests: Couldn't load Math::Decimal128
: Can't locate Math/Decimal128.pm in @INC (you may need to install the Math::Decimal128 module) (@INC contains: /tmp/loop_over_bdir-2639088-XEQdHM/Math-MPFR-4.38-0/blib/lib /tmp/loop_over_bdir-2639088-XEQdHM/Math-MPFR-4.38-0/blib/arch /home/sand/src/perl/repoperls/installed-perls/host/k93msid/v5.34.3/ec94/lib/site_perl/5.34.3/x86_64-linux-quadmath /home/sand/src/perl/repoperls/installed-perls/host/k93msid/v5.34.3/ec94/lib/site_perl/5.34.3 /home/sand/src/perl/repoperls/installed-perls/host/k93msid/v5.34.3/ec94/lib/5.34.3/x86_64-linux-quadmath /home/sand/src/perl/repoperls/installed-perls/host/k93msid/v5.34.3/ec94/lib/5.34.3 .) at t/decimal128_conv.t line 15.

t/decimal128_conv.t .............. ok

 Skipping all tests: Couldn't load Math::Decimal64
: Can't locate Math/Decimal64.pm in @INC (you may need to install the Math::Decimal64 module) (@INC contains: /tmp/loop_over_bdir-2639088-XEQdHM/Math-MPFR-4.38-0/blib/lib /tmp/loop_over_bdir-2639088-XEQdHM/Math-MPFR-4.38-0/blib/arch /home/sand/src/perl/repoperls/installed-perls/host/k93msid/v5.34.3/ec94/lib/site_perl/5.34.3/x86_64-linux-quadmath /home/sand/src/perl/repoperls/installed-perls/host/k93msid/v5.34.3/ec94/lib/site_perl/5.34.3 /home/sand/src/perl/repoperls/installed-perls/host/k93msid/v5.34.3/ec94/lib/5.34.3/x86_64-linux-quadmath /home/sand/src/perl/repoperls/installed-perls/host/k93msid/v5.34.3/ec94/lib/5.34.3 .) at t/decimal64_conv.t line 15.

t/decimal64_conv.t ............... ok
t/decimalize.t ................... ok
t/div_by_zero.t .................. ok

Skipping all tests - not a Double-Double build
t/DoubleDouble.t ................. ok

not a Double-Double build.
LDBL_MANT_DIG is 64
t/DoubleDouble2.t ................ ok
t/doubletoa.t .................... ok
t/exceptions.t ................... ok
t/faithful_rounding.t ............ ok

Skipping tests 21 .. 41 - couldn't load Math::GMPZ:
$@: Can't locate Math/GMPz.pm in @INC (you may need to install the Math::GMPz module) (@INC contains: /tmp/loop_over_bdir-2639088-XEQdHM/Math-MPFR-4.38-0/blib/lib /tmp/loop_over_bdir-2639088-XEQdHM/Math-MPFR-4.38-0/blib/arch /home/sand/src/perl/repoperls/installed-perls/host/k93msid/v5.34.3/ec94/lib/site_perl/5.34.3/x86_64-linux-quadmath /home/sand/src/perl/repoperls/installed-perls/host/k93msid/v5.34.3/ec94/lib/site_perl/5.34.3 /home/sand/src/perl/repoperls/installed-perls/host/k93msid/v5.34.3/ec94/lib/5.34.3/x86_64-linux-quadmath /home/sand/src/perl/repoperls/installed-perls/host/k93msid/v5.34.3/ec94/lib/5.34.3 .) at t/flags.t line 255.

t/flags.t ........................ ok

 Skipping all tests: Couldn't load Math::Float128
: Can't locate Math/Float128.pm in @INC (you may need to install the Math::Float128 module) (@INC contains: /tmp/loop_over_bdir-2639088-XEQdHM/Math-MPFR-4.38-0/blib/lib /tmp/loop_over_bdir-2639088-XEQdHM/Math-MPFR-4.38-0/blib/arch /home/sand/src/perl/repoperls/installed-perls/host/k93msid/v5.34.3/ec94/lib/site_perl/5.34.3/x86_64-linux-quadmath /home/sand/src/perl/repoperls/installed-perls/host/k93msid/v5.34.3/ec94/lib/site_perl/5.34.3 /home/sand/src/perl/repoperls/installed-perls/host/k93msid/v5.34.3/ec94/lib/5.34.3/x86_64-linux-quadmath /home/sand/src/perl/repoperls/installed-perls/host/k93msid/v5.34.3/ec94/lib/5.34.3 .) at t/float128_conv.t line 219.

t/float128_conv.t ................ ok
t/float128_subnormal.t ........... ok
t/get_IV.t ....................... ok
t/get_NV.t ....................... ok
t/grandom.t ...................... ok
t/hex_fmt.t ...................... ok
t/infnan_str.t ................... ok
t/inits.t ........................ ok
t/integer_string.t ............... ok
t/lngamma_bug.t .................. ok

LDBLKIND: 3
t/LongDouble.t ................... ok
t/MPFR_RND.t ..................... ok
t/mpfrtoa.t ...................... ok
t/mpfrtoa_precisions.t ........... ok
t/nan_cmp.t ...................... ok

 Can pass __float128 using Rmpfr_get_float128 and Rmpfr_set_float128
t/native_float128.t .............. ok
t/neg_zero_bug.t ................. ok
Skipping test 5 - no Math::GMPf
Skipping test 7 - no Math::GMPz
t/new.t .......................... ok
t/new_in_4.0.0.t ................. ok
t/new_in_4.1.0.t ................. ok
t/new_pow_log_exp.t .............. ok
ISSUE_19550 not set
t/NOK_and_POK.t .................. ok
Skipping test 5 - no 'long long' support
t/not_zero.t ..................... ok
t/numtoa.t ....................... ok
t/NV_overloading.t ............... ok
t/nvtoa.t ........................ ok
Using perl for string to NV assignment. (Perl deemed reliable)
t/nvtoa2.t ....................... ok
t/nvtoa3.t ....................... ok
t/nvtoa_dd.t ..................... ok
t/nvtoa_subnormal.t .............. ok
t/out_str.t ...................... ok
t/overload.t ..................... ok
t/overload_cmp_q.t ............... ok

$@:Can't locate Math/GMPz.pm in @INC (you may need to install the Math::GMPz module) (@INC contains: /tmp/loop_over_bdir-2639088-XEQdHM/Math-MPFR-4.38-0/blib/lib /tmp/loop_over_bdir-2639088-XEQdHM/Math-MPFR-4.38-0/blib/arch /home/sand/src/perl/repoperls/installed-perls/host/k93msid/v5.34.3/ec94/lib/site_perl/5.34.3/x86_64-linux-quadmath /home/sand/src/perl/repoperls/installed-perls/host/k93msid/v5.34.3/ec94/lib/site_perl/5.34.3 /home/sand/src/perl/repoperls/installed-perls/host/k93msid/v5.34.3/ec94/lib/5.34.3/x86_64-linux-quadmath /home/sand/src/perl/repoperls/installed-perls/host/k93msid/v5.34.3/ec94/lib/5.34.3 .) at t/overload_cmp_z.t line 5.


 Skipping all tests - couldn't load Math::GMPz
t/overload_cmp_z.t ............... ok

  Version 0.35 (or later) of the following modules is needed for a more 
  complete implementation of cross_class overloading:
    Math::GMPz - currently not installed
    Math::GMPf - currently not installed


Skipping test 1 - no Math::GMPz

Skipping test 2 - no Math::GMPf
t/overload_cross_class.t ......... ok
t/overload_float128.t ............ ok
t/overload_math_gmp.t ............ ok
Skipping Math::GMPz tests - couldn't load Math::GMPz at t/overload_mod.t line 108.
Skipping Math::GMPzqtests - Math-GMPq-0.58 or later is require; have only 0.57 at t/overload_mod.t line 138.
t/overload_mod.t ................. ok
t/overload_shift.t ............... ok
t/overload_switch.t .............. ok
t/overloadex.t ................... ok
t/P_specifier.t .................. ok

Test::Pod version: 1.52

Pod::Simple version: 3.45
t/pod.t .......................... ok
t/printf.t ....................... ok

 MPFR_PV_NV_BUG set to 0
t/PV_NV_BUG.t .................... ok
t/q_arith.t ...................... ok
t/random2.t ...................... ok
t/random3.t ...................... ok
t/remainder.t .................... ok
t/Rmpfr_asinu.t .................. ok
t/Rmpfr_fmod_ui.t ................ ok

Skipping (canonicalization) tests 9 & 10 - Couldn't load Math::GMPz
t/Rmpfr_get_q.t .................. ok

$@: Can't locate Math/GMPz.pm in @INC (you may need to install the Math::GMPz module) (@INC contains: /tmp/loop_over_bdir-2639088-XEQdHM/Math-MPFR-4.38-0/blib/lib /tmp/loop_over_bdir-2639088-XEQdHM/Math-MPFR-4.38-0/blib/arch /home/sand/src/perl/repoperls/installed-perls/host/k93msid/v5.34.3/ec94/lib/site_perl/5.34.3/x86_64-linux-quadmath /home/sand/src/perl/repoperls/installed-perls/host/k93msid/v5.34.3/ec94/lib/site_perl/5.34.3 /home/sand/src/perl/repoperls/installed-perls/host/k93msid/v5.34.3/ec94/lib/5.34.3/x86_64-linux-quadmath /home/sand/src/perl/repoperls/installed-perls/host/k93msid/v5.34.3/ec94/lib/5.34.3 .) at t/Rmpfr_q_div_and_Rmpfr_z_div.t line 153.


Skipping mpz tests - couldn't load Math::GMPz
t/Rmpfr_q_div_and_Rmpfr_z_div.t .. ok
t/Rmpfr_rec_root.t ............... ok
t/Rmpfr_rootn_ui.t ............... ok
t/Rmpfr_sinu.t ................... ok

 # Minimum allowed exponent: -4611686018427387903
 # Current minimum exponent: -1073741823

 Skipping test 34 - Rmpfr_get_emin() != Rmpfr_get_emin_min()

 Skipping tests 60 & 61
 as Math::GMPz failed to load

 Skipping tests 71 & 72
 as Math::GMPz failed to load

 Skipping tests 86 & 87
 as Math::GMPz failed to load

 Skipping tests 109, 110 & 111
 as Math::GMPz failed to load

  Skipping test 130
 as Math::GMPz failed to load
t/rndna.t ........................ ok

 # Minimum allowed exponent: -4611686018427387903
 # Current minimum exponent: -1073741823

 Skipping tests 60 & 61
 as Math::GMPz failed to load

 Skipping tests 71 & 72
 as Math::GMPz failed to load

 Skipping tests 86 & 87
 as Math::GMPz failed to load

 Skipping tests 109, 110 & 111
 as Math::GMPz failed to load

  Skipping test 130
 as Math::GMPz failed to load
t/rndna2.t ....................... ok

Skipping all tests because nvsize != 8
t/ryu_checks.t ................... ok

Using *_set_ui,*_set_si _cmp_ui and cmp_si functions
t/set_IV.t ....................... ok

Using mpfr_set_float128 function
t/set_NV.t ....................... ok
t/set_str.t ...................... ok
t/sign.t ......................... ok
t/sizes.t ........................ ok
t/snprintf.t ..................... ok
t/sprintf.t ...................... ok

 Skipping tests: NV type ( __float128 ) is neither
  'double' nor double-double'
t/subnormal_doubles.t ............ ok

Calling all cache freeing functions
Skipping tests 4, 5 and 6 - not relevant to this build
t/sum.t .......................... ok
Skipping test 10 - no Math::GMPz
Skipping test 11 - no Math::GMPz
Skipping test 23 - no Math::GMPz
Skipping test 40 - no Math::GMPf
Skipping test 41 - no Math::GMPz
Skipping test 45 - no Math::GMPz
Skipping test 47 - no Math::GMPf
Skipping test 48 - no Math::GMPz
Skipping test 53: Rmpfr_random2 no longer implemented
Skipping test 62 - no Math::GMPz
Skipping test 73 - no Math::GMPz
Skipping test 75 - no Math::GMPf
Skipping test 83: No Math::GMPz
t/test1.t ........................ ok
t/test2.t ........................ ok
Skipping test 1 - no Math::GMPz
Skipping test 3 - no Math::GMPf
t/test3.t ........................ ok
t/test4.t ........................ ok
Skipping all tests: ithreads not available with this build of perl
t/tls.t .......................... ok
Skipping all tests: ithreads not available with this build of perl
t/tls_flags.t .................... ok
t/trig.t ......................... ok
t/trigamma.t ..................... ok
t/TRmpfr_out_str.t ............... ok
t/underflow.t .................... ok
long long int support is absent
Skipping test 4 - nothing to test
t/use64bitint.t .................. ok
t/uselongdouble.t ................ ok

 No tests here - just output (if any) from any configuration
 probing that was done during the 'perl Makefile.PL' step

checklib.exe: Found the mpfr and gmp libraries
try_dec64.exe: 42
try_dec128.exe: 128


try_flt128.exe: 42
t/view_config.t .................. ok
All tests successful.
Files=109, Tests=33843, 26 wallclock secs ( 2.75 usr  0.57 sys + 16.48 cusr  2.17 csys = 21.97 CPU)
Result: PASS

------------------------------
PREREQUISITES
------------------------------

Prerequisite modules loaded:

requires:

    Module              Need Have    
    ------------------- ---- --------
    Test::More          0.88 1.302207

build_requires:

    Module              Need Have    
    ------------------- ---- --------
    ExtUtils::MakeMaker 0    7.72    

configure_requires:

    Module              Need Have    
    ------------------- ---- --------
    ExtUtils::MakeMaker 0    7.72    


------------------------------
ENVIRONMENT AND OTHER CONTEXT
------------------------------

Environment variables:

    AUTOMATED_TESTING = 1
    LANG = en_US.UTF-8
    LANGUAGE = en_US:en
    PATH = /home/sand/bin:/usr/local/bin:/usr/bin:/bin:/usr/games:/usr/local/perl/bin:/usr/X11/bin:/sbin:/usr/sbin
    PERL5LIB = 
    PERL5OPT = 
    PERL5_CPANPLUS_IS_RUNNING = 3051013
    PERL5_CPAN_IS_RUNNING = 3051013
    PERL_CANARY_STABILITY_NOPROMPT = 1
    PERL_MM_USE_DEFAULT = 1
    PERL_USE_UNSAFE_INC = 1
    SHELL = /usr/bin/zsh
    TERM = screen

Perl special variables (and OS-specific diagnostics, for MSWin32):

    $^X = /home/sand/src/perl/repoperls/installed-perls/host/k93msid/v5.34.3/ec94/bin/perl
    $UID/$EUID = 1005 / 1005
    $GID = 1005 1005
    $EGID = 1005 1005

Perl module toolchain versions installed:

    Module              Have    
    ------------------- --------
    CPAN                2.36    
    CPAN::Meta          2.150010
    Cwd                 3.80    
    ExtUtils::CBuilder  0.280236
    ExtUtils::Command   7.72    
    ExtUtils::Install   2.20    
    ExtUtils::MakeMaker 7.72    
    ExtUtils::Manifest  1.73    
    ExtUtils::ParseXS   3.51    
    File::Spec          3.80    
    JSON                4.10    
    JSON::PP            4.16    
    Module::Build       0.4234  
    Module::Signature   0.88    
    Parse::CPAN::Meta   2.150010
    Test2               1.302207
    Test::Harness       3.49_01 
    Test::More          1.302207
    YAML                1.30    
    YAML::Syck          1.34    
    version             0.9933  


--

Summary of my perl5 (revision 5 version 34 subversion 3) configuration:
  Commit id: 81db88e83a981f603c5207a1fc4cc41da8dd5d79
  Platform:
    osname=linux
    osvers=6.5.0-4-amd64
    archname=x86_64-linux-quadmath
    uname='linux k93msid 6.5.0-4-amd64 #1 smp preempt_dynamic debian 6.5.10-1 (2023-11-03) x86_64 gnulinux '
    config_args='-Dprefix=/home/sand/src/perl/repoperls/installed-perls/host/k93msid/v5.34.3/ec94 -Dmyhostname=k93msid -Dinstallusrbinperl=n -Uversiononly -Dusedevel -des -Ui_db -Dlibswanted=cl pthread socket inet nsl gdbm dbm malloc dl ld sun m crypt sec util c cposix posix ucb BSD gdbm_compat -Uuseithreads -Uuselongdouble -DEBUGGING=both -Dusequadmath'
    hint=recommended
    useposix=true
    d_sigaction=define
    useithreads=undef
    usemultiplicity=undef
    use64bitint=define
    use64bitall=define
    uselongdouble=undef
    usemymalloc=n
    default_inc_excludes_dot=define
  Compiler:
    cc='cc'
    ccflags ='-fwrapv -DDEBUGGING -fno-strict-aliasing -pipe -fstack-protector-strong -I/usr/local/include -D_LARGEFILE_SOURCE -D_FILE_OFFSET_BITS=64 -D_FORTIFY_SOURCE=2'
    optimize='-O2 -g'
    cppflags='-fwrapv -DDEBUGGING -fno-strict-aliasing -pipe -fstack-protector-strong -I/usr/local/include'
    ccversion=''
    gccversion='13.2.0'
    gccosandvers=''
    intsize=4
    longsize=8
    ptrsize=8
    doublesize=8
    byteorder=12345678
    doublekind=3
    d_longlong=define
    longlongsize=8
    d_longdbl=define
    longdblsize=16
    longdblkind=3
    ivtype='long'
    ivsize=8
    nvtype='__float128'
    nvsize=16
    Off_t='off_t'
    lseeksize=8
    alignbytes=16
    prototype=define
  Linker and Libraries:
    ld='cc'
    ldflags =' -fstack-protector-strong -L/usr/local/lib'
    libpth=/usr/local/lib /usr/lib/x86_64-linux-gnu /usr/lib /usr/lib64
    libs=-lpthread -lnsl -ldl -lm -lcrypt -lutil -lc -lquadmath
    perllibs=-lpthread -lnsl -ldl -lm -lcrypt -lutil -lc -lquadmath
    libc=/lib/x86_64-linux-gnu/libc.so.6
    so=so
    useshrplib=false
    libperl=libperl.a
    gnulibc_version='2.37'
  Dynamic Linking:
    dlsrc=dl_dlopen.xs
    dlext=so
    d_dlsymun=undef
    ccdlflags='-Wl,-E'
    cccdlflags='-fPIC'
    lddlflags='-shared -O2 -g -L/usr/local/lib -fstack-protector-strong'


Characteristics of this binary (from libperl): 
  Compile-time options:
    DEBUGGING
    HAS_TIMES
    PERLIO_LAYERS
    PERL_COPY_ON_WRITE
    PERL_DONT_CREATE_GVSV
    PERL_MALLOC_WRAP
    PERL_OP_PARENT
    PERL_PRESERVE_IVUV
    PERL_USE_DEVEL
    USE_64_BIT_ALL
    USE_64_BIT_INT
    USE_LARGE_FILES
    USE_LOCALE
    USE_LOCALE_COLLATE
    USE_LOCALE_CTYPE
    USE_LOCALE_NUMERIC
    USE_LOCALE_TIME
    USE_PERLIO
    USE_PERL_ATOF
    USE_QUADMATH
  Built under linux
  Compiled at Nov 30 2023 15:22:34
  %ENV:
    PERL5LIB=""
    PERL5OPT=""
    PERL5_CPANPLUS_IS_RUNNING="3051013"
    PERL5_CPAN_IS_RUNNING="3051013"
    PERL_CANARY_STABILITY_NOPROMPT="1"
    PERL_MM_USE_DEFAULT="1"
    PERL_USE_UNSAFE_INC="1"
  @INC:
    /home/sand/src/perl/repoperls/installed-perls/host/k93msid/v5.34.3/ec94/lib/site_perl/5.34.3/x86_64-linux-quadmath
    /home/sand/src/perl/repoperls/installed-perls/host/k93msid/v5.34.3/ec94/lib/site_perl/5.34.3
    /home/sand/src/perl/repoperls/installed-perls/host/k93msid/v5.34.3/ec94/lib/5.34.3/x86_64-linux-quadmath
    /home/sand/src/perl/repoperls/installed-perls/host/k93msid/v5.34.3/ec94/lib/5.34.3
    .