Report for Catalyst-Authentication-Credential-Twitter-1.0.0

Back
From: metabase:user:31d414ea-2aae-11df-837a-5e0a49663a4f
Subject: PASS Catalyst-Authentication-Credential-Twitter-1.0.0 v5.12.4 GNU/Linux
Date: 2013-03-12T15:41:27Z

This distribution has been tested as part of the CPAN Testers
project, supporting the Perl programming language.  See
http://wiki.cpantesters.org/ for more information or email
questions to cpan-testers-discuss@perl.org


--
Dear Yanick Champoux,

This is a computer-generated report for Catalyst-Authentication-Credential-Twitter-1.0.0
on perl 5.12.4, created by CPAN-Reporter-1.2002.

Thank you for uploading your work to CPAN.  Congratulations!
All tests were successful.

Sections of this report:

    * Tester comments
    * Program output
    * Prerequisites
    * Environment and other context

------------------------------
TESTER COMMENTS
------------------------------

Additional comments from tester:

this report is from an automated smoke testing program
and was not reviewed by a human for accuracy

------------------------------
PROGRAM OUTPUT
------------------------------

Output from './Build test':

t/00-compile.t ................ ok
# 
# 
# Generated by Dist::Zilla::Plugin::ReportVersions::Tiny v1.08
# perl: 5.012004 (wanted any version) on linux from /home/david/cpantesting/perl-5.12.4/bin/perl
# 
# Catalyst                                      => 5.90020    (want any version)
# Catalyst::Controller                          => <undef>    (want any version)
# Catalyst::Exception                           => <undef>    (want any version)
# Catalyst::Plugin::Session::PerUser            => 0.05       (want any version)
# Class::Accessor::Fast                         => 0.34       (want any version)
# Data::Dumper                                  => 2.125      (want any version)
# File::Find                                    => 1.15       (want any version)
# File::Temp                                    => 0.22       (want any version)
# Module::Build                                 => 0.4003     (want 0.3601) 
# Net::Twitter                                  => 4.00004    (want any version)
# Test::More                                    => 0.98       (want 0.88)   
# base                                          => 2.15       (want any version)
# parent                                        => 0.223      (want any version)
# strict                                        => 1.04       (want any version)
# version                                       => 0.88       (want 0.9901) 
# warnings                                      => 1.09       (want any version)
# 
# Thanks for using my code.  I hope it works for you.
# If not, please try and include this output in the bug report.
# That will help me reproduce the issue and solve your problem.
# 
t/000-report-versions-tiny.t .. ok
t/02pod.t ..................... skipped: Test::Pod 1.14 required
t/basic_app.t ................. skipped: test requires Test::WWW::Mechanize::Catalyst
t/no_per_user.t ............... skipped: test requires Test::WWW::Mechanize::Catalyst
All tests successful.
Files=5, Tests=2,  1 wallclock secs ( 0.02 usr  0.02 sys +  0.99 cusr  0.13 csys =  1.16 CPU)
Result: PASS

------------------------------
PREREQUISITES
------------------------------

Prerequisite modules loaded:

requires:

    Module                             Need   Have   
    ---------------------------------- ------ -------
    base                               0      2.15   
    Catalyst::Exception                0      0      
    Catalyst::Plugin::Session::PerUser 0      0.05   
    Class::Accessor::Fast              0      0.34   
    Data::Dumper                       0      2.125  
    Net::Twitter                       0      4.00004
    strict                             0      1.04   
    warnings                           0      1.09   

build_requires:

    Module                             Need   Have   
    ---------------------------------- ------ -------
    Catalyst                           0      5.90020
  ! Catalyst::Controller               0      broken 
    File::Find                         0      1.15   
    File::Temp                         0      0.22   
    Module::Build                      0.3601 0.4003 
    parent                             0      0.223  
    Test::More                         0.88   0.98   

configure_requires:

    Module                             Need   Have   
    ---------------------------------- ------ -------
    Module::Build                      0.3601 0.4003 


------------------------------
ENVIRONMENT AND OTHER CONTEXT
------------------------------

Environment variables:

    AUTOMATED_TESTING = 1
    PATH = /usr/local/bin:/usr/bin:/bin:/usr/games
    PERL = 5.12.4
    PERL5LIB = 
    PERL5OPT = 
    PERL5_CPANPLUS_IS_RUNNING = 2764
    PERL5_CPAN_IS_RUNNING = 2764
    PERLVER = 5.12.4
    PERL_INLINE_DIRECTORY = /home/david/.Inline-5.12.4
    PERL_MM_USE_DEFAULT = 1
    SHELL = /bin/bash
    TERM = screen

Perl special variables (and OS-specific diagnostics, for MSWin32):

    $^X = /home/david/cpantesting/perl-5.12.4/bin/perl
    $UID/$EUID = 1000 / 1000
    $GID = 1000 1000
    $EGID = 1000 1000

Perl module toolchain versions installed:

    Module              Have    
    ------------------- --------
    CPAN                1.94_56 
    CPAN::Meta          2.120921
    Cwd                 3.40    
    ExtUtils::CBuilder  0.27    
    ExtUtils::Command   1.16    
    ExtUtils::Install   1.55    
    ExtUtils::MakeMaker 6.64    
    ExtUtils::Manifest  1.60    
    ExtUtils::ParseXS   2.21    
    File::Spec          3.40    
    JSON                2.53    
    JSON::PP            2.27200 
    Module::Build       0.4003  
    Module::Signature   n/a     
    Parse::CPAN::Meta   1.4404  
    Test::Harness       3.26    
    Test::More          0.98    
    YAML                0.84    
    YAML::Syck          n/a     
    version             0.88    


--

Summary of my perl5 (revision 5 version 12 subversion 4) configuration:
   
  Platform:
    osname=linux, osvers=2.6.18-4-xen-amd64, archname=x86_64-linux-thread-multi
    uname='linux pigsty.barnyard.co.uk 2.6.18-4-xen-amd64 #1 smp fri may 4 02:40:51 utc 2007 x86_64 gnulinux '
    config_args='-de -Dprefix=/home/david/cpantesting/perl-5.12.4 -Dusethreads -Duse64bitall'
    hint=recommended, useposix=true, d_sigaction=define
    useithreads=define, usemultiplicity=define
    useperlio=define, d_sfio=undef, uselargefiles=define, usesocks=undef
    use64bitint=define, use64bitall=define, uselongdouble=undef
    usemymalloc=n, bincompat5005=undef
  Compiler:
    cc='cc', ccflags ='-D_REENTRANT -D_GNU_SOURCE -fno-strict-aliasing -pipe -fstack-protector -I/usr/local/include -D_LARGEFILE_SOURCE -D_FILE_OFFSET_BITS=64',
    optimize='-O2',
    cppflags='-D_REENTRANT -D_GNU_SOURCE -fno-strict-aliasing -pipe -fstack-protector -I/usr/local/include'
    ccversion='', gccversion='4.1.2 20061115 (prerelease) (Debian 4.1.1-21)', gccosandvers=''
    intsize=4, longsize=8, ptrsize=8, doublesize=8, byteorder=12345678
    d_longlong=define, longlongsize=8, d_longdbl=define, longdblsize=16
    ivtype='long', ivsize=8, nvtype='double', nvsize=8, Off_t='off_t', lseeksize=8
    alignbytes=8, prototype=define
  Linker and Libraries:
    ld='cc', ldflags =' -fstack-protector -L/usr/local/lib'
    libpth=/usr/local/lib /lib /usr/lib /lib64 /usr/lib64
    libs=-lnsl -lgdbm -ldb -ldl -lm -lcrypt -lutil -lpthread -lc -lgdbm_compat
    perllibs=-lnsl -ldl -lm -lcrypt -lutil -lpthread -lc
    libc=/lib/libc-2.3.6.so, so=so, useshrplib=false, libperl=libperl.a
    gnulibc_version='2.3.6'
  Dynamic Linking:
    dlsrc=dl_dlopen.xs, dlext=so, d_dlsymun=undef, ccdlflags='-Wl,-E'
    cccdlflags='-fPIC', lddlflags='-shared -O2 -L/usr/local/lib -fstack-protector'


Characteristics of this binary (from libperl): 
  Compile-time options: MULTIPLICITY PERL_DONT_CREATE_GVSV
                        PERL_IMPLICIT_CONTEXT PERL_MALLOC_WRAP USE_64_BIT_ALL
                        USE_64_BIT_INT USE_ITHREADS USE_LARGE_FILES
                        USE_PERLIO USE_PERL_ATOF USE_REENTRANT_API
  Built under linux
  Compiled at Aug 17 2011 15:24:51
  %ENV:
    PERL="5.12.4"
    PERL5LIB=""
    PERL5OPT=""
    PERL5_CPANPLUS_IS_RUNNING="2764"
    PERL5_CPAN_IS_RUNNING="2764"
    PERLVER="5.12.4"
    PERL_INLINE_DIRECTORY="/home/david/.Inline-5.12.4"
    PERL_MM_USE_DEFAULT="1"
  @INC:
    /home/david/cpantesting/perl-5.12.4/lib/site_perl/5.12.4/x86_64-linux-thread-multi
    /home/david/cpantesting/perl-5.12.4/lib/site_perl/5.12.4
    /home/david/cpantesting/perl-5.12.4/lib/5.12.4/x86_64-linux-thread-multi
    /home/david/cpantesting/perl-5.12.4/lib/5.12.4
    .