Test-HexDifferences v1.001 Perl 5 v5.24.0 darwin-2level
- Status
- Pass
- From
- Gregor Goldbach
- Dist
-
Test-HexDifferences v1.001
- Platform
- Perl 5 v5.24.0 darwin-2level
- Date
- 2018-06-07 09:43:59
- ID
- 4d810dca-6a37-11e8-8aaa-b51c64c7d149
This distribution has been tested as part of the CPAN Testers
project, supporting the Perl programming language. See
http://wiki.cpantesters.org/ for more information or email
questions to cpan-testers-discuss@perl.org
--
Dear Steffen Winkler,
This is a computer-generated report for Test-HexDifferences-1.001
on perl 5.24.0, created by CPAN-Reporter-1.2018.
Thank you for uploading your work to CPAN. Congratulations!
All tests were successful.
Sections of this report:
* Tester comments
* Program output
* Prerequisites
* Environment and other context
------------------------------
TESTER COMMENTS
------------------------------
Additional comments from tester:
this report is from an automated smoke testing program
and was not reviewed by a human for accuracy
------------------------------
PROGRAM OUTPUT
------------------------------
Output from '/usr/bin/make test':
PERL_DL_NONLAZY=1 "/Users/glauschwuffel/perl5/perlbrew/perls/perl-5.24.0/bin/perl" "-MExtUtils::Command::MM" "-MTest::Harness" "-e" "undef *Test::Harness::Switches; test_harness(0, 'blib/lib', 'blib/arch')" t/*.t
t/01_format_iterator.t ......... ok
t/02_hex_dump.t ................ ok
t/03_all_formats.t ............. ok
t/11_eq_or_dump_diff.t ......... ok
t/12_dumped_eq_dump_or_diff.t .. ok
t/21_test_examples.t ........... skipped: Set $ENV{AUTHOR_TESTING} to run this test.
t/chars.t ...................... skipped: Author test. Set $ENV{AUTHOR_TESTING} to a true value to run.
t/perl_critic.t ................ skipped: Author test. Set $ENV{AUTHOR_TESTING} to a true value to run.
t/pod.t ........................ ok
t/pod_coverage.t ............... ok
t/prereq_build.t ............... skipped: Author test. Set $ENV{RELEASE_TESTING} to a true value to run.
All tests successful.
Files=11, Tests=77, 2 wallclock secs ( 0.04 usr 0.02 sys + 1.01 cusr 0.20 csys = 1.27 CPU)
Result: PASS
------------------------------
PREREQUISITES
------------------------------
Prerequisite modules loaded:
requires:
Module Need Have
--------------------- ---- --------
Hash::Util 0 0.19
Sub::Exporter 0 0.987
Test::Builder::Module 0.99 1.302085
Test::Differences 0.60 0.64
Test::More 0 1.302085
Test::NoWarnings 0 1.04
Test::Tester 0 1.302085
Text::Diff 0 1.44
version 0 0.9916
build_requires:
Module Need Have
--------------------- ---- --------
ExtUtils::MakeMaker 0 7.24
configure_requires:
Module Need Have
--------------------- ---- --------
ExtUtils::MakeMaker 0 7.24
------------------------------
ENVIRONMENT AND OTHER CONTEXT
------------------------------
Environment variables:
AUTOMATED_TESTING = 1
LANG = de_DE.UTF-8
MANPATH_WITHOUT_PERLBREW = /usr/local/share/man/de:/usr/local/share/man:/usr/share/man:/Library/TeX/texbin/man:/Applications/Xcode.app/Contents/Developer/usr/share/man:/Applications/Xcode.app/Contents/Developer/Toolchains/XcodeDefault.xctoolchain/usr/share/man
PATH = /Users/glauschwuffel/.rvm/gems/ruby-head/bin:/Users/glauschwuffel/.rvm/gems/ruby-head@global/bin:/Users/glauschwuffel/.rvm/rubies/ruby-head/bin:/Users/glauschwuffel/.rakudobrew/bin:/Users/glauschwuffel/perl5/perlbrew/bin:/Users/glauschwuffel/perl5/perlbrew/perls/perl-5.24.0/bin:/usr/local/bin:/usr/bin:/bin:/usr/sbin:/sbin:/Library/TeX/texbin:/Users/glauschwuffel/.rvm/bin:/Users/glauschwuffel/.rvm/bin
PATH_WITHOUT_PERLBREW = /usr/local/bin:/usr/bin:/bin:/usr/sbin:/sbin:/Library/TeX/texbin
PERL5LIB = /Users/glauschwuffel/.cpan/build/MooseX-Params-Validate-0.21-d6f2Uo/blib/arch:/Users/glauschwuffel/.cpan/build/MooseX-Params-Validate-0.21-d6f2Uo/blib/lib:/Users/glauschwuffel/.cpan/build/MooseX-StrictConstructor-0.21-fwBFJu/blib/arch:/Users/glauschwuffel/.cpan/build/MooseX-StrictConstructor-0.21-fwBFJu/blib/lib:/Users/glauschwuffel/.cpan/build/Math-Int128-0.22-K0A1km/blib/arch:/Users/glauschwuffel/.cpan/build/Math-Int128-0.22-K0A1km/blib/lib:/Users/glauschwuffel/.cpan/build/Math-Int64-0.54-0xqQqH/blib/arch:/Users/glauschwuffel/.cpan/build/Math-Int64-0.54-0xqQqH/blib/lib:/Users/glauschwuffel/.cpan/build/Test-Number-Delta-1.06-pjg2Zq/blib/arch:/Users/glauschwuffel/.cpan/build/Test-Number-Delta-1.06-pjg2Zq/blib/lib:/Users/glauschwuffel/.cpan/build/List-AllUtils-0.14-PrsKF2/blib/arch:/Users/glauschwuffel/.cpan/build/List-AllUtils-0.14-PrsKF2/blib/lib:/Users/glauschwuffel/.cpan/build/MooX-StrictConstructor-0.010-qeiwdb/blib/arch:/Users/glauschwuffel/.cpan/build/MooX-StrictConstructor-0.010-qeiwdb/blib/lib
PERL5OPT =
PERL5_CPANPLUS_IS_RUNNING = 64796
PERL5_CPAN_IS_RUNNING = 64796
PERL5_CPAN_IS_RUNNING_IN_RECURSION = 6067,64796
PERLBREW_BASHRC_VERSION = 0.46
PERLBREW_HOME = /Users/glauschwuffel/.perlbrew
PERLBREW_MANPATH = /Users/glauschwuffel/perl5/perlbrew/perls/perl-5.24.0/man
PERLBREW_PATH = /Users/glauschwuffel/perl5/perlbrew/bin:/Users/glauschwuffel/perl5/perlbrew/perls/perl-5.24.0/bin
PERLBREW_PERL = perl-5.24.0
PERLBREW_ROOT = /Users/glauschwuffel/perl5/perlbrew
PERLBREW_VERSION = 0.46
PERL_CR_SMOKER_CURRENT = MaxMind-DB-Writer-0.300002
PERL_EXTUTILS_AUTOINSTALL = --defaultdeps
PERL_MM_USE_DEFAULT = 1
SHELL = /bin/bash
TERM = xterm-256color
TMPDIR = /var/folders/vt/gpl7slvn6016nqcbkrdb0pj40000gp/T/
Perl special variables (and OS-specific diagnostics, for MSWin32):
$^X = /Users/glauschwuffel/perl5/perlbrew/perls/perl-5.24.0/bin/perl
$UID/$EUID = 502 / 502
$GID = 20 20 12 61 79 80 81 98 701 33 100 204 395 398 399
$EGID = 20 20 12 61 79 80 81 98 701 33 100 204 395 398 399
Perl module toolchain versions installed:
Module Have
------------------- --------
CPAN 2.11
CPAN::Meta 2.150005
Cwd 3.63
ExtUtils::CBuilder 0.280225
ExtUtils::Command 7.24
ExtUtils::Install 2.04
ExtUtils::MakeMaker 7.24
ExtUtils::Manifest 1.70
ExtUtils::ParseXS 3.31
File::Spec 3.63
JSON 2.97000
JSON::PP 2.27300
Module::Build 0.4218
Module::Signature n/a
Parse::CPAN::Meta 1.4417
Test::Harness 3.36
Test::More 1.302085
YAML 1.18
YAML::Syck 1.29
version 0.9916
--
Summary of my perl5 (revision 5 version 24 subversion 0) configuration:
Platform:
osname=darwin, osvers=15.5.0, archname=darwin-2level
uname='darwin gregorgoldbachmbp.local 15.5.0 darwin kernel version 15.5.0: tue apr 19 18:36:36 pdt 2016; root:xnu-3248.50.21~8release_x86_64 x86_64 '
config_args='-de -Dprefix=/Users/glauschwuffel/perl5/perlbrew/perls/perl-5.24.0 -Aeval:scriptdir=/Users/glauschwuffel/perl5/perlbrew/perls/perl-5.24.0/bin'
hint=recommended, useposix=true, d_sigaction=define
useithreads=undef, usemultiplicity=undef
use64bitint=define, use64bitall=define, uselongdouble=undef
usemymalloc=n, bincompat5005=undef
Compiler:
cc='cc', ccflags ='-fno-common -DPERL_DARWIN -fno-strict-aliasing -pipe -fstack-protector-strong -I/usr/local/include',
optimize='-O3',
cppflags='-fno-common -DPERL_DARWIN -fno-strict-aliasing -pipe -fstack-protector-strong -I/usr/local/include'
ccversion='', gccversion='4.2.1 Compatible Apple LLVM 7.0.2 (clang-700.1.81)', gccosandvers=''
intsize=4, longsize=8, ptrsize=8, doublesize=8, byteorder=12345678, doublekind=3
d_longlong=define, longlongsize=8, d_longdbl=define, longdblsize=16, longdblkind=3
ivtype='long', ivsize=8, nvtype='double', nvsize=8, Off_t='off_t', lseeksize=8
alignbytes=8, prototype=define
Linker and Libraries:
ld='env MACOSX_DEPLOYMENT_TARGET=10.3 cc', ldflags =' -fstack-protector-strong -L/usr/local/lib'
libpth=/Applications/Xcode.app/Contents/Developer/Toolchains/XcodeDefault.xctoolchain/usr/bin/../lib/clang/7.0.2/lib /Applications/Xcode.app/Contents/Developer/Toolchains/XcodeDefault.xctoolchain/usr/lib /Applications/Xcode.app/Contents/Developer/Platforms/MacOSX.platform/Developer/SDKs/MacOSX10.11.sdk/usr/lib /usr/local/lib /usr/lib
libs=-lpthread -ldbm -ldl -lm -lutil -lc
perllibs=-lpthread -ldl -lm -lutil -lc
libc=, so=dylib, useshrplib=false, libperl=libperl.a
gnulibc_version=''
Dynamic Linking:
dlsrc=dl_dlopen.xs, dlext=bundle, d_dlsymun=undef, ccdlflags=' '
cccdlflags=' ', lddlflags=' -bundle -undefined dynamic_lookup -L/usr/local/lib -fstack-protector-strong'
Characteristics of this binary (from libperl):
Compile-time options: HAS_TIMES PERLIO_LAYERS PERL_COPY_ON_WRITE
PERL_DONT_CREATE_GVSV
PERL_HASH_FUNC_ONE_AT_A_TIME_HARD PERL_MALLOC_WRAP
PERL_PRESERVE_IVUV USE_64_BIT_ALL USE_64_BIT_INT
USE_LARGE_FILES USE_LOCALE USE_LOCALE_COLLATE
USE_LOCALE_CTYPE USE_LOCALE_NUMERIC USE_LOCALE_TIME
USE_PERLIO USE_PERL_ATOF
Built under darwin
Compiled at Jun 11 2016 12:31:20
%ENV:
PERL5LIB="/Users/glauschwuffel/.cpan/build/MooseX-Params-Validate-0.21-d6f2Uo/blib/arch:/Users/glauschwuffel/.cpan/build/MooseX-Params-Validate-0.21-d6f2Uo/blib/lib:/Users/glauschwuffel/.cpan/build/MooseX-StrictConstructor-0.21-fwBFJu/blib/arch:/Users/glauschwuffel/.cpan/build/MooseX-StrictConstructor-0.21-fwBFJu/blib/lib:/Users/glauschwuffel/.cpan/build/Math-Int128-0.22-K0A1km/blib/arch:/Users/glauschwuffel/.cpan/build/Math-Int128-0.22-K0A1km/blib/lib:/Users/glauschwuffel/.cpan/build/Math-Int64-0.54-0xqQqH/blib/arch:/Users/glauschwuffel/.cpan/build/Math-Int64-0.54-0xqQqH/blib/lib:/Users/glauschwuffel/.cpan/build/Test-Number-Delta-1.06-pjg2Zq/blib/arch:/Users/glauschwuffel/.cpan/build/Test-Number-Delta-1.06-pjg2Zq/blib/lib:/Users/glauschwuffel/.cpan/build/List-AllUtils-0.14-PrsKF2/blib/arch:/Users/glauschwuffel/.cpan/build/List-AllUtils-0.14-PrsKF2/blib/lib:/Users/glauschwuffel/.cpan/build/MooX-StrictConstructor-0.010-qeiwdb/blib/arch:/Users/glauschwuffel/.cpan/build/MooX-StrictConstructor-0.010-qeiwdb/blib/lib"
PERL5OPT=""
PERL5_CPANPLUS_IS_RUNNING="64796"
PERL5_CPAN_IS_RUNNING="64796"
PERL5_CPAN_IS_RUNNING_IN_RECURSION="6067,64796"
PERLBREW_BASHRC_VERSION="0.46"
PERLBREW_HOME="/Users/glauschwuffel/.perlbrew"
PERLBREW_MANPATH="/Users/glauschwuffel/perl5/perlbrew/perls/perl-5.24.0/man"
PERLBREW_PATH="/Users/glauschwuffel/perl5/perlbrew/bin:/Users/glauschwuffel/perl5/perlbrew/perls/perl-5.24.0/bin"
PERLBREW_PERL="perl-5.24.0"
PERLBREW_ROOT="/Users/glauschwuffel/perl5/perlbrew"
PERLBREW_VERSION="0.46"
PERL_CR_SMOKER_CURRENT="MaxMind-DB-Writer-0.300002"
PERL_EXTUTILS_AUTOINSTALL="--defaultdeps"
PERL_MM_USE_DEFAULT="1"
@INC:
/Users/glauschwuffel/.cpan/build/MooseX-Params-Validate-0.21-d6f2Uo/blib/arch
/Users/glauschwuffel/.cpan/build/MooseX-Params-Validate-0.21-d6f2Uo/blib/lib
/Users/glauschwuffel/.cpan/build/MooseX-StrictConstructor-0.21-fwBFJu/blib/arch
/Users/glauschwuffel/.cpan/build/MooseX-StrictConstructor-0.21-fwBFJu/blib/lib
/Users/glauschwuffel/.cpan/build/Math-Int128-0.22-K0A1km/blib/arch
/Users/glauschwuffel/.cpan/build/Math-Int128-0.22-K0A1km/blib/lib
/Users/glauschwuffel/.cpan/build/Math-Int64-0.54-0xqQqH/blib/arch
/Users/glauschwuffel/.cpan/build/Math-Int64-0.54-0xqQqH/blib/lib
/Users/glauschwuffel/.cpan/build/Test-Number-Delta-1.06-pjg2Zq/blib/arch
/Users/glauschwuffel/.cpan/build/Test-Number-Delta-1.06-pjg2Zq/blib/lib
/Users/glauschwuffel/.cpan/build/List-AllUtils-0.14-PrsKF2/blib/arch
/Users/glauschwuffel/.cpan/build/List-AllUtils-0.14-PrsKF2/blib/lib
/Users/glauschwuffel/.cpan/build/MooX-StrictConstructor-0.010-qeiwdb/blib/arch
/Users/glauschwuffel/.cpan/build/MooX-StrictConstructor-0.010-qeiwdb/blib/lib
/Users/glauschwuffel/perl5/perlbrew/perls/perl-5.24.0/lib/site_perl/5.24.0/darwin-2level
/Users/glauschwuffel/perl5/perlbrew/perls/perl-5.24.0/lib/site_perl/5.24.0
/Users/glauschwuffel/perl5/perlbrew/perls/perl-5.24.0/lib/5.24.0/darwin-2level
/Users/glauschwuffel/perl5/perlbrew/perls/perl-5.24.0/lib/5.24.0
.