Report for IO-Iron-0.11

Back
From: metabase:user:314402c4-2aae-11df-837a-5e0a49663a4f
Subject: PASS IO-Iron-0.11 v5.21.7 GNU/Linux
Date: 2014-12-22T20:15:41Z

This distribution has been tested as part of the CPAN Testers
project, supporting the Perl programming language.  See
http://wiki.cpantesters.org/ for more information or email
questions to cpan-testers-discuss@perl.org


--
Dear Mikko Koivunalho,

This is a computer-generated report for IO-Iron-0.11
on perl 5.21.7, created by CPAN-Reporter-1.2011.

Thank you for uploading your work to CPAN.  Congratulations!
All tests were successful.

Sections of this report:

    * Tester comments
    * Program output
    * Prerequisites
    * Environment and other context

------------------------------
TESTER COMMENTS
------------------------------

Additional comments from tester:

none provided

------------------------------
PROGRAM OUTPUT
------------------------------

Output from '/usr/bin/make test':

PERL_DL_NONLAZY=1 "/opt/perl-5.21.7/bin/perl5.21.7" "-MExtUtils::Command::MM" "-MTest::Harness" "-e" "undef *Test::Harness::Switches; test_harness(0, 'blib/lib', 'blib/arch')" t/Iron/*.t t/IronCache/*.t t/IronMQ/*.t t/IronWorker/*.t
# Testing IO::Iron::IronMQ 0.11, Perl 5.021007, /opt/perl-5.21.7/bin/perl5.21.7
# test ReadIronMQConfig
# Current dir config filename: ./iron.json
# Extra config filename: t/.IronMQTestConfig.json
t/Iron/client_readconfig.t ... ok
# Testing IO::Iron 0.11, Perl 5.021007, /opt/perl-5.21.7/bin/perl5.21.7
t/Iron/load.t ................ ok
# Testing IO::Iron::IronCache::Client with policies, Perl 5.021007, /opt/perl-5.21.7/bin/perl5.21.7
Redundant argument in sprintf at /opt/perl-5.21.7/lib/site_perl/5.21.7/Log/Any/Adapter/Core.pm line 34.
t/IronCache/cache_policy.t ... ok
# Testing IO::Iron::IronCache::Client with policies, Perl 5.021007, /opt/perl-5.21.7/bin/perl5.21.7
Redundant argument in sprintf at /opt/perl-5.21.7/lib/site_perl/5.21.7/Log/Any/Adapter/Core.pm line 34.
Redundant argument in sprintf at /opt/perl-5.21.7/lib/site_perl/5.21.7/Log/Any/Adapter/Core.pm line 34.
Redundant argument in sprintf at /opt/perl-5.21.7/lib/site_perl/5.21.7/Log/Any/Adapter/Core.pm line 34.
Redundant argument in sprintf at /opt/perl-5.21.7/lib/site_perl/5.21.7/Log/Any/Adapter/Core.pm line 34.
Redundant argument in sprintf at /opt/perl-5.21.7/lib/site_perl/5.21.7/Log/Any/Adapter/Core.pm line 34.
Redundant argument in sprintf at /opt/perl-5.21.7/lib/site_perl/5.21.7/Log/Any/Adapter/Core.pm line 34.
Redundant argument in sprintf at /opt/perl-5.21.7/lib/site_perl/5.21.7/Log/Any/Adapter/Core.pm line 34.
Redundant argument in sprintf at /opt/perl-5.21.7/lib/site_perl/5.21.7/Log/Any/Adapter/Core.pm line 34.
Redundant argument in sprintf at /opt/perl-5.21.7/lib/site_perl/5.21.7/Log/Any/Adapter/Core.pm line 34.
Redundant argument in sprintf at /opt/perl-5.21.7/lib/site_perl/5.21.7/Log/Any/Adapter/Core.pm line 34.
Redundant argument in sprintf at /opt/perl-5.21.7/lib/site_perl/5.21.7/Log/Any/Adapter/Core.pm line 34.
Redundant argument in sprintf at /opt/perl-5.21.7/lib/site_perl/5.21.7/Log/Any/Adapter/Core.pm line 34.
Redundant argument in sprintf at /opt/perl-5.21.7/lib/site_perl/5.21.7/Log/Any/Adapter/Core.pm line 34.
Redundant argument in sprintf at /opt/perl-5.21.7/lib/site_perl/5.21.7/Log/Any/Adapter/Core.pm line 34.
Redundant argument in sprintf at /opt/perl-5.21.7/lib/site_perl/5.21.7/Log/Any/Adapter/Core.pm line 34.
Redundant argument in sprintf at /opt/perl-5.21.7/lib/site_perl/5.21.7/Log/Any/Adapter/Core.pm line 34.
Redundant argument in sprintf at /opt/perl-5.21.7/lib/site_perl/5.21.7/Log/Any/Adapter/Core.pm line 34.
Redundant argument in sprintf at /opt/perl-5.21.7/lib/site_perl/5.21.7/Log/Any/Adapter/Core.pm line 34.
Redundant argument in sprintf at /opt/perl-5.21.7/lib/site_perl/5.21.7/Log/Any/Adapter/Core.pm line 34.
Redundant argument in sprintf at /opt/perl-5.21.7/lib/site_perl/5.21.7/Log/Any/Adapter/Core.pm line 34.
Redundant argument in sprintf at /opt/perl-5.21.7/lib/site_perl/5.21.7/Log/Any/Adapter/Core.pm line 34.
Redundant argument in sprintf at /opt/perl-5.21.7/lib/site_perl/5.21.7/Log/Any/Adapter/Core.pm line 34.
Redundant argument in sprintf at /opt/perl-5.21.7/lib/site_perl/5.21.7/Log/Any/Adapter/Core.pm line 34.
Redundant argument in sprintf at /opt/perl-5.21.7/lib/site_perl/5.21.7/Log/Any/Adapter/Core.pm line 34.
Redundant argument in sprintf at /opt/perl-5.21.7/lib/site_perl/5.21.7/Log/Any/Adapter/Core.pm line 34.
Redundant argument in sprintf at /opt/perl-5.21.7/lib/site_perl/5.21.7/Log/Any/Adapter/Core.pm line 34.
Redundant argument in sprintf at /opt/perl-5.21.7/lib/site_perl/5.21.7/Log/Any/Adapter/Core.pm line 34.
Redundant argument in sprintf at /opt/perl-5.21.7/lib/site_perl/5.21.7/Log/Any/Adapter/Core.pm line 34.
Redundant argument in sprintf at /opt/perl-5.21.7/lib/site_perl/5.21.7/Log/Any/Adapter/Core.pm line 34.
Redundant argument in sprintf at /opt/perl-5.21.7/lib/site_perl/5.21.7/Log/Any/Adapter/Core.pm line 34.
Redundant argument in sprintf at /opt/perl-5.21.7/lib/site_perl/5.21.7/Log/Any/Adapter/Core.pm line 34.
Redundant argument in sprintf at /opt/perl-5.21.7/lib/site_perl/5.21.7/Log/Any/Adapter/Core.pm line 34.
Redundant argument in sprintf at /opt/perl-5.21.7/lib/site_perl/5.21.7/Log/Any/Adapter/Core.pm line 34.
Redundant argument in sprintf at /opt/perl-5.21.7/lib/site_perl/5.21.7/Log/Any/Adapter/Core.pm line 34.
Redundant argument in sprintf at /opt/perl-5.21.7/lib/site_perl/5.21.7/Log/Any/Adapter/Core.pm line 34.
Redundant argument in sprintf at /opt/perl-5.21.7/lib/site_perl/5.21.7/Log/Any/Adapter/Core.pm line 34.
Redundant argument in sprintf at /opt/perl-5.21.7/lib/site_perl/5.21.7/Log/Any/Adapter/Core.pm line 34.
Redundant argument in sprintf at /opt/perl-5.21.7/lib/site_perl/5.21.7/Log/Any/Adapter/Core.pm line 34.
Redundant argument in sprintf at /opt/perl-5.21.7/lib/site_perl/5.21.7/Log/Any/Adapter/Core.pm line 34.
Redundant argument in sprintf at /opt/perl-5.21.7/lib/site_perl/5.21.7/Log/Any/Adapter/Core.pm line 34.
Redundant argument in sprintf at /opt/perl-5.21.7/lib/site_perl/5.21.7/Log/Any/Adapter/Core.pm line 34.
Redundant argument in sprintf at /opt/perl-5.21.7/lib/site_perl/5.21.7/Log/Any/Adapter/Core.pm line 34.
Redundant argument in sprintf at /opt/perl-5.21.7/lib/site_perl/5.21.7/Log/Any/Adapter/Core.pm line 34.
Redundant argument in sprintf at /opt/perl-5.21.7/lib/site_perl/5.21.7/Log/Any/Adapter/Core.pm line 34.
Redundant argument in sprintf at /opt/perl-5.21.7/lib/site_perl/5.21.7/Log/Any/Adapter/Core.pm line 34.
Redundant argument in sprintf at /opt/perl-5.21.7/lib/site_perl/5.21.7/Log/Any/Adapter/Core.pm line 34.
Redundant argument in sprintf at /opt/perl-5.21.7/lib/site_perl/5.21.7/Log/Any/Adapter/Core.pm line 34.
Redundant argument in sprintf at /opt/perl-5.21.7/lib/site_perl/5.21.7/Log/Any/Adapter/Core.pm line 34.
Redundant argument in sprintf at /opt/perl-5.21.7/lib/site_perl/5.21.7/Log/Any/Adapter/Core.pm line 34.
Redundant argument in sprintf at /opt/perl-5.21.7/lib/site_perl/5.21.7/Log/Any/Adapter/Core.pm line 34.
Redundant argument in sprintf at /opt/perl-5.21.7/lib/site_perl/5.21.7/Log/Any/Adapter/Core.pm line 34.
Redundant argument in sprintf at /opt/perl-5.21.7/lib/site_perl/5.21.7/Log/Any/Adapter/Core.pm line 34.
Redundant argument in sprintf at /opt/perl-5.21.7/lib/site_perl/5.21.7/Log/Any/Adapter/Core.pm line 34.
Redundant argument in sprintf at /opt/perl-5.21.7/lib/site_perl/5.21.7/Log/Any/Adapter/Core.pm line 34.
Redundant argument in sprintf at /opt/perl-5.21.7/lib/site_perl/5.21.7/Log/Any/Adapter/Core.pm line 34.
Redundant argument in sprintf at /opt/perl-5.21.7/lib/site_perl/5.21.7/Log/Any/Adapter/Core.pm line 34.
Redundant argument in sprintf at /opt/perl-5.21.7/lib/site_perl/5.21.7/Log/Any/Adapter/Core.pm line 34.
Redundant argument in sprintf at /opt/perl-5.21.7/lib/site_perl/5.21.7/Log/Any/Adapter/Core.pm line 34.
Redundant argument in sprintf at /opt/perl-5.21.7/lib/site_perl/5.21.7/Log/Any/Adapter/Core.pm line 34.
Redundant argument in sprintf at /opt/perl-5.21.7/lib/site_perl/5.21.7/Log/Any/Adapter/Core.pm line 34.
Redundant argument in sprintf at /opt/perl-5.21.7/lib/site_perl/5.21.7/Log/Any/Adapter/Core.pm line 34.
Redundant argument in sprintf at /opt/perl-5.21.7/lib/site_perl/5.21.7/Log/Any/Adapter/Core.pm line 34.
Redundant argument in sprintf at /opt/perl-5.21.7/lib/site_perl/5.21.7/Log/Any/Adapter/Core.pm line 34.
Redundant argument in sprintf at /opt/perl-5.21.7/lib/site_perl/5.21.7/Log/Any/Adapter/Core.pm line 34.
Redundant argument in sprintf at /opt/perl-5.21.7/lib/site_perl/5.21.7/Log/Any/Adapter/Core.pm line 34.
Redundant argument in sprintf at /opt/perl-5.21.7/lib/site_perl/5.21.7/Log/Any/Adapter/Core.pm line 34.
Redundant argument in sprintf at /opt/perl-5.21.7/lib/site_perl/5.21.7/Log/Any/Adapter/Core.pm line 34.
Redundant argument in sprintf at /opt/perl-5.21.7/lib/site_perl/5.21.7/Log/Any/Adapter/Core.pm line 34.
Redundant argument in sprintf at /opt/perl-5.21.7/lib/site_perl/5.21.7/Log/Any/Adapter/Core.pm line 34.
Redundant argument in sprintf at /opt/perl-5.21.7/lib/site_perl/5.21.7/Log/Any/Adapter/Core.pm line 34.
Redundant argument in sprintf at /opt/perl-5.21.7/lib/site_perl/5.21.7/Log/Any/Adapter/Core.pm line 34.
Redundant argument in sprintf at /opt/perl-5.21.7/lib/site_perl/5.21.7/Log/Any/Adapter/Core.pm line 34.
Redundant argument in sprintf at /opt/perl-5.21.7/lib/site_perl/5.21.7/Log/Any/Adapter/Core.pm line 34.
Redundant argument in sprintf at /opt/perl-5.21.7/lib/site_perl/5.21.7/Log/Any/Adapter/Core.pm line 34.
Redundant argument in sprintf at /opt/perl-5.21.7/lib/site_perl/5.21.7/Log/Any/Adapter/Core.pm line 34.
Redundant argument in sprintf at /opt/perl-5.21.7/lib/site_perl/5.21.7/Log/Any/Adapter/Core.pm line 34.
Redundant argument in sprintf at /opt/perl-5.21.7/lib/site_perl/5.21.7/Log/Any/Adapter/Core.pm line 34.
Redundant argument in sprintf at /opt/perl-5.21.7/lib/site_perl/5.21.7/Log/Any/Adapter/Core.pm line 34.
Redundant argument in sprintf at /opt/perl-5.21.7/lib/site_perl/5.21.7/Log/Any/Adapter/Core.pm line 34.
Redundant argument in sprintf at /opt/perl-5.21.7/lib/site_perl/5.21.7/Log/Any/Adapter/Core.pm line 34.
Redundant argument in sprintf at /opt/perl-5.21.7/lib/site_perl/5.21.7/Log/Any/Adapter/Core.pm line 34.
Redundant argument in sprintf at /opt/perl-5.21.7/lib/site_perl/5.21.7/Log/Any/Adapter/Core.pm line 34.
Redundant argument in sprintf at /opt/perl-5.21.7/lib/site_perl/5.21.7/Log/Any/Adapter/Core.pm line 34.
Redundant argument in sprintf at /opt/perl-5.21.7/lib/site_perl/5.21.7/Log/Any/Adapter/Core.pm line 34.
Redundant argument in sprintf at /opt/perl-5.21.7/lib/site_perl/5.21.7/Log/Any/Adapter/Core.pm line 34.
Redundant argument in sprintf at /opt/perl-5.21.7/lib/site_perl/5.21.7/Log/Any/Adapter/Core.pm line 34.
Redundant argument in sprintf at /opt/perl-5.21.7/lib/site_perl/5.21.7/Log/Any/Adapter/Core.pm line 34.
Redundant argument in sprintf at /opt/perl-5.21.7/lib/site_perl/5.21.7/Log/Any/Adapter/Core.pm line 34.
Redundant argument in sprintf at /opt/perl-5.21.7/lib/site_perl/5.21.7/Log/Any/Adapter/Core.pm line 34.
Redundant argument in sprintf at /opt/perl-5.21.7/lib/site_perl/5.21.7/Log/Any/Adapter/Core.pm line 34.
Redundant argument in sprintf at /opt/perl-5.21.7/lib/site_perl/5.21.7/Log/Any/Adapter/Core.pm line 34.
Redundant argument in sprintf at /opt/perl-5.21.7/lib/site_perl/5.21.7/Log/Any/Adapter/Core.pm line 34.
Redundant argument in sprintf at /opt/perl-5.21.7/lib/site_perl/5.21.7/Log/Any/Adapter/Core.pm line 34.
Redundant argument in sprintf at /opt/perl-5.21.7/lib/site_perl/5.21.7/Log/Any/Adapter/Core.pm line 34.
Redundant argument in sprintf at /opt/perl-5.21.7/lib/site_perl/5.21.7/Log/Any/Adapter/Core.pm line 34.
Redundant argument in sprintf at /opt/perl-5.21.7/lib/site_perl/5.21.7/Log/Any/Adapter/Core.pm line 34.
Redundant argument in sprintf at /opt/perl-5.21.7/lib/site_perl/5.21.7/Log/Any/Adapter/Core.pm line 34.
Redundant argument in sprintf at /opt/perl-5.21.7/lib/site_perl/5.21.7/Log/Any/Adapter/Core.pm line 34.
Redundant argument in sprintf at /opt/perl-5.21.7/lib/site_perl/5.21.7/Log/Any/Adapter/Core.pm line 34.
Redundant argument in sprintf at /opt/perl-5.21.7/lib/site_perl/5.21.7/Log/Any/Adapter/Core.pm line 34.
Redundant argument in sprintf at /opt/perl-5.21.7/lib/site_perl/5.21.7/Log/Any/Adapter/Core.pm line 34.
Redundant argument in sprintf at /opt/perl-5.21.7/lib/site_perl/5.21.7/Log/Any/Adapter/Core.pm line 34.
Redundant argument in sprintf at /opt/perl-5.21.7/lib/site_perl/5.21.7/Log/Any/Adapter/Core.pm line 34.
Redundant argument in sprintf at /opt/perl-5.21.7/lib/site_perl/5.21.7/Log/Any/Adapter/Core.pm line 34.
Redundant argument in sprintf at /opt/perl-5.21.7/lib/site_perl/5.21.7/Log/Any/Adapter/Core.pm line 34.
Redundant argument in sprintf at /opt/perl-5.21.7/lib/site_perl/5.21.7/Log/Any/Adapter/Core.pm line 34.
Redundant argument in sprintf at /opt/perl-5.21.7/lib/site_perl/5.21.7/Log/Any/Adapter/Core.pm line 34.
Redundant argument in sprintf at /opt/perl-5.21.7/lib/site_perl/5.21.7/Log/Any/Adapter/Core.pm line 34.
Redundant argument in sprintf at /opt/perl-5.21.7/lib/site_perl/5.21.7/Log/Any/Adapter/Core.pm line 34.
Redundant argument in sprintf at /opt/perl-5.21.7/lib/site_perl/5.21.7/Log/Any/Adapter/Core.pm line 34.
Redundant argument in sprintf at /opt/perl-5.21.7/lib/site_perl/5.21.7/Log/Any/Adapter/Core.pm line 34.
Redundant argument in sprintf at /opt/perl-5.21.7/lib/site_perl/5.21.7/Log/Any/Adapter/Core.pm line 34.
Redundant argument in sprintf at /opt/perl-5.21.7/lib/site_perl/5.21.7/Log/Any/Adapter/Core.pm line 34.
Redundant argument in sprintf at /opt/perl-5.21.7/lib/site_perl/5.21.7/Log/Any/Adapter/Core.pm line 34.
Redundant argument in sprintf at /opt/perl-5.21.7/lib/site_perl/5.21.7/Log/Any/Adapter/Core.pm line 34.
Redundant argument in sprintf at /opt/perl-5.21.7/lib/site_perl/5.21.7/Log/Any/Adapter/Core.pm line 34.
Redundant argument in sprintf at /opt/perl-5.21.7/lib/site_perl/5.21.7/Log/Any/Adapter/Core.pm line 34.
Redundant argument in sprintf at /opt/perl-5.21.7/lib/site_perl/5.21.7/Log/Any/Adapter/Core.pm line 34.
Redundant argument in sprintf at /opt/perl-5.21.7/lib/site_perl/5.21.7/Log/Any/Adapter/Core.pm line 34.
Redundant argument in sprintf at /opt/perl-5.21.7/lib/site_perl/5.21.7/Log/Any/Adapter/Core.pm line 34.
Redundant argument in sprintf at /opt/perl-5.21.7/lib/site_perl/5.21.7/Log/Any/Adapter/Core.pm line 34.
Redundant argument in sprintf at /opt/perl-5.21.7/lib/site_perl/5.21.7/Log/Any/Adapter/Core.pm line 34.
Redundant argument in sprintf at /opt/perl-5.21.7/lib/site_perl/5.21.7/Log/Any/Adapter/Core.pm line 34.
Redundant argument in sprintf at /opt/perl-5.21.7/lib/site_perl/5.21.7/Log/Any/Adapter/Core.pm line 34.
Redundant argument in sprintf at /opt/perl-5.21.7/lib/site_perl/5.21.7/Log/Any/Adapter/Core.pm line 34.
Redundant argument in sprintf at /opt/perl-5.21.7/lib/site_perl/5.21.7/Log/Any/Adapter/Core.pm line 34.
Redundant argument in sprintf at /opt/perl-5.21.7/lib/site_perl/5.21.7/Log/Any/Adapter/Core.pm line 34.
Redundant argument in sprintf at /opt/perl-5.21.7/lib/site_perl/5.21.7/Log/Any/Adapter/Core.pm line 34.
Redundant argument in sprintf at /opt/perl-5.21.7/lib/site_perl/5.21.7/Log/Any/Adapter/Core.pm line 34.
Redundant argument in sprintf at /opt/perl-5.21.7/lib/site_perl/5.21.7/Log/Any/Adapter/Core.pm line 34.
Redundant argument in sprintf at /opt/perl-5.21.7/lib/site_perl/5.21.7/Log/Any/Adapter/Core.pm line 34.
Redundant argument in sprintf at /opt/perl-5.21.7/lib/site_perl/5.21.7/Log/Any/Adapter/Core.pm line 34.
Redundant argument in sprintf at /opt/perl-5.21.7/lib/site_perl/5.21.7/Log/Any/Adapter/Core.pm line 34.
Redundant argument in sprintf at /opt/perl-5.21.7/lib/site_perl/5.21.7/Log/Any/Adapter/Core.pm line 34.
Redundant argument in sprintf at /opt/perl-5.21.7/lib/site_perl/5.21.7/Log/Any/Adapter/Core.pm line 34.
Redundant argument in sprintf at /opt/perl-5.21.7/lib/site_perl/5.21.7/Log/Any/Adapter/Core.pm line 34.
Redundant argument in sprintf at /opt/perl-5.21.7/lib/site_perl/5.21.7/Log/Any/Adapter/Core.pm line 34.
Redundant argument in sprintf at /opt/perl-5.21.7/lib/site_perl/5.21.7/Log/Any/Adapter/Core.pm line 34.
Redundant argument in sprintf at /opt/perl-5.21.7/lib/site_perl/5.21.7/Log/Any/Adapter/Core.pm line 34.
Redundant argument in sprintf at /opt/perl-5.21.7/lib/site_perl/5.21.7/Log/Any/Adapter/Core.pm line 34.
Redundant argument in sprintf at /opt/perl-5.21.7/lib/site_perl/5.21.7/Log/Any/Adapter/Core.pm line 34.
Redundant argument in sprintf at /opt/perl-5.21.7/lib/site_perl/5.21.7/Log/Any/Adapter/Core.pm line 34.
Redundant argument in sprintf at /opt/perl-5.21.7/lib/site_perl/5.21.7/Log/Any/Adapter/Core.pm line 34.
Redundant argument in sprintf at /opt/perl-5.21.7/lib/site_perl/5.21.7/Log/Any/Adapter/Core.pm line 34.
Redundant argument in sprintf at /opt/perl-5.21.7/lib/site_perl/5.21.7/Log/Any/Adapter/Core.pm line 34.
Redundant argument in sprintf at /opt/perl-5.21.7/lib/site_perl/5.21.7/Log/Any/Adapter/Core.pm line 34.
Redundant argument in sprintf at /opt/perl-5.21.7/lib/site_perl/5.21.7/Log/Any/Adapter/Core.pm line 34.
Redundant argument in sprintf at /opt/perl-5.21.7/lib/site_perl/5.21.7/Log/Any/Adapter/Core.pm line 34.
Redundant argument in sprintf at /opt/perl-5.21.7/lib/site_perl/5.21.7/Log/Any/Adapter/Core.pm line 34.
Redundant argument in sprintf at /opt/perl-5.21.7/lib/site_perl/5.21.7/Log/Any/Adapter/Core.pm line 34.
Redundant argument in sprintf at /opt/perl-5.21.7/lib/site_perl/5.21.7/Log/Any/Adapter/Core.pm line 34.
Redundant argument in sprintf at /opt/perl-5.21.7/lib/site_perl/5.21.7/Log/Any/Adapter/Core.pm line 34.
Redundant argument in sprintf at /opt/perl-5.21.7/lib/site_perl/5.21.7/Log/Any/Adapter/Core.pm line 34.
Redundant argument in sprintf at /opt/perl-5.21.7/lib/site_perl/5.21.7/Log/Any/Adapter/Core.pm line 34.
Redundant argument in sprintf at /opt/perl-5.21.7/lib/site_perl/5.21.7/Log/Any/Adapter/Core.pm line 34.
Redundant argument in sprintf at /opt/perl-5.21.7/lib/site_perl/5.21.7/Log/Any/Adapter/Core.pm line 34.
Redundant argument in sprintf at /opt/perl-5.21.7/lib/site_perl/5.21.7/Log/Any/Adapter/Core.pm line 34.
Redundant argument in sprintf at /opt/perl-5.21.7/lib/site_perl/5.21.7/Log/Any/Adapter/Core.pm line 34.
Redundant argument in sprintf at /opt/perl-5.21.7/lib/site_perl/5.21.7/Log/Any/Adapter/Core.pm line 34.
Redundant argument in sprintf at /opt/perl-5.21.7/lib/site_perl/5.21.7/Log/Any/Adapter/Core.pm line 34.
Redundant argument in sprintf at /opt/perl-5.21.7/lib/site_perl/5.21.7/Log/Any/Adapter/Core.pm line 34.
Redundant argument in sprintf at /opt/perl-5.21.7/lib/site_perl/5.21.7/Log/Any/Adapter/Core.pm line 34.
Redundant argument in sprintf at /opt/perl-5.21.7/lib/site_perl/5.21.7/Log/Any/Adapter/Core.pm line 34.
Redundant argument in sprintf at /opt/perl-5.21.7/lib/site_perl/5.21.7/Log/Any/Adapter/Core.pm line 34.
Redundant argument in sprintf at /opt/perl-5.21.7/lib/site_perl/5.21.7/Log/Any/Adapter/Core.pm line 34.
Redundant argument in sprintf at /opt/perl-5.21.7/lib/site_perl/5.21.7/Log/Any/Adapter/Core.pm line 34.
Redundant argument in sprintf at /opt/perl-5.21.7/lib/site_perl/5.21.7/Log/Any/Adapter/Core.pm line 34.
Redundant argument in sprintf at /opt/perl-5.21.7/lib/site_perl/5.21.7/Log/Any/Adapter/Core.pm line 34.
Redundant argument in sprintf at /opt/perl-5.21.7/lib/site_perl/5.21.7/Log/Any/Adapter/Core.pm line 34.
Redundant argument in sprintf at /opt/perl-5.21.7/lib/site_perl/5.21.7/Log/Any/Adapter/Core.pm line 34.
Redundant argument in sprintf at /opt/perl-5.21.7/lib/site_perl/5.21.7/Log/Any/Adapter/Core.pm line 34.
Redundant argument in sprintf at /opt/perl-5.21.7/lib/site_perl/5.21.7/Log/Any/Adapter/Core.pm line 34.
Redundant argument in sprintf at /opt/perl-5.21.7/lib/site_perl/5.21.7/Log/Any/Adapter/Core.pm line 34.
Redundant argument in sprintf at /opt/perl-5.21.7/lib/site_perl/5.21.7/Log/Any/Adapter/Core.pm line 34.
Redundant argument in sprintf at /opt/perl-5.21.7/lib/site_perl/5.21.7/Log/Any/Adapter/Core.pm line 34.
Redundant argument in sprintf at /opt/perl-5.21.7/lib/site_perl/5.21.7/Log/Any/Adapter/Core.pm line 34.
Redundant argument in sprintf at /opt/perl-5.21.7/lib/site_perl/5.21.7/Log/Any/Adapter/Core.pm line 34.
Redundant argument in sprintf at /opt/perl-5.21.7/lib/site_perl/5.21.7/Log/Any/Adapter/Core.pm line 34.
Redundant argument in sprintf at /opt/perl-5.21.7/lib/site_perl/5.21.7/Log/Any/Adapter/Core.pm line 34.
Redundant argument in sprintf at /opt/perl-5.21.7/lib/site_perl/5.21.7/Log/Any/Adapter/Core.pm line 34.
Redundant argument in sprintf at /opt/perl-5.21.7/lib/site_perl/5.21.7/Log/Any/Adapter/Core.pm line 34.
Redundant argument in sprintf at /opt/perl-5.21.7/lib/site_perl/5.21.7/Log/Any/Adapter/Core.pm line 34.
Redundant argument in sprintf at /opt/perl-5.21.7/lib/site_perl/5.21.7/Log/Any/Adapter/Core.pm line 34.
Redundant argument in sprintf at /opt/perl-5.21.7/lib/site_perl/5.21.7/Log/Any/Adapter/Core.pm line 34.
Redundant argument in sprintf at /opt/perl-5.21.7/lib/site_perl/5.21.7/Log/Any/Adapter/Core.pm line 34.
Redundant argument in sprintf at /opt/perl-5.21.7/lib/site_perl/5.21.7/Log/Any/Adapter/Core.pm line 34.
Redundant argument in sprintf at /opt/perl-5.21.7/lib/site_perl/5.21.7/Log/Any/Adapter/Core.pm line 34.
Redundant argument in sprintf at /opt/perl-5.21.7/lib/site_perl/5.21.7/Log/Any/Adapter/Core.pm line 34.
Redundant argument in sprintf at /opt/perl-5.21.7/lib/site_perl/5.21.7/Log/Any/Adapter/Core.pm line 34.
Redundant argument in sprintf at /opt/perl-5.21.7/lib/site_perl/5.21.7/Log/Any/Adapter/Core.pm line 34.
Redundant argument in sprintf at /opt/perl-5.21.7/lib/site_perl/5.21.7/Log/Any/Adapter/Core.pm line 34.
Redundant argument in sprintf at /opt/perl-5.21.7/lib/site_perl/5.21.7/Log/Any/Adapter/Core.pm line 34.
Redundant argument in sprintf at /opt/perl-5.21.7/lib/site_perl/5.21.7/Log/Any/Adapter/Core.pm line 34.
Redundant argument in sprintf at /opt/perl-5.21.7/lib/site_perl/5.21.7/Log/Any/Adapter/Core.pm line 34.
Redundant argument in sprintf at /opt/perl-5.21.7/lib/site_perl/5.21.7/Log/Any/Adapter/Core.pm line 34.
Redundant argument in sprintf at /opt/perl-5.21.7/lib/site_perl/5.21.7/Log/Any/Adapter/Core.pm line 34.
Redundant argument in sprintf at /opt/perl-5.21.7/lib/site_perl/5.21.7/Log/Any/Adapter/Core.pm line 34.
Redundant argument in sprintf at /opt/perl-5.21.7/lib/site_perl/5.21.7/Log/Any/Adapter/Core.pm line 34.
Redundant argument in sprintf at /opt/perl-5.21.7/lib/site_perl/5.21.7/Log/Any/Adapter/Core.pm line 34.
Redundant argument in sprintf at /opt/perl-5.21.7/lib/site_perl/5.21.7/Log/Any/Adapter/Core.pm line 34.
Redundant argument in sprintf at /opt/perl-5.21.7/lib/site_perl/5.21.7/Log/Any/Adapter/Core.pm line 34.
Redundant argument in sprintf at /opt/perl-5.21.7/lib/site_perl/5.21.7/Log/Any/Adapter/Core.pm line 34.
Redundant argument in sprintf at /opt/perl-5.21.7/lib/site_perl/5.21.7/Log/Any/Adapter/Core.pm line 34.
Redundant argument in sprintf at /opt/perl-5.21.7/lib/site_perl/5.21.7/Log/Any/Adapter/Core.pm line 34.
Redundant argument in sprintf at /opt/perl-5.21.7/lib/site_perl/5.21.7/Log/Any/Adapter/Core.pm line 34.
Redundant argument in sprintf at /opt/perl-5.21.7/lib/site_perl/5.21.7/Log/Any/Adapter/Core.pm line 34.
Redundant argument in sprintf at /opt/perl-5.21.7/lib/site_perl/5.21.7/Log/Any/Adapter/Core.pm line 34.
Redundant argument in sprintf at /opt/perl-5.21.7/lib/site_perl/5.21.7/Log/Any/Adapter/Core.pm line 34.
Redundant argument in sprintf at /opt/perl-5.21.7/lib/site_perl/5.21.7/Log/Any/Adapter/Core.pm line 34.
Redundant argument in sprintf at /opt/perl-5.21.7/lib/site_perl/5.21.7/Log/Any/Adapter/Core.pm line 34.
Redundant argument in sprintf at /opt/perl-5.21.7/lib/site_perl/5.21.7/Log/Any/Adapter/Core.pm line 34.
Redundant argument in sprintf at /opt/perl-5.21.7/lib/site_perl/5.21.7/Log/Any/Adapter/Core.pm line 34.
Redundant argument in sprintf at /opt/perl-5.21.7/lib/site_perl/5.21.7/Log/Any/Adapter/Core.pm line 34.
Redundant argument in sprintf at /opt/perl-5.21.7/lib/site_perl/5.21.7/Log/Any/Adapter/Core.pm line 34.
Redundant argument in sprintf at /opt/perl-5.21.7/lib/site_perl/5.21.7/Log/Any/Adapter/Core.pm line 34.
Redundant argument in sprintf at /opt/perl-5.21.7/lib/site_perl/5.21.7/Log/Any/Adapter/Core.pm line 34.
Redundant argument in sprintf at /opt/perl-5.21.7/lib/site_perl/5.21.7/Log/Any/Adapter/Core.pm line 34.
Redundant argument in sprintf at /opt/perl-5.21.7/lib/site_perl/5.21.7/Log/Any/Adapter/Core.pm line 34.
Redundant argument in sprintf at /opt/perl-5.21.7/lib/site_perl/5.21.7/Log/Any/Adapter/Core.pm line 34.
Redundant argument in sprintf at /opt/perl-5.21.7/lib/site_perl/5.21.7/Log/Any/Adapter/Core.pm line 34.
Redundant argument in sprintf at /opt/perl-5.21.7/lib/site_perl/5.21.7/Log/Any/Adapter/Core.pm line 34.
Redundant argument in sprintf at /opt/perl-5.21.7/lib/site_perl/5.21.7/Log/Any/Adapter/Core.pm line 34.
Redundant argument in sprintf at /opt/perl-5.21.7/lib/site_perl/5.21.7/Log/Any/Adapter/Core.pm line 34.
Redundant argument in sprintf at /opt/perl-5.21.7/lib/site_perl/5.21.7/Log/Any/Adapter/Core.pm line 34.
Redundant argument in sprintf at /opt/perl-5.21.7/lib/site_perl/5.21.7/Log/Any/Adapter/Core.pm line 34.
Redundant argument in sprintf at /opt/perl-5.21.7/lib/site_perl/5.21.7/Log/Any/Adapter/Core.pm line 34.
Redundant argument in sprintf at /opt/perl-5.21.7/lib/site_perl/5.21.7/Log/Any/Adapter/Core.pm line 34.
Redundant argument in sprintf at /opt/perl-5.21.7/lib/site_perl/5.21.7/Log/Any/Adapter/Core.pm line 34.
Redundant argument in sprintf at /opt/perl-5.21.7/lib/site_perl/5.21.7/Log/Any/Adapter/Core.pm line 34.
Redundant argument in sprintf at /opt/perl-5.21.7/lib/site_perl/5.21.7/Log/Any/Adapter/Core.pm line 34.
Redundant argument in sprintf at /opt/perl-5.21.7/lib/site_perl/5.21.7/Log/Any/Adapter/Core.pm line 34.
Redundant argument in sprintf at /opt/perl-5.21.7/lib/site_perl/5.21.7/Log/Any/Adapter/Core.pm line 34.
Redundant argument in sprintf at /opt/perl-5.21.7/lib/site_perl/5.21.7/Log/Any/Adapter/Core.pm line 34.
Redundant argument in sprintf at /opt/perl-5.21.7/lib/site_perl/5.21.7/Log/Any/Adapter/Core.pm line 34.
Redundant argument in sprintf at /opt/perl-5.21.7/lib/site_perl/5.21.7/Log/Any/Adapter/Core.pm line 34.
Redundant argument in sprintf at /opt/perl-5.21.7/lib/site_perl/5.21.7/Log/Any/Adapter/Core.pm line 34.
Redundant argument in sprintf at /opt/perl-5.21.7/lib/site_perl/5.21.7/Log/Any/Adapter/Core.pm line 34.
Redundant argument in sprintf at /opt/perl-5.21.7/lib/site_perl/5.21.7/Log/Any/Adapter/Core.pm line 34.
Redundant argument in sprintf at /opt/perl-5.21.7/lib/site_perl/5.21.7/Log/Any/Adapter/Core.pm line 34.
Redundant argument in sprintf at /opt/perl-5.21.7/lib/site_perl/5.21.7/Log/Any/Adapter/Core.pm line 34.
Redundant argument in sprintf at /opt/perl-5.21.7/lib/site_perl/5.21.7/Log/Any/Adapter/Core.pm line 34.
Redundant argument in sprintf at /opt/perl-5.21.7/lib/site_perl/5.21.7/Log/Any/Adapter/Core.pm line 34.
Redundant argument in sprintf at /opt/perl-5.21.7/lib/site_perl/5.21.7/Log/Any/Adapter/Core.pm line 34.
Redundant argument in sprintf at /opt/perl-5.21.7/lib/site_perl/5.21.7/Log/Any/Adapter/Core.pm line 34.
Redundant argument in sprintf at /opt/perl-5.21.7/lib/site_perl/5.21.7/Log/Any/Adapter/Core.pm line 34.
Redundant argument in sprintf at /opt/perl-5.21.7/lib/site_perl/5.21.7/Log/Any/Adapter/Core.pm line 34.
Redundant argument in sprintf at /opt/perl-5.21.7/lib/site_perl/5.21.7/Log/Any/Adapter/Core.pm line 34.
Redundant argument in sprintf at /opt/perl-5.21.7/lib/site_perl/5.21.7/Log/Any/Adapter/Core.pm line 34.
Redundant argument in sprintf at /opt/perl-5.21.7/lib/site_perl/5.21.7/Log/Any/Adapter/Core.pm line 34.
Redundant argument in sprintf at /opt/perl-5.21.7/lib/site_perl/5.21.7/Log/Any/Adapter/Core.pm line 34.
Redundant argument in sprintf at /opt/perl-5.21.7/lib/site_perl/5.21.7/Log/Any/Adapter/Core.pm line 34.
Redundant argument in sprintf at /opt/perl-5.21.7/lib/site_perl/5.21.7/Log/Any/Adapter/Core.pm line 34.
Redundant argument in sprintf at /opt/perl-5.21.7/lib/site_perl/5.21.7/Log/Any/Adapter/Core.pm line 34.
Redundant argument in sprintf at /opt/perl-5.21.7/lib/site_perl/5.21.7/Log/Any/Adapter/Core.pm line 34.
Redundant argument in sprintf at /opt/perl-5.21.7/lib/site_perl/5.21.7/Log/Any/Adapter/Core.pm line 34.
Redundant argument in sprintf at /opt/perl-5.21.7/lib/site_perl/5.21.7/Log/Any/Adapter/Core.pm line 34.
Redundant argument in sprintf at /opt/perl-5.21.7/lib/site_perl/5.21.7/Log/Any/Adapter/Core.pm line 34.
Redundant argument in sprintf at /opt/perl-5.21.7/lib/site_perl/5.21.7/Log/Any/Adapter/Core.pm line 34.
Redundant argument in sprintf at /opt/perl-5.21.7/lib/site_perl/5.21.7/Log/Any/Adapter/Core.pm line 34.
Redundant argument in sprintf at /opt/perl-5.21.7/lib/site_perl/5.21.7/Log/Any/Adapter/Core.pm line 34.
Redundant argument in sprintf at /opt/perl-5.21.7/lib/site_perl/5.21.7/Log/Any/Adapter/Core.pm line 34.
Redundant argument in sprintf at /opt/perl-5.21.7/lib/site_perl/5.21.7/Log/Any/Adapter/Core.pm line 34.
Redundant argument in sprintf at /opt/perl-5.21.7/lib/site_perl/5.21.7/Log/Any/Adapter/Core.pm line 34.
Redundant argument in sprintf at /opt/perl-5.21.7/lib/site_perl/5.21.7/Log/Any/Adapter/Core.pm line 34.
Redundant argument in sprintf at /opt/perl-5.21.7/lib/site_perl/5.21.7/Log/Any/Adapter/Core.pm line 34.
Redundant argument in sprintf at /opt/perl-5.21.7/lib/site_perl/5.21.7/Log/Any/Adapter/Core.pm line 34.
Redundant argument in sprintf at /opt/perl-5.21.7/lib/site_perl/5.21.7/Log/Any/Adapter/Core.pm line 34.
Redundant argument in sprintf at /opt/perl-5.21.7/lib/site_perl/5.21.7/Log/Any/Adapter/Core.pm line 34.
Redundant argument in sprintf at /opt/perl-5.21.7/lib/site_perl/5.21.7/Log/Any/Adapter/Core.pm line 34.
Redundant argument in sprintf at /opt/perl-5.21.7/lib/site_perl/5.21.7/Log/Any/Adapter/Core.pm line 34.
Redundant argument in sprintf at /opt/perl-5.21.7/lib/site_perl/5.21.7/Log/Any/Adapter/Core.pm line 34.
Redundant argument in sprintf at /opt/perl-5.21.7/lib/site_perl/5.21.7/Log/Any/Adapter/Core.pm line 34.
Redundant argument in sprintf at /opt/perl-5.21.7/lib/site_perl/5.21.7/Log/Any/Adapter/Core.pm line 34.
Redundant argument in sprintf at /opt/perl-5.21.7/lib/site_perl/5.21.7/Log/Any/Adapter/Core.pm line 34.
Redundant argument in sprintf at /opt/perl-5.21.7/lib/site_perl/5.21.7/Log/Any/Adapter/Core.pm line 34.
Redundant argument in sprintf at /opt/perl-5.21.7/lib/site_perl/5.21.7/Log/Any/Adapter/Core.pm line 34.
Redundant argument in sprintf at /opt/perl-5.21.7/lib/site_perl/5.21.7/Log/Any/Adapter/Core.pm line 34.
Redundant argument in sprintf at /opt/perl-5.21.7/lib/site_perl/5.21.7/Log/Any/Adapter/Core.pm line 34.
Redundant argument in sprintf at /opt/perl-5.21.7/lib/site_perl/5.21.7/Log/Any/Adapter/Core.pm line 34.
Redundant argument in sprintf at /opt/perl-5.21.7/lib/site_perl/5.21.7/Log/Any/Adapter/Core.pm line 34.
Redundant argument in sprintf at /opt/perl-5.21.7/lib/site_perl/5.21.7/Log/Any/Adapter/Core.pm line 34.
Redundant argument in sprintf at /opt/perl-5.21.7/lib/site_perl/5.21.7/Log/Any/Adapter/Core.pm line 34.
Redundant argument in sprintf at /opt/perl-5.21.7/lib/site_perl/5.21.7/Log/Any/Adapter/Core.pm line 34.
Redundant argument in sprintf at /opt/perl-5.21.7/lib/site_perl/5.21.7/Log/Any/Adapter/Core.pm line 34.
Redundant argument in sprintf at /opt/perl-5.21.7/lib/site_perl/5.21.7/Log/Any/Adapter/Core.pm line 34.
Redundant argument in sprintf at /opt/perl-5.21.7/lib/site_perl/5.21.7/Log/Any/Adapter/Core.pm line 34.
Redundant argument in sprintf at /opt/perl-5.21.7/lib/site_perl/5.21.7/Log/Any/Adapter/Core.pm line 34.
Redundant argument in sprintf at /opt/perl-5.21.7/lib/site_perl/5.21.7/Log/Any/Adapter/Core.pm line 34.
Redundant argument in sprintf at /opt/perl-5.21.7/lib/site_perl/5.21.7/Log/Any/Adapter/Core.pm line 34.
Redundant argument in sprintf at /opt/perl-5.21.7/lib/site_perl/5.21.7/Log/Any/Adapter/Core.pm line 34.
Redundant argument in sprintf at /opt/perl-5.21.7/lib/site_perl/5.21.7/Log/Any/Adapter/Core.pm line 34.
Redundant argument in sprintf at /opt/perl-5.21.7/lib/site_perl/5.21.7/Log/Any/Adapter/Core.pm line 34.
Redundant argument in sprintf at /opt/perl-5.21.7/lib/site_perl/5.21.7/Log/Any/Adapter/Core.pm line 34.
Redundant argument in sprintf at /opt/perl-5.21.7/lib/site_perl/5.21.7/Log/Any/Adapter/Core.pm line 34.
Redundant argument in sprintf at /opt/perl-5.21.7/lib/site_perl/5.21.7/Log/Any/Adapter/Core.pm line 34.
Redundant argument in sprintf at /opt/perl-5.21.7/lib/site_perl/5.21.7/Log/Any/Adapter/Core.pm line 34.
Redundant argument in sprintf at /opt/perl-5.21.7/lib/site_perl/5.21.7/Log/Any/Adapter/Core.pm line 34.
Redundant argument in sprintf at /opt/perl-5.21.7/lib/site_perl/5.21.7/Log/Any/Adapter/Core.pm line 34.
Redundant argument in sprintf at /opt/perl-5.21.7/lib/site_perl/5.21.7/Log/Any/Adapter/Core.pm line 34.
Redundant argument in sprintf at /opt/perl-5.21.7/lib/site_perl/5.21.7/Log/Any/Adapter/Core.pm line 34.
Redundant argument in sprintf at /opt/perl-5.21.7/lib/site_perl/5.21.7/Log/Any/Adapter/Core.pm line 34.
Redundant argument in sprintf at /opt/perl-5.21.7/lib/site_perl/5.21.7/Log/Any/Adapter/Core.pm line 34.
Redundant argument in sprintf at /opt/perl-5.21.7/lib/site_perl/5.21.7/Log/Any/Adapter/Core.pm line 34.
Redundant argument in sprintf at /opt/perl-5.21.7/lib/site_perl/5.21.7/Log/Any/Adapter/Core.pm line 34.
Redundant argument in sprintf at /opt/perl-5.21.7/lib/site_perl/5.21.7/Log/Any/Adapter/Core.pm line 34.
Redundant argument in sprintf at /opt/perl-5.21.7/lib/site_perl/5.21.7/Log/Any/Adapter/Core.pm line 34.
Redundant argument in sprintf at /opt/perl-5.21.7/lib/site_perl/5.21.7/Log/Any/Adapter/Core.pm line 34.
Redundant argument in sprintf at /opt/perl-5.21.7/lib/site_perl/5.21.7/Log/Any/Adapter/Core.pm line 34.
Redundant argument in sprintf at /opt/perl-5.21.7/lib/site_perl/5.21.7/Log/Any/Adapter/Core.pm line 34.
Redundant argument in sprintf at /opt/perl-5.21.7/lib/site_perl/5.21.7/Log/Any/Adapter/Core.pm line 34.
Redundant argument in sprintf at /opt/perl-5.21.7/lib/site_perl/5.21.7/Log/Any/Adapter/Core.pm line 34.
Redundant argument in sprintf at /opt/perl-5.21.7/lib/site_perl/5.21.7/Log/Any/Adapter/Core.pm line 34.
Redundant argument in sprintf at /opt/perl-5.21.7/lib/site_perl/5.21.7/Log/Any/Adapter/Core.pm line 34.
Redundant argument in sprintf at /opt/perl-5.21.7/lib/site_perl/5.21.7/Log/Any/Adapter/Core.pm line 34.
Redundant argument in sprintf at /opt/perl-5.21.7/lib/site_perl/5.21.7/Log/Any/Adapter/Core.pm line 34.
Redundant argument in sprintf at /opt/perl-5.21.7/lib/site_perl/5.21.7/Log/Any/Adapter/Core.pm line 34.
Redundant argument in sprintf at /opt/perl-5.21.7/lib/site_perl/5.21.7/Log/Any/Adapter/Core.pm line 34.
Redundant argument in sprintf at /opt/perl-5.21.7/lib/site_perl/5.21.7/Log/Any/Adapter/Core.pm line 34.
Redundant argument in sprintf at /opt/perl-5.21.7/lib/site_perl/5.21.7/Log/Any/Adapter/Core.pm line 34.
Redundant argument in sprintf at /opt/perl-5.21.7/lib/site_perl/5.21.7/Log/Any/Adapter/Core.pm line 34.
Redundant argument in sprintf at /opt/perl-5.21.7/lib/site_perl/5.21.7/Log/Any/Adapter/Core.pm line 34.
Redundant argument in sprintf at /opt/perl-5.21.7/lib/site_perl/5.21.7/Log/Any/Adapter/Core.pm line 34.
Redundant argument in sprintf at /opt/perl-5.21.7/lib/site_perl/5.21.7/Log/Any/Adapter/Core.pm line 34.
Redundant argument in sprintf at /opt/perl-5.21.7/lib/site_perl/5.21.7/Log/Any/Adapter/Core.pm line 34.
Redundant argument in sprintf at /opt/perl-5.21.7/lib/site_perl/5.21.7/Log/Any/Adapter/Core.pm line 34.
Redundant argument in sprintf at /opt/perl-5.21.7/lib/site_perl/5.21.7/Log/Any/Adapter/Core.pm line 34.
Redundant argument in sprintf at /opt/perl-5.21.7/lib/site_perl/5.21.7/Log/Any/Adapter/Core.pm line 34.
Redundant argument in sprintf at /opt/perl-5.21.7/lib/site_perl/5.21.7/Log/Any/Adapter/Core.pm line 34.
Redundant argument in sprintf at /opt/perl-5.21.7/lib/site_perl/5.21.7/Log/Any/Adapter/Core.pm line 34.
Redundant argument in sprintf at /opt/perl-5.21.7/lib/site_perl/5.21.7/Log/Any/Adapter/Core.pm line 34.
Redundant argument in sprintf at /opt/perl-5.21.7/lib/site_perl/5.21.7/Log/Any/Adapter/Core.pm line 34.
Redundant argument in sprintf at /opt/perl-5.21.7/lib/site_perl/5.21.7/Log/Any/Adapter/Core.pm line 34.
Redundant argument in sprintf at /opt/perl-5.21.7/lib/site_perl/5.21.7/Log/Any/Adapter/Core.pm line 34.
Redundant argument in sprintf at /opt/perl-5.21.7/lib/site_perl/5.21.7/Log/Any/Adapter/Core.pm line 34.
Redundant argument in sprintf at /opt/perl-5.21.7/lib/site_perl/5.21.7/Log/Any/Adapter/Core.pm line 34.
Redundant argument in sprintf at /opt/perl-5.21.7/lib/site_perl/5.21.7/Log/Any/Adapter/Core.pm line 34.
Redundant argument in sprintf at /opt/perl-5.21.7/lib/site_perl/5.21.7/Log/Any/Adapter/Core.pm line 34.
Redundant argument in sprintf at /opt/perl-5.21.7/lib/site_perl/5.21.7/Log/Any/Adapter/Core.pm line 34.
Redundant argument in sprintf at /opt/perl-5.21.7/lib/site_perl/5.21.7/Log/Any/Adapter/Core.pm line 34.
Redundant argument in sprintf at /opt/perl-5.21.7/lib/site_perl/5.21.7/Log/Any/Adapter/Core.pm line 34.
Redundant argument in sprintf at /opt/perl-5.21.7/lib/site_perl/5.21.7/Log/Any/Adapter/Core.pm line 34.
Redundant argument in sprintf at /opt/perl-5.21.7/lib/site_perl/5.21.7/Log/Any/Adapter/Core.pm line 34.
Redundant argument in sprintf at /opt/perl-5.21.7/lib/site_perl/5.21.7/Log/Any/Adapter/Core.pm line 34.
Redundant argument in sprintf at /opt/perl-5.21.7/lib/site_perl/5.21.7/Log/Any/Adapter/Core.pm line 34.
Redundant argument in sprintf at /opt/perl-5.21.7/lib/site_perl/5.21.7/Log/Any/Adapter/Core.pm line 34.
Redundant argument in sprintf at /opt/perl-5.21.7/lib/site_perl/5.21.7/Log/Any/Adapter/Core.pm line 34.
Redundant argument in sprintf at /opt/perl-5.21.7/lib/site_perl/5.21.7/Log/Any/Adapter/Core.pm line 34.
Redundant argument in sprintf at /opt/perl-5.21.7/lib/site_perl/5.21.7/Log/Any/Adapter/Core.pm line 34.
Redundant argument in sprintf at /opt/perl-5.21.7/lib/site_perl/5.21.7/Log/Any/Adapter/Core.pm line 34.
Redundant argument in sprintf at /opt/perl-5.21.7/lib/site_perl/5.21.7/Log/Any/Adapter/Core.pm line 34.
Redundant argument in sprintf at /opt/perl-5.21.7/lib/site_perl/5.21.7/Log/Any/Adapter/Core.pm line 34.
Redundant argument in sprintf at /opt/perl-5.21.7/lib/site_perl/5.21.7/Log/Any/Adapter/Core.pm line 34.
Redundant argument in sprintf at /opt/perl-5.21.7/lib/site_perl/5.21.7/Log/Any/Adapter/Core.pm line 34.
Redundant argument in sprintf at /opt/perl-5.21.7/lib/site_perl/5.21.7/Log/Any/Adapter/Core.pm line 34.
Redundant argument in sprintf at /opt/perl-5.21.7/lib/site_perl/5.21.7/Log/Any/Adapter/Core.pm line 34.
Redundant argument in sprintf at /opt/perl-5.21.7/lib/site_perl/5.21.7/Log/Any/Adapter/Core.pm line 34.
Redundant argument in sprintf at /opt/perl-5.21.7/lib/site_perl/5.21.7/Log/Any/Adapter/Core.pm line 34.
Redundant argument in sprintf at /opt/perl-5.21.7/lib/site_perl/5.21.7/Log/Any/Adapter/Core.pm line 34.
Redundant argument in sprintf at /opt/perl-5.21.7/lib/site_perl/5.21.7/Log/Any/Adapter/Core.pm line 34.
Redundant argument in sprintf at /opt/perl-5.21.7/lib/site_perl/5.21.7/Log/Any/Adapter/Core.pm line 34.
Redundant argument in sprintf at /opt/perl-5.21.7/lib/site_perl/5.21.7/Log/Any/Adapter/Core.pm line 34.
Redundant argument in sprintf at /opt/perl-5.21.7/lib/site_perl/5.21.7/Log/Any/Adapter/Core.pm line 34.
Redundant argument in sprintf at /opt/perl-5.21.7/lib/site_perl/5.21.7/Log/Any/Adapter/Core.pm line 34.
Redundant argument in sprintf at /opt/perl-5.21.7/lib/site_perl/5.21.7/Log/Any/Adapter/Core.pm line 34.
Redundant argument in sprintf at /opt/perl-5.21.7/lib/site_perl/5.21.7/Log/Any/Adapter/Core.pm line 34.
Redundant argument in sprintf at /opt/perl-5.21.7/lib/site_perl/5.21.7/Log/Any/Adapter/Core.pm line 34.
Redundant argument in sprintf at /opt/perl-5.21.7/lib/site_perl/5.21.7/Log/Any/Adapter/Core.pm line 34.
Redundant argument in sprintf at /opt/perl-5.21.7/lib/site_perl/5.21.7/Log/Any/Adapter/Core.pm line 34.
Redundant argument in sprintf at /opt/perl-5.21.7/lib/site_perl/5.21.7/Log/Any/Adapter/Core.pm line 34.
Redundant argument in sprintf at /opt/perl-5.21.7/lib/site_perl/5.21.7/Log/Any/Adapter/Core.pm line 34.
Redundant argument in sprintf at /opt/perl-5.21.7/lib/site_perl/5.21.7/Log/Any/Adapter/Core.pm line 34.
Redundant argument in sprintf at /opt/perl-5.21.7/lib/site_perl/5.21.7/Log/Any/Adapter/Core.pm line 34.
Redundant argument in sprintf at /opt/perl-5.21.7/lib/site_perl/5.21.7/Log/Any/Adapter/Core.pm line 34.
Redundant argument in sprintf at /opt/perl-5.21.7/lib/site_perl/5.21.7/Log/Any/Adapter/Core.pm line 34.
Redundant argument in sprintf at /opt/perl-5.21.7/lib/site_perl/5.21.7/Log/Any/Adapter/Core.pm line 34.
Redundant argument in sprintf at /opt/perl-5.21.7/lib/site_perl/5.21.7/Log/Any/Adapter/Core.pm line 34.
Redundant argument in sprintf at /opt/perl-5.21.7/lib/site_perl/5.21.7/Log/Any/Adapter/Core.pm line 34.
Redundant argument in sprintf at /opt/perl-5.21.7/lib/site_perl/5.21.7/Log/Any/Adapter/Core.pm line 34.
Redundant argument in sprintf at /opt/perl-5.21.7/lib/site_perl/5.21.7/Log/Any/Adapter/Core.pm line 34.
Redundant argument in sprintf at /opt/perl-5.21.7/lib/site_perl/5.21.7/Log/Any/Adapter/Core.pm line 34.
Redundant argument in sprintf at /opt/perl-5.21.7/lib/site_perl/5.21.7/Log/Any/Adapter/Core.pm line 34.
Redundant argument in sprintf at /opt/perl-5.21.7/lib/site_perl/5.21.7/Log/Any/Adapter/Core.pm line 34.
Redundant argument in sprintf at /opt/perl-5.21.7/lib/site_perl/5.21.7/Log/Any/Adapter/Core.pm line 34.
Redundant argument in sprintf at /opt/perl-5.21.7/lib/site_perl/5.21.7/Log/Any/Adapter/Core.pm line 34.
Redundant argument in sprintf at /opt/perl-5.21.7/lib/site_perl/5.21.7/Log/Any/Adapter/Core.pm line 34.
Redundant argument in sprintf at /opt/perl-5.21.7/lib/site_perl/5.21.7/Log/Any/Adapter/Core.pm line 34.
Redundant argument in sprintf at /opt/perl-5.21.7/lib/site_perl/5.21.7/Log/Any/Adapter/Core.pm line 34.
Redundant argument in sprintf at /opt/perl-5.21.7/lib/site_perl/5.21.7/Log/Any/Adapter/Core.pm line 34.
Redundant argument in sprintf at /opt/perl-5.21.7/lib/site_perl/5.21.7/Log/Any/Adapter/Core.pm line 34.
Redundant argument in sprintf at /opt/perl-5.21.7/lib/site_perl/5.21.7/Log/Any/Adapter/Core.pm line 34.
Redundant argument in sprintf at /opt/perl-5.21.7/lib/site_perl/5.21.7/Log/Any/Adapter/Core.pm line 34.
Redundant argument in sprintf at /opt/perl-5.21.7/lib/site_perl/5.21.7/Log/Any/Adapter/Core.pm line 34.
Redundant argument in sprintf at /opt/perl-5.21.7/lib/site_perl/5.21.7/Log/Any/Adapter/Core.pm line 34.
Redundant argument in sprintf at /opt/perl-5.21.7/lib/site_perl/5.21.7/Log/Any/Adapter/Core.pm line 34.
Redundant argument in sprintf at /opt/perl-5.21.7/lib/site_perl/5.21.7/Log/Any/Adapter/Core.pm line 34.
Redundant argument in sprintf at /opt/perl-5.21.7/lib/site_perl/5.21.7/Log/Any/Adapter/Core.pm line 34.
Redundant argument in sprintf at /opt/perl-5.21.7/lib/site_perl/5.21.7/Log/Any/Adapter/Core.pm line 34.
Redundant argument in sprintf at /opt/perl-5.21.7/lib/site_perl/5.21.7/Log/Any/Adapter/Core.pm line 34.
Redundant argument in sprintf at /opt/perl-5.21.7/lib/site_perl/5.21.7/Log/Any/Adapter/Core.pm line 34.
Redundant argument in sprintf at /opt/perl-5.21.7/lib/site_perl/5.21.7/Log/Any/Adapter/Core.pm line 34.
Redundant argument in sprintf at /opt/perl-5.21.7/lib/site_perl/5.21.7/Log/Any/Adapter/Core.pm line 34.
Redundant argument in sprintf at /opt/perl-5.21.7/lib/site_perl/5.21.7/Log/Any/Adapter/Core.pm line 34.
Redundant argument in sprintf at /opt/perl-5.21.7/lib/site_perl/5.21.7/Log/Any/Adapter/Core.pm line 34.
Redundant argument in sprintf at /opt/perl-5.21.7/lib/site_perl/5.21.7/Log/Any/Adapter/Core.pm line 34.
Redundant argument in sprintf at /opt/perl-5.21.7/lib/site_perl/5.21.7/Log/Any/Adapter/Core.pm line 34.
Redundant argument in sprintf at /opt/perl-5.21.7/lib/site_perl/5.21.7/Log/Any/Adapter/Core.pm line 34.
Redundant argument in sprintf at /opt/perl-5.21.7/lib/site_perl/5.21.7/Log/Any/Adapter/Core.pm line 34.
Redundant argument in sprintf at /opt/perl-5.21.7/lib/site_perl/5.21.7/Log/Any/Adapter/Core.pm line 34.
Redundant argument in sprintf at /opt/perl-5.21.7/lib/site_perl/5.21.7/Log/Any/Adapter/Core.pm line 34.
Redundant argument in sprintf at /opt/perl-5.21.7/lib/site_perl/5.21.7/Log/Any/Adapter/Core.pm line 34.
Redundant argument in sprintf at /opt/perl-5.21.7/lib/site_perl/5.21.7/Log/Any/Adapter/Core.pm line 34.
Redundant argument in sprintf at /opt/perl-5.21.7/lib/site_perl/5.21.7/Log/Any/Adapter/Core.pm line 34.
Redundant argument in sprintf at /opt/perl-5.21.7/lib/site_perl/5.21.7/Log/Any/Adapter/Core.pm line 34.
Redundant argument in sprintf at /opt/perl-5.21.7/lib/site_perl/5.21.7/Log/Any/Adapter/Core.pm line 34.
Redundant argument in sprintf at /opt/perl-5.21.7/lib/site_perl/5.21.7/Log/Any/Adapter/Core.pm line 34.
Redundant argument in sprintf at /opt/perl-5.21.7/lib/site_perl/5.21.7/Log/Any/Adapter/Core.pm line 34.
Redundant argument in sprintf at /opt/perl-5.21.7/lib/site_perl/5.21.7/Log/Any/Adapter/Core.pm line 34.
Redundant argument in sprintf at /opt/perl-5.21.7/lib/site_perl/5.21.7/Log/Any/Adapter/Core.pm line 34.
Redundant argument in sprintf at /opt/perl-5.21.7/lib/site_perl/5.21.7/Log/Any/Adapter/Core.pm line 34.
Redundant argument in sprintf at /opt/perl-5.21.7/lib/site_perl/5.21.7/Log/Any/Adapter/Core.pm line 34.
Redundant argument in sprintf at /opt/perl-5.21.7/lib/site_perl/5.21.7/Log/Any/Adapter/Core.pm line 34.
Redundant argument in sprintf at /opt/perl-5.21.7/lib/site_perl/5.21.7/Log/Any/Adapter/Core.pm line 34.
Redundant argument in sprintf at /opt/perl-5.21.7/lib/site_perl/5.21.7/Log/Any/Adapter/Core.pm line 34.
Redundant argument in sprintf at /opt/perl-5.21.7/lib/site_perl/5.21.7/Log/Any/Adapter/Core.pm line 34.
Redundant argument in sprintf at /opt/perl-5.21.7/lib/site_perl/5.21.7/Log/Any/Adapter/Core.pm line 34.
Redundant argument in sprintf at /opt/perl-5.21.7/lib/site_perl/5.21.7/Log/Any/Adapter/Core.pm line 34.
Redundant argument in sprintf at /opt/perl-5.21.7/lib/site_perl/5.21.7/Log/Any/Adapter/Core.pm line 34.
Redundant argument in sprintf at /opt/perl-5.21.7/lib/site_perl/5.21.7/Log/Any/Adapter/Core.pm line 34.
Redundant argument in sprintf at /opt/perl-5.21.7/lib/site_perl/5.21.7/Log/Any/Adapter/Core.pm line 34.
Redundant argument in sprintf at /opt/perl-5.21.7/lib/site_perl/5.21.7/Log/Any/Adapter/Core.pm line 34.
Redundant argument in sprintf at /opt/perl-5.21.7/lib/site_perl/5.21.7/Log/Any/Adapter/Core.pm line 34.
Redundant argument in sprintf at /opt/perl-5.21.7/lib/site_perl/5.21.7/Log/Any/Adapter/Core.pm line 34.
Redundant argument in sprintf at /opt/perl-5.21.7/lib/site_perl/5.21.7/Log/Any/Adapter/Core.pm line 34.
Redundant argument in sprintf at /opt/perl-5.21.7/lib/site_perl/5.21.7/Log/Any/Adapter/Core.pm line 34.
Redundant argument in sprintf at /opt/perl-5.21.7/lib/site_perl/5.21.7/Log/Any/Adapter/Core.pm line 34.
Redundant argument in sprintf at /opt/perl-5.21.7/lib/site_perl/5.21.7/Log/Any/Adapter/Core.pm line 34.
Redundant argument in sprintf at /opt/perl-5.21.7/lib/site_perl/5.21.7/Log/Any/Adapter/Core.pm line 34.
Redundant argument in sprintf at /opt/perl-5.21.7/lib/site_perl/5.21.7/Log/Any/Adapter/Core.pm line 34.
Redundant argument in sprintf at /opt/perl-5.21.7/lib/site_perl/5.21.7/Log/Any/Adapter/Core.pm line 34.
Redundant argument in sprintf at /opt/perl-5.21.7/lib/site_perl/5.21.7/Log/Any/Adapter/Core.pm line 34.
Redundant argument in sprintf at /opt/perl-5.21.7/lib/site_perl/5.21.7/Log/Any/Adapter/Core.pm line 34.
Redundant argument in sprintf at /opt/perl-5.21.7/lib/site_perl/5.21.7/Log/Any/Adapter/Core.pm line 34.
Redundant argument in sprintf at /opt/perl-5.21.7/lib/site_perl/5.21.7/Log/Any/Adapter/Core.pm line 34.
Redundant argument in sprintf at /opt/perl-5.21.7/lib/site_perl/5.21.7/Log/Any/Adapter/Core.pm line 34.
Redundant argument in sprintf at /opt/perl-5.21.7/lib/site_perl/5.21.7/Log/Any/Adapter/Core.pm line 34.
Redundant argument in sprintf at /opt/perl-5.21.7/lib/site_perl/5.21.7/Log/Any/Adapter/Core.pm line 34.
Redundant argument in sprintf at /opt/perl-5.21.7/lib/site_perl/5.21.7/Log/Any/Adapter/Core.pm line 34.
Redundant argument in sprintf at /opt/perl-5.21.7/lib/site_perl/5.21.7/Log/Any/Adapter/Core.pm line 34.
Redundant argument in sprintf at /opt/perl-5.21.7/lib/site_perl/5.21.7/Log/Any/Adapter/Core.pm line 34.
Redundant argument in sprintf at /opt/perl-5.21.7/lib/site_perl/5.21.7/Log/Any/Adapter/Core.pm line 34.
Redundant argument in sprintf at /opt/perl-5.21.7/lib/site_perl/5.21.7/Log/Any/Adapter/Core.pm line 34.
Redundant argument in sprintf at /opt/perl-5.21.7/lib/site_perl/5.21.7/Log/Any/Adapter/Core.pm line 34.
Redundant argument in sprintf at /opt/perl-5.21.7/lib/site_perl/5.21.7/Log/Any/Adapter/Core.pm line 34.
Redundant argument in sprintf at /opt/perl-5.21.7/lib/site_perl/5.21.7/Log/Any/Adapter/Core.pm line 34.
Redundant argument in sprintf at /opt/perl-5.21.7/lib/site_perl/5.21.7/Log/Any/Adapter/Core.pm line 34.
Redundant argument in sprintf at /opt/perl-5.21.7/lib/site_perl/5.21.7/Log/Any/Adapter/Core.pm line 34.
Redundant argument in sprintf at /opt/perl-5.21.7/lib/site_perl/5.21.7/Log/Any/Adapter/Core.pm line 34.
Redundant argument in sprintf at /opt/perl-5.21.7/lib/site_perl/5.21.7/Log/Any/Adapter/Core.pm line 34.
Redundant argument in sprintf at /opt/perl-5.21.7/lib/site_perl/5.21.7/Log/Any/Adapter/Core.pm line 34.
Redundant argument in sprintf at /opt/perl-5.21.7/lib/site_perl/5.21.7/Log/Any/Adapter/Core.pm line 34.
Redundant argument in sprintf at /opt/perl-5.21.7/lib/site_perl/5.21.7/Log/Any/Adapter/Core.pm line 34.
Redundant argument in sprintf at /opt/perl-5.21.7/lib/site_perl/5.21.7/Log/Any/Adapter/Core.pm line 34.
Redundant argument in sprintf at /opt/perl-5.21.7/lib/site_perl/5.21.7/Log/Any/Adapter/Core.pm line 34.
Redundant argument in sprintf at /opt/perl-5.21.7/lib/site_perl/5.21.7/Log/Any/Adapter/Core.pm line 34.
Redundant argument in sprintf at /opt/perl-5.21.7/lib/site_perl/5.21.7/Log/Any/Adapter/Core.pm line 34.
Redundant argument in sprintf at /opt/perl-5.21.7/lib/site_perl/5.21.7/Log/Any/Adapter/Core.pm line 34.
Redundant argument in sprintf at /opt/perl-5.21.7/lib/site_perl/5.21.7/Log/Any/Adapter/Core.pm line 34.
Redundant argument in sprintf at /opt/perl-5.21.7/lib/site_perl/5.21.7/Log/Any/Adapter/Core.pm line 34.
Redundant argument in sprintf at /opt/perl-5.21.7/lib/site_perl/5.21.7/Log/Any/Adapter/Core.pm line 34.
Redundant argument in sprintf at /opt/perl-5.21.7/lib/site_perl/5.21.7/Log/Any/Adapter/Core.pm line 34.
Redundant argument in sprintf at /opt/perl-5.21.7/lib/site_perl/5.21.7/Log/Any/Adapter/Core.pm line 34.
Redundant argument in sprintf at /opt/perl-5.21.7/lib/site_perl/5.21.7/Log/Any/Adapter/Core.pm line 34.
Redundant argument in sprintf at /opt/perl-5.21.7/lib/site_perl/5.21.7/Log/Any/Adapter/Core.pm line 34.
Redundant argument in sprintf at /opt/perl-5.21.7/lib/site_perl/5.21.7/Log/Any/Adapter/Core.pm line 34.
Redundant argument in sprintf at /opt/perl-5.21.7/lib/site_perl/5.21.7/Log/Any/Adapter/Core.pm line 34.
Redundant argument in sprintf at /opt/perl-5.21.7/lib/site_perl/5.21.7/Log/Any/Adapter/Core.pm line 34.
Redundant argument in sprintf at /opt/perl-5.21.7/lib/site_perl/5.21.7/Log/Any/Adapter/Core.pm line 34.
Redundant argument in sprintf at /opt/perl-5.21.7/lib/site_perl/5.21.7/Log/Any/Adapter/Core.pm line 34.
Redundant argument in sprintf at /opt/perl-5.21.7/lib/site_perl/5.21.7/Log/Any/Adapter/Core.pm line 34.
Redundant argument in sprintf at /opt/perl-5.21.7/lib/site_perl/5.21.7/Log/Any/Adapter/Core.pm line 34.
Redundant argument in sprintf at /opt/perl-5.21.7/lib/site_perl/5.21.7/Log/Any/Adapter/Core.pm line 34.
Redundant argument in sprintf at /opt/perl-5.21.7/lib/site_perl/5.21.7/Log/Any/Adapter/Core.pm line 34.
Redundant argument in sprintf at /opt/perl-5.21.7/lib/site_perl/5.21.7/Log/Any/Adapter/Core.pm line 34.
Redundant argument in sprintf at /opt/perl-5.21.7/lib/site_perl/5.21.7/Log/Any/Adapter/Core.pm line 34.
Redundant argument in sprintf at /opt/perl-5.21.7/lib/site_perl/5.21.7/Log/Any/Adapter/Core.pm line 34.
Redundant argument in sprintf at /opt/perl-5.21.7/lib/site_perl/5.21.7/Log/Any/Adapter/Core.pm line 34.
Redundant argument in sprintf at /opt/perl-5.21.7/lib/site_perl/5.21.7/Log/Any/Adapter/Core.pm line 34.
Redundant argument in sprintf at /opt/perl-5.21.7/lib/site_perl/5.21.7/Log/Any/Adapter/Core.pm line 34.
Redundant argument in sprintf at /opt/perl-5.21.7/lib/site_perl/5.21.7/Log/Any/Adapter/Core.pm line 34.
Redundant argument in sprintf at /opt/perl-5.21.7/lib/site_perl/5.21.7/Log/Any/Adapter/Core.pm line 34.
Redundant argument in sprintf at /opt/perl-5.21.7/lib/site_perl/5.21.7/Log/Any/Adapter/Core.pm line 34.
Redundant argument in sprintf at /opt/perl-5.21.7/lib/site_perl/5.21.7/Log/Any/Adapter/Core.pm line 34.
Redundant argument in sprintf at /opt/perl-5.21.7/lib/site_perl/5.21.7/Log/Any/Adapter/Core.pm line 34.
Redundant argument in sprintf at /opt/perl-5.21.7/lib/site_perl/5.21.7/Log/Any/Adapter/Core.pm line 34.
Redundant argument in sprintf at /opt/perl-5.21.7/lib/site_perl/5.21.7/Log/Any/Adapter/Core.pm line 34.
Redundant argument in sprintf at /opt/perl-5.21.7/lib/site_perl/5.21.7/Log/Any/Adapter/Core.pm line 34.
Redundant argument in sprintf at /opt/perl-5.21.7/lib/site_perl/5.21.7/Log/Any/Adapter/Core.pm line 34.
Redundant argument in sprintf at /opt/perl-5.21.7/lib/site_perl/5.21.7/Log/Any/Adapter/Core.pm line 34.
Redundant argument in sprintf at /opt/perl-5.21.7/lib/site_perl/5.21.7/Log/Any/Adapter/Core.pm line 34.
Redundant argument in sprintf at /opt/perl-5.21.7/lib/site_perl/5.21.7/Log/Any/Adapter/Core.pm line 34.
Redundant argument in sprintf at /opt/perl-5.21.7/lib/site_perl/5.21.7/Log/Any/Adapter/Core.pm line 34.
Redundant argument in sprintf at /opt/perl-5.21.7/lib/site_perl/5.21.7/Log/Any/Adapter/Core.pm line 34.
Redundant argument in sprintf at /opt/perl-5.21.7/lib/site_perl/5.21.7/Log/Any/Adapter/Core.pm line 34.
Redundant argument in sprintf at /opt/perl-5.21.7/lib/site_perl/5.21.7/Log/Any/Adapter/Core.pm line 34.
Redundant argument in sprintf at /opt/perl-5.21.7/lib/site_perl/5.21.7/Log/Any/Adapter/Core.pm line 34.
Redundant argument in sprintf at /opt/perl-5.21.7/lib/site_perl/5.21.7/Log/Any/Adapter/Core.pm line 34.
Redundant argument in sprintf at /opt/perl-5.21.7/lib/site_perl/5.21.7/Log/Any/Adapter/Core.pm line 34.
Redundant argument in sprintf at /opt/perl-5.21.7/lib/site_perl/5.21.7/Log/Any/Adapter/Core.pm line 34.
Redundant argument in sprintf at /opt/perl-5.21.7/lib/site_perl/5.21.7/Log/Any/Adapter/Core.pm line 34.
Redundant argument in sprintf at /opt/perl-5.21.7/lib/site_perl/5.21.7/Log/Any/Adapter/Core.pm line 34.
Redundant argument in sprintf at /opt/perl-5.21.7/lib/site_perl/5.21.7/Log/Any/Adapter/Core.pm line 34.
Redundant argument in sprintf at /opt/perl-5.21.7/lib/site_perl/5.21.7/Log/Any/Adapter/Core.pm line 34.
Redundant argument in sprintf at /opt/perl-5.21.7/lib/site_perl/5.21.7/Log/Any/Adapter/Core.pm line 34.
Redundant argument in sprintf at /opt/perl-5.21.7/lib/site_perl/5.21.7/Log/Any/Adapter/Core.pm line 34.
Redundant argument in sprintf at /opt/perl-5.21.7/lib/site_perl/5.21.7/Log/Any/Adapter/Core.pm line 34.
Redundant argument in sprintf at /opt/perl-5.21.7/lib/site_perl/5.21.7/Log/Any/Adapter/Core.pm line 34.
Redundant argument in sprintf at /opt/perl-5.21.7/lib/site_perl/5.21.7/Log/Any/Adapter/Core.pm line 34.
Redundant argument in sprintf at /opt/perl-5.21.7/lib/site_perl/5.21.7/Log/Any/Adapter/Core.pm line 34.
Redundant argument in sprintf at /opt/perl-5.21.7/lib/site_perl/5.21.7/Log/Any/Adapter/Core.pm line 34.
Redundant argument in sprintf at /opt/perl-5.21.7/lib/site_perl/5.21.7/Log/Any/Adapter/Core.pm line 34.
Redundant argument in sprintf at /opt/perl-5.21.7/lib/site_perl/5.21.7/Log/Any/Adapter/Core.pm line 34.
Redundant argument in sprintf at /opt/perl-5.21.7/lib/site_perl/5.21.7/Log/Any/Adapter/Core.pm line 34.
Redundant argument in sprintf at /opt/perl-5.21.7/lib/site_perl/5.21.7/Log/Any/Adapter/Core.pm line 34.
Redundant argument in sprintf at /opt/perl-5.21.7/lib/site_perl/5.21.7/Log/Any/Adapter/Core.pm line 34.
Redundant argument in sprintf at /opt/perl-5.21.7/lib/site_perl/5.21.7/Log/Any/Adapter/Core.pm line 34.
Redundant argument in sprintf at /opt/perl-5.21.7/lib/site_perl/5.21.7/Log/Any/Adapter/Core.pm line 34.
Redundant argument in sprintf at /opt/perl-5.21.7/lib/site_perl/5.21.7/Log/Any/Adapter/Core.pm line 34.
Redundant argument in sprintf at /opt/perl-5.21.7/lib/site_perl/5.21.7/Log/Any/Adapter/Core.pm line 34.
Redundant argument in sprintf at /opt/perl-5.21.7/lib/site_perl/5.21.7/Log/Any/Adapter/Core.pm line 34.
Redundant argument in sprintf at /opt/perl-5.21.7/lib/site_perl/5.21.7/Log/Any/Adapter/Core.pm line 34.
Redundant argument in sprintf at /opt/perl-5.21.7/lib/site_perl/5.21.7/Log/Any/Adapter/Core.pm line 34.
Redundant argument in sprintf at /opt/perl-5.21.7/lib/site_perl/5.21.7/Log/Any/Adapter/Core.pm line 34.
Redundant argument in sprintf at /opt/perl-5.21.7/lib/site_perl/5.21.7/Log/Any/Adapter/Core.pm line 34.
Redundant argument in sprintf at /opt/perl-5.21.7/lib/site_perl/5.21.7/Log/Any/Adapter/Core.pm line 34.
Redundant argument in sprintf at /opt/perl-5.21.7/lib/site_perl/5.21.7/Log/Any/Adapter/Core.pm line 34.
Redundant argument in sprintf at /opt/perl-5.21.7/lib/site_perl/5.21.7/Log/Any/Adapter/Core.pm line 34.
Redundant argument in sprintf at /opt/perl-5.21.7/lib/site_perl/5.21.7/Log/Any/Adapter/Core.pm line 34.
Redundant argument in sprintf at /opt/perl-5.21.7/lib/site_perl/5.21.7/Log/Any/Adapter/Core.pm line 34.
Redundant argument in sprintf at /opt/perl-5.21.7/lib/site_perl/5.21.7/Log/Any/Adapter/Core.pm line 34.
Redundant argument in sprintf at /opt/perl-5.21.7/lib/site_perl/5.21.7/Log/Any/Adapter/Core.pm line 34.
Redundant argument in sprintf at /opt/perl-5.21.7/lib/site_perl/5.21.7/Log/Any/Adapter/Core.pm line 34.
Redundant argument in sprintf at /opt/perl-5.21.7/lib/site_perl/5.21.7/Log/Any/Adapter/Core.pm line 34.
Redundant argument in sprintf at /opt/perl-5.21.7/lib/site_perl/5.21.7/Log/Any/Adapter/Core.pm line 34.
Redundant argument in sprintf at /opt/perl-5.21.7/lib/site_perl/5.21.7/Log/Any/Adapter/Core.pm line 34.
Redundant argument in sprintf at /opt/perl-5.21.7/lib/site_perl/5.21.7/Log/Any/Adapter/Core.pm line 34.
Redundant argument in sprintf at /opt/perl-5.21.7/lib/site_perl/5.21.7/Log/Any/Adapter/Core.pm line 34.
Redundant argument in sprintf at /opt/perl-5.21.7/lib/site_perl/5.21.7/Log/Any/Adapter/Core.pm line 34.
Redundant argument in sprintf at /opt/perl-5.21.7/lib/site_perl/5.21.7/Log/Any/Adapter/Core.pm line 34.
Redundant argument in sprintf at /opt/perl-5.21.7/lib/site_perl/5.21.7/Log/Any/Adapter/Core.pm line 34.
Redundant argument in sprintf at /opt/perl-5.21.7/lib/site_perl/5.21.7/Log/Any/Adapter/Core.pm line 34.
Redundant argument in sprintf at /opt/perl-5.21.7/lib/site_perl/5.21.7/Log/Any/Adapter/Core.pm line 34.
Redundant argument in sprintf at /opt/perl-5.21.7/lib/site_perl/5.21.7/Log/Any/Adapter/Core.pm line 34.
Redundant argument in sprintf at /opt/perl-5.21.7/lib/site_perl/5.21.7/Log/Any/Adapter/Core.pm line 34.
Redundant argument in sprintf at /opt/perl-5.21.7/lib/site_perl/5.21.7/Log/Any/Adapter/Core.pm line 34.
Redundant argument in sprintf at /opt/perl-5.21.7/lib/site_perl/5.21.7/Log/Any/Adapter/Core.pm line 34.
Redundant argument in sprintf at /opt/perl-5.21.7/lib/site_perl/5.21.7/Log/Any/Adapter/Core.pm line 34.
Redundant argument in sprintf at /opt/perl-5.21.7/lib/site_perl/5.21.7/Log/Any/Adapter/Core.pm line 34.
Redundant argument in sprintf at /opt/perl-5.21.7/lib/site_perl/5.21.7/Log/Any/Adapter/Core.pm line 34.
Redundant argument in sprintf at /opt/perl-5.21.7/lib/site_perl/5.21.7/Log/Any/Adapter/Core.pm line 34.
Redundant argument in sprintf at /opt/perl-5.21.7/lib/site_perl/5.21.7/Log/Any/Adapter/Core.pm line 34.
Redundant argument in sprintf at /opt/perl-5.21.7/lib/site_perl/5.21.7/Log/Any/Adapter/Core.pm line 34.
Redundant argument in sprintf at /opt/perl-5.21.7/lib/site_perl/5.21.7/Log/Any/Adapter/Core.pm line 34.
Redundant argument in sprintf at /opt/perl-5.21.7/lib/site_perl/5.21.7/Log/Any/Adapter/Core.pm line 34.
Redundant argument in sprintf at /opt/perl-5.21.7/lib/site_perl/5.21.7/Log/Any/Adapter/Core.pm line 34.
Redundant argument in sprintf at /opt/perl-5.21.7/lib/site_perl/5.21.7/Log/Any/Adapter/Core.pm line 34.
Redundant argument in sprintf at /opt/perl-5.21.7/lib/site_perl/5.21.7/Log/Any/Adapter/Core.pm line 34.
Redundant argument in sprintf at /opt/perl-5.21.7/lib/site_perl/5.21.7/Log/Any/Adapter/Core.pm line 34.
Redundant argument in sprintf at /opt/perl-5.21.7/lib/site_perl/5.21.7/Log/Any/Adapter/Core.pm line 34.
Redundant argument in sprintf at /opt/perl-5.21.7/lib/site_perl/5.21.7/Log/Any/Adapter/Core.pm line 34.
Redundant argument in sprintf at /opt/perl-5.21.7/lib/site_perl/5.21.7/Log/Any/Adapter/Core.pm line 34.
Redundant argument in sprintf at /opt/perl-5.21.7/lib/site_perl/5.21.7/Log/Any/Adapter/Core.pm line 34.
Redundant argument in sprintf at /opt/perl-5.21.7/lib/site_perl/5.21.7/Log/Any/Adapter/Core.pm line 34.
Redundant argument in sprintf at /opt/perl-5.21.7/lib/site_perl/5.21.7/Log/Any/Adapter/Core.pm line 34.
Redundant argument in sprintf at /opt/perl-5.21.7/lib/site_perl/5.21.7/Log/Any/Adapter/Core.pm line 34.
Redundant argument in sprintf at /opt/perl-5.21.7/lib/site_perl/5.21.7/Log/Any/Adapter/Core.pm line 34.
Redundant argument in sprintf at /opt/perl-5.21.7/lib/site_perl/5.21.7/Log/Any/Adapter/Core.pm line 34.
Redundant argument in sprintf at /opt/perl-5.21.7/lib/site_perl/5.21.7/Log/Any/Adapter/Core.pm line 34.
Redundant argument in sprintf at /opt/perl-5.21.7/lib/site_perl/5.21.7/Log/Any/Adapter/Core.pm line 34.
Redundant argument in sprintf at /opt/perl-5.21.7/lib/site_perl/5.21.7/Log/Any/Adapter/Core.pm line 34.
Redundant argument in sprintf at /opt/perl-5.21.7/lib/site_perl/5.21.7/Log/Any/Adapter/Core.pm line 34.
Redundant argument in sprintf at /opt/perl-5.21.7/lib/site_perl/5.21.7/Log/Any/Adapter/Core.pm line 34.
Redundant argument in sprintf at /opt/perl-5.21.7/lib/site_perl/5.21.7/Log/Any/Adapter/Core.pm line 34.
Redundant argument in sprintf at /opt/perl-5.21.7/lib/site_perl/5.21.7/Log/Any/Adapter/Core.pm line 34.
Redundant argument in sprintf at /opt/perl-5.21.7/lib/site_perl/5.21.7/Log/Any/Adapter/Core.pm line 34.
Redundant argument in sprintf at /opt/perl-5.21.7/lib/site_perl/5.21.7/Log/Any/Adapter/Core.pm line 34.
Redundant argument in sprintf at /opt/perl-5.21.7/lib/site_perl/5.21.7/Log/Any/Adapter/Core.pm line 34.
Redundant argument in sprintf at /opt/perl-5.21.7/lib/site_perl/5.21.7/Log/Any/Adapter/Core.pm line 34.
Redundant argument in sprintf at /opt/perl-5.21.7/lib/site_perl/5.21.7/Log/Any/Adapter/Core.pm line 34.
Redundant argument in sprintf at /opt/perl-5.21.7/lib/site_perl/5.21.7/Log/Any/Adapter/Core.pm line 34.
Redundant argument in sprintf at /opt/perl-5.21.7/lib/site_perl/5.21.7/Log/Any/Adapter/Core.pm line 34.
Redundant argument in sprintf at /opt/perl-5.21.7/lib/site_perl/5.21.7/Log/Any/Adapter/Core.pm line 34.
Redundant argument in sprintf at /opt/perl-5.21.7/lib/site_perl/5.21.7/Log/Any/Adapter/Core.pm line 34.
Redundant argument in sprintf at /opt/perl-5.21.7/lib/site_perl/5.21.7/Log/Any/Adapter/Core.pm line 34.
Redundant argument in sprintf at /opt/perl-5.21.7/lib/site_perl/5.21.7/Log/Any/Adapter/Core.pm line 34.
Redundant argument in sprintf at /opt/perl-5.21.7/lib/site_perl/5.21.7/Log/Any/Adapter/Core.pm line 34.
Redundant argument in sprintf at /opt/perl-5.21.7/lib/site_perl/5.21.7/Log/Any/Adapter/Core.pm line 34.
Redundant argument in sprintf at /opt/perl-5.21.7/lib/site_perl/5.21.7/Log/Any/Adapter/Core.pm line 34.
Redundant argument in sprintf at /opt/perl-5.21.7/lib/site_perl/5.21.7/Log/Any/Adapter/Core.pm line 34.
Redundant argument in sprintf at /opt/perl-5.21.7/lib/site_perl/5.21.7/Log/Any/Adapter/Core.pm line 34.
Redundant argument in sprintf at /opt/perl-5.21.7/lib/site_perl/5.21.7/Log/Any/Adapter/Core.pm line 34.
Redundant argument in sprintf at /opt/perl-5.21.7/lib/site_perl/5.21.7/Log/Any/Adapter/Core.pm line 34.
Redundant argument in sprintf at /opt/perl-5.21.7/lib/site_perl/5.21.7/Log/Any/Adapter/Core.pm line 34.
Redundant argument in sprintf at /opt/perl-5.21.7/lib/site_perl/5.21.7/Log/Any/Adapter/Core.pm line 34.
Redundant argument in sprintf at /opt/perl-5.21.7/lib/site_perl/5.21.7/Log/Any/Adapter/Core.pm line 34.
Redundant argument in sprintf at /opt/perl-5.21.7/lib/site_perl/5.21.7/Log/Any/Adapter/Core.pm line 34.
Redundant argument in sprintf at /opt/perl-5.21.7/lib/site_perl/5.21.7/Log/Any/Adapter/Core.pm line 34.
Redundant argument in sprintf at /opt/perl-5.21.7/lib/site_perl/5.21.7/Log/Any/Adapter/Core.pm line 34.
Redundant argument in sprintf at /opt/perl-5.21.7/lib/site_perl/5.21.7/Log/Any/Adapter/Core.pm line 34.
Redundant argument in sprintf at /opt/perl-5.21.7/lib/site_perl/5.21.7/Log/Any/Adapter/Core.pm line 34.
Redundant argument in sprintf at /opt/perl-5.21.7/lib/site_perl/5.21.7/Log/Any/Adapter/Core.pm line 34.
Redundant argument in sprintf at /opt/perl-5.21.7/lib/site_perl/5.21.7/Log/Any/Adapter/Core.pm line 34.
Redundant argument in sprintf at /opt/perl-5.21.7/lib/site_perl/5.21.7/Log/Any/Adapter/Core.pm line 34.
Redundant argument in sprintf at /opt/perl-5.21.7/lib/site_perl/5.21.7/Log/Any/Adapter/Core.pm line 34.
Redundant argument in sprintf at /opt/perl-5.21.7/lib/site_perl/5.21.7/Log/Any/Adapter/Core.pm line 34.
Redundant argument in sprintf at /opt/perl-5.21.7/lib/site_perl/5.21.7/Log/Any/Adapter/Core.pm line 34.
Redundant argument in sprintf at /opt/perl-5.21.7/lib/site_perl/5.21.7/Log/Any/Adapter/Core.pm line 34.
Redundant argument in sprintf at /opt/perl-5.21.7/lib/site_perl/5.21.7/Log/Any/Adapter/Core.pm line 34.
Redundant argument in sprintf at /opt/perl-5.21.7/lib/site_perl/5.21.7/Log/Any/Adapter/Core.pm line 34.
t/IronCache/cache_policy2.t .. ok
# Testing IO::Iron::IronCache, Perl 5.021007, /opt/perl-5.21.7/bin/perl5.21.7
t/IronCache/load.t ........... ok
# Testing IO::Iron::IronMQ 0.11, Perl 5.021007, /opt/perl-5.21.7/bin/perl5.21.7
t/IronMQ/load.t .............. ok
# Testing IO::Iron::IronWorker 0.11, Perl 5.021007, /opt/perl-5.21.7/bin/perl5.21.7
t/IronWorker/load.t .......... ok
All tests successful.
Files=7, Tests=92,  1 wallclock secs ( 0.04 usr  0.05 sys +  0.84 cusr  0.23 csys =  1.16 CPU)
Result: PASS

------------------------------
PREREQUISITES
------------------------------

Prerequisite modules loaded:

requires:

    Module             Need Have    
    ------------------ ---- --------
    Carp               0    1.3301  
    Carp::Assert       0    0.21    
    Carp::Assert::More 0    1.14    
    constant           0    1.32    
    Data::Dumper       0    2.155   
    Data::UUID         0    1.220   
    English            0    1.09    
    Exception::Class   0    1.39    
    Exporter           0    5.70    
    File::HomeDir      0    1.00    
    File::Slurp        0    9999.19 
    File::Spec         0    3.47    
    Hash::Util         0.06 0.18    
    JSON::MaybeXS      0    1.003003
    Log::Any           0    0.15    
    Params::Validate   0    1.13    
    parent             0    0.228   
    REST::Client       0    272     
    Scalar::Util       0    1.41    
    strict             0    1.09    
    Try::Tiny          0    0.22    
    URI::Escape        0    3.31    
    warnings           0    1.29    

build_requires:

    Module             Need Have    
    ------------------ ---- --------
    File::Copy         0    2.30    
    File::Remove       0    1.52    
    lib                0    0.63    
    Log::Any::Test     0    0.15    
    Test::Exception    0    0.35    
    Test::More         0    1.001011


------------------------------
ENVIRONMENT AND OTHER CONTEXT
------------------------------

Environment variables:

    DBIC_NO_WARN_BAD_PERL = 1
    LANG = C
    LC_ALL = de_DE.UTF-8
    PATH = /usr/local/bin:/usr/bin:/bin:/usr/local/sbin:/usr/sbin:/sbin:/home/eserte/bin/linux-gnu:/home/eserte/bin/sh:/home/eserte/bin:/usr/games:/home/eserte/devel:/home/eserte/src/srezic-misc/scripts
    PERL5LIB = 
    PERL5OPT = 
    PERL5_CPANPLUS_IS_RUNNING = 6673
    PERL5_CPAN_IS_RUNNING = 6673
    PERL5_CPAN_IS_RUNNING_IN_RECURSION = 13003,6673
    PERLDOC = -MPod::Perldoc::ToTextOverstrike
    PERL_BATCH = yes
    PERL_CPAN_REPORTER_CONFIG = /var/tmp/cpansmoker-1001/7FRn8RaZ5S_config.ini
    PERL_EXTUTILS_AUTOINSTALL = --defaultdeps
    PERL_HTML_DISPLAY_CLASS = HTML::Display::Mozilla
    PERL_PARALLEL_SMOKER = yes
    SHELL = /bin/zsh
    TERM = screen
    TMPDIR = /var/tmp/cpansmoker-1001

Perl special variables (and OS-specific diagnostics, for MSWin32):

    $^X = /opt/perl-5.21.7/bin/perl5.21.7
    $UID/$EUID = 1001 / 1001
    $GID = 1001 109 1001
    $EGID = 1001 109 1001

Perl module toolchain versions installed:

    Module              Have    
    ------------------- --------
    CPAN                2.05    
    CPAN::Meta          2.143240
    Cwd                 3.47    
    ExtUtils::CBuilder  0.280221
    ExtUtils::Command   1.18    
    ExtUtils::Install   2.04    
    ExtUtils::MakeMaker 7.04    
    ExtUtils::Manifest  1.69    
    ExtUtils::ParseXS   3.24    
    File::Spec          3.47    
    JSON                2.90    
    JSON::PP            2.27300 
    Module::Build       0.4210  
    Module::Signature   n/a     
    Parse::CPAN::Meta   1.4414  
    Test::Harness       3.34    
    Test::More          1.001011
    YAML                1.13    
    YAML::Syck          1.29    
    version             0.9909  


--

Summary of my perl5 (revision 5 version 21 subversion 7) configuration:
   
  Platform:
    osname=linux, osvers=3.2.0-4-amd64, archname=x86_64-linux
    uname='linux eserte 3.2.0-4-amd64 #1 smp debian 3.2.63-2+deb7u2 x86_64 gnulinux '
    config_args='-ds -e -Dprefix=/opt/perl-5.21.7 -Dusedevel -Dusemallocwrap=no'
    hint=recommended, useposix=true, d_sigaction=define
    useithreads=undef, usemultiplicity=undef
    use64bitint=define, use64bitall=define, uselongdouble=undef
    usemymalloc=n, bincompat5005=undef
  Compiler:
    cc='cc', ccflags ='-fwrapv -fno-strict-aliasing -pipe -fstack-protector -I/usr/local/include -D_LARGEFILE_SOURCE -D_FILE_OFFSET_BITS=64 -D_FORTIFY_SOURCE=2',
    optimize='-O2',
    cppflags='-fwrapv -fno-strict-aliasing -pipe -fstack-protector -I/usr/local/include'
    ccversion='', gccversion='4.7.2', gccosandvers=''
    intsize=4, longsize=8, ptrsize=8, doublesize=8, byteorder=12345678, doublekind=3
    d_longlong=define, longlongsize=8, d_longdbl=define, longdblsize=16, longdblkind=3
    ivtype='long', ivsize=8, nvtype='double', nvsize=8, Off_t='off_t', lseeksize=8
    alignbytes=8, prototype=define
  Linker and Libraries:
    ld='cc', ldflags =' -fstack-protector -L/usr/local/lib'
    libpth=/usr/local/lib /usr/lib/gcc/x86_64-linux-gnu/4.7/include-fixed /usr/include/x86_64-linux-gnu /usr/lib /lib/x86_64-linux-gnu /lib/../lib /usr/lib/x86_64-linux-gnu /usr/lib/../lib /lib
    libs=-lnsl -ldb -ldl -lm -lcrypt -lutil -lc -lpthread
    perllibs=-lnsl -ldl -lm -lcrypt -lutil -lc -lpthread
    libc=libc-2.13.so, so=so, useshrplib=false, libperl=libperl.a
    gnulibc_version='2.13'
  Dynamic Linking:
    dlsrc=dl_dlopen.xs, dlext=so, d_dlsymun=undef, ccdlflags='-Wl,-E'
    cccdlflags='-fPIC', lddlflags='-shared -O2 -L/usr/local/lib -fstack-protector'


Characteristics of this binary (from libperl): 
  Compile-time options: HAS_TIMES PERLIO_LAYERS PERL_DONT_CREATE_GVSV
                        PERL_HASH_FUNC_ONE_AT_A_TIME_HARD
                        PERL_NEW_COPY_ON_WRITE PERL_PRESERVE_IVUV
                        PERL_USE_DEVEL USE_64_BIT_ALL USE_64_BIT_INT
                        USE_LARGE_FILES USE_LOCALE USE_LOCALE_COLLATE
                        USE_LOCALE_CTYPE USE_LOCALE_NUMERIC USE_LOCALE_TIME
                        USE_PERLIO USE_PERL_ATOF
  Built under linux
  Compiled at Dec 20 2014 19:00:46
  %ENV:
    PERL5LIB=""
    PERL5OPT=""
    PERL5_CPANPLUS_IS_RUNNING="6673"
    PERL5_CPAN_IS_RUNNING="6673"
    PERL5_CPAN_IS_RUNNING_IN_RECURSION="13003,6673"
    PERLDOC="-MPod::Perldoc::ToTextOverstrike"
    PERL_BATCH="yes"
    PERL_CPAN_REPORTER_CONFIG="/var/tmp/cpansmoker-1001/7FRn8RaZ5S_config.ini"
    PERL_EXTUTILS_AUTOINSTALL="--defaultdeps"
    PERL_HTML_DISPLAY_CLASS="HTML::Display::Mozilla"
    PERL_PARALLEL_SMOKER="yes"
  @INC:
    /opt/perl-5.21.7/lib/site_perl/5.21.7/x86_64-linux
    /opt/perl-5.21.7/lib/site_perl/5.21.7
    /opt/perl-5.21.7/lib/5.21.7/x86_64-linux
    /opt/perl-5.21.7/lib/5.21.7
    .