Report for MozRepl-0.06

Back
From: metabase:user:313dc9fe-2aae-11df-837a-5e0a49663a4f
Subject: PASS MozRepl-0.06 v5.12.2 GNU/Linux
Date: 2010-10-14T16:37:15Z

This distribution has been tested as part of the CPAN Testers
project, supporting the Perl programming language.  See
http://wiki.cpantesters.org/ for more information or email
questions to cpan-testers-discuss@perl.org


--
Dear Toru Yamaguchi,

This is a computer-generated report for MozRepl-0.06
on perl 5.12.2, created by CPAN-Reporter-1.1711.

Thank you for uploading your work to CPAN.  Congratulations!
All tests were successful.

Sections of this report:

    * Tester comments
    * Program output
    * Prerequisites
    * Environment and other context

------------------------------
TESTER COMMENTS
------------------------------

Additional comments from tester:

this report is from an automated smoke testing program
and was not reviewed by a human for accuracy

------------------------------
PROGRAM OUTPUT
------------------------------

Output from '/usr/bin/make test':

/home/perl5122/perl/bin/perl "-Iinc" Makefile.PL --config= --installdeps=Class::Accessor::Fast,0,Class::Data::Inheritable,0,Data::Dump,0,Data::JavaScript::Anon,0,Module::Pluggable::Fast,0,Net::Telnet,0,Template,0,Template::Provider::FromDATA,0,Text::SimpleTable,0,UNIVERSAL::require,0
PERL_DL_NONLAZY=1 /home/perl5122/perl/bin/perl "-MExtUtils::Command::MM" "-e" "test_harness(0, 'inc', 'blib/lib', 'blib/arch')" t/00-load.t t/10-plugin-repl-enter.t t/11-plugin-repl-search.t t/12-plugin-repl-inspect.t t/13-plugin-repl-load.t t/14-plugin-repl-rename.t t/15-plugin-repl-print.t t/16-plugin-repl-home.t t/17-plugin-repl-back.t t/18-plugin-repl-util-help_url_for.t t/19-plugin-repl-util-doc_for.t t/20-plugin-json.t t/pod-coverage.t t/pod.t
# Testing MozRepl 0.06
t/00-load.t ........................... ok
[DEBUG] MozRepl logging enabled
[DEBUG] 
---- Client arguments ----
.----------------------+------------------------------------------.
| client_arg_name      | client_arg_value                         |
+----------------------+------------------------------------------+
| host                 | localhost                                |
| port                 | 4242                                     |
| timeout              | 10                                       |
| extra_client_args    | {}                                       |
'----------------------+------------------------------------------'
t/10-plugin-repl-enter.t .............. ok
[DEBUG] MozRepl logging enabled
[DEBUG] 
---- Client arguments ----
.----------------------+------------------------------------------.
| client_arg_name      | client_arg_value                         |
+----------------------+------------------------------------------+
| host                 | localhost                                |
| port                 | 4242                                     |
| timeout              | 10                                       |
| extra_client_args    | {}                                       |
'----------------------+------------------------------------------'
t/11-plugin-repl-search.t ............. ok
[DEBUG] MozRepl logging enabled
[DEBUG] 
---- Client arguments ----
.----------------------+------------------------------------------.
| client_arg_name      | client_arg_value                         |
+----------------------+------------------------------------------+
| host                 | localhost                                |
| port                 | 4242                                     |
| timeout              | 10                                       |
| extra_client_args    | {}                                       |
'----------------------+------------------------------------------'
t/12-plugin-repl-inspect.t ............ ok
[DEBUG] MozRepl logging enabled
[DEBUG] 
---- Client arguments ----
.----------------------+------------------------------------------.
| client_arg_name      | client_arg_value                         |
+----------------------+------------------------------------------+
| host                 | localhost                                |
| port                 | 4242                                     |
| timeout              | 10                                       |
| extra_client_args    | {}                                       |
'----------------------+------------------------------------------'
t/13-plugin-repl-load.t ............... ok
[DEBUG] MozRepl logging enabled
[DEBUG] 
---- Client arguments ----
.----------------------+------------------------------------------.
| client_arg_name      | client_arg_value                         |
+----------------------+------------------------------------------+
| host                 | localhost                                |
| port                 | 4242                                     |
| timeout              | 10                                       |
| extra_client_args    | {}                                       |
'----------------------+------------------------------------------'
t/14-plugin-repl-rename.t ............. ok
[DEBUG] MozRepl logging enabled
[DEBUG] 
---- Client arguments ----
.----------------------+------------------------------------------.
| client_arg_name      | client_arg_value                         |
+----------------------+------------------------------------------+
| host                 | localhost                                |
| port                 | 4242                                     |
| timeout              | 10                                       |
| extra_client_args    | {}                                       |
'----------------------+------------------------------------------'
t/15-plugin-repl-print.t .............. ok
[DEBUG] MozRepl logging enabled
[DEBUG] 
---- Client arguments ----
.----------------------+------------------------------------------.
| client_arg_name      | client_arg_value                         |
+----------------------+------------------------------------------+
| host                 | localhost                                |
| port                 | 4242                                     |
| timeout              | 10                                       |
| extra_client_args    | {}                                       |
'----------------------+------------------------------------------'
t/16-plugin-repl-home.t ............... ok
[DEBUG] MozRepl logging enabled
[DEBUG] 
---- Client arguments ----
.----------------------+------------------------------------------.
| client_arg_name      | client_arg_value                         |
+----------------------+------------------------------------------+
| host                 | localhost                                |
| port                 | 4242                                     |
| timeout              | 10                                       |
| extra_client_args    | {}                                       |
'----------------------+------------------------------------------'
t/17-plugin-repl-back.t ............... ok
[DEBUG] MozRepl logging enabled
[DEBUG] 
---- Client arguments ----
.----------------------+------------------------------------------.
| client_arg_name      | client_arg_value                         |
+----------------------+------------------------------------------+
| host                 | localhost                                |
| port                 | 4242                                     |
| timeout              | 10                                       |
| extra_client_args    | {}                                       |
'----------------------+------------------------------------------'
t/18-plugin-repl-util-help_url_for.t .. ok
[DEBUG] MozRepl logging enabled
[DEBUG] 
---- Client arguments ----
.----------------------+------------------------------------------.
| client_arg_name      | client_arg_value                         |
+----------------------+------------------------------------------+
| host                 | localhost                                |
| port                 | 4242                                     |
| timeout              | 10                                       |
| extra_client_args    | {}                                       |
'----------------------+------------------------------------------'
t/19-plugin-repl-util-doc_for.t ....... ok
[DEBUG] MozRepl logging enabled
[DEBUG] 
---- Client arguments ----
.----------------------+------------------------------------------.
| client_arg_name      | client_arg_value                         |
+----------------------+------------------------------------------+
| host                 | localhost                                |
| port                 | 4242                                     |
| timeout              | 10                                       |
| extra_client_args    | {}                                       |
'----------------------+------------------------------------------'
t/20-plugin-json.t .................... ok
t/pod-coverage.t ...................... ok
t/pod.t ............................... ok
All tests successful.
Files=14, Tests=74,  5 wallclock secs ( 0.08 usr  0.05 sys +  1.93 cusr  0.55 csys =  2.61 CPU)
Result: PASS

------------------------------
PREREQUISITES
------------------------------

Prerequisite modules loaded:

requires:

    Module                       Need Have   
    ---------------------------- ---- -------
    Carp::Clan                   0    6.04   
    Class::Accessor::Fast        0    0.34   
    Class::Data::Inheritable     0    0.08   
    Data::Dump                   0    1.17   
    Data::JavaScript::Anon       0    1.03   
    File::Spec                   0    3.31_01
    Module::Pluggable::Fast      0    0.19   
    Net::Telnet                  0    3.03   
    Template                     0    2.22   
    Template::Provider::FromDATA 0    0.11   
    Text::SimpleTable            0    2.03   
    UNIVERSAL::require           0    0.13   
    URI                          0    1.54   


------------------------------
ENVIRONMENT AND OTHER CONTEXT
------------------------------

Environment variables:

    AUTOMATED_TESTING = 1
    LANG = en_US.UTF-8
    PATH = /usr/local/sbin:/usr/local/bin:/usr/sbin:/usr/bin:/sbin:/bin:/usr/games
    PERL5LIB = /home/perl5122/.cpan/build/Net-Telnet-3.03-mIxcwE/blib/arch:/home/perl5122/.cpan/build/Net-Telnet-3.03-mIxcwE/blib/lib:/home/perl5122/.cpan/build/Data-JavaScript-Anon-1.03-64kgAd/blib/arch:/home/perl5122/.cpan/build/Data-JavaScript-Anon-1.03-64kgAd/blib/lib:/home/perl5122/.cpan/build/Class-Default-1.51-Mm0eLN/blib/arch:/home/perl5122/.cpan/build/Class-Default-1.51-Mm0eLN/blib/lib:/home/perl5122/.cpan/build/Class-Data-Inheritable-0.08-pfj2tb/blib/arch:/home/perl5122/.cpan/build/Class-Data-Inheritable-0.08-pfj2tb/blib/lib:/home/perl5122/.cpan/build/Data-Dump-1.17-oBoxtS/blib/arch:/home/perl5122/.cpan/build/Data-Dump-1.17-oBoxtS/blib/lib:/home/perl5122/.cpan/build/Text-SimpleTable-2.03-wLKh9f/blib/arch:/home/perl5122/.cpan/build/Text-SimpleTable-2.03-wLKh9f/blib/lib:/home/perl5122/.cpan/build/Template-Provider-FromDATA-0.11-xytDPE/blib/arch:/home/perl5122/.cpan/build/Template-Provider-FromDATA-0.11-xytDPE/blib/lib:/home/perl5122/.cpan/build/Template-Toolkit-2.22-9Hi1p4/blib/arch:/home/perl5122/.cpan/build/Template-Toolkit-2.22-9Hi1p4/blib/lib:/home/perl5122/.cpan/build/AppConfig-1.66-K9L2VL/blib/arch:/home/perl5122/.cpan/build/AppConfig-1.66-K9L2VL/blib/lib:/home/perl5122/.cpan/build/Class-Accessor-0.34-KfaM8z/blib/arch:/home/perl5122/.cpan/build/Class-Accessor-0.34-KfaM8z/blib/lib:/home/perl5122/.cpan/build/Module-Pluggable-Fast-0.19-duNv0A/blib/arch:/home/perl5122/.cpan/build/Module-Pluggable-Fast-0.19-duNv0A/blib/lib:/home/perl5122/.cpan/build/UNIVERSAL-require-0.13-bGBi14/blib/arch:/home/perl5122/.cpan/build/UNIVERSAL-require-0.13-bGBi14/blib/lib
    PERL5OPT = 
    PERL5_CPANPLUS_IS_RUNNING = 18354
    PERL5_CPAN_IS_RUNNING = 18354
    PERL5_CPAN_IS_RUNNING_IN_RECURSION = 10075,18354
    PERL_CR_SMOKER_CURRENT = MozRepl-RemoteObject-0.13
    PERL_EXTUTILS_AUTOINSTALL = --defaultdeps
    PERL_MM_USE_DEFAULT = 1
    SHELL = /bin/bash
    TERM = xterm

Perl special variables (and OS-specific diagnostics, for MSWin32):

    $^X = /home/perl5122/perl/bin/perl
    $UID/$EUID = 1008 / 1008
    $GID = 1008 1008
    $EGID = 1008 1008

Perl module toolchain versions installed:

    Module              Have   
    ------------------- -------
    CPAN                1.94_56
    Cwd                 3.31   
    ExtUtils::CBuilder  0.2703 
    ExtUtils::Command   1.16   
    ExtUtils::Install   1.55   
    ExtUtils::MakeMaker 6.56   
    ExtUtils::Manifest  1.57   
    ExtUtils::ParseXS   2.21   
    File::Spec          3.31_01
    Module::Build       0.3607 
    Module::Signature   n/a    
    Test::Harness       3.17   
    Test::More          0.94   
    YAML                0.71   
    YAML::Syck          1.09   
    version             0.82   


--

Summary of my perl5 (revision 5 version 12 subversion 2) configuration:
   
  Platform:
    osname=linux, osvers=2.6.32-25-generic, archname=i686-linux-thread-multi
    uname='linux st47-laptop 2.6.32-25-generic #44-ubuntu smp fri sep 17 20:26:08 utc 2010 i686 gnulinux '
    config_args=''
    hint=recommended, useposix=true, d_sigaction=define
    useithreads=define, usemultiplicity=define
    useperlio=define, d_sfio=undef, uselargefiles=define, usesocks=undef
    use64bitint=undef, use64bitall=undef, uselongdouble=undef
    usemymalloc=n, bincompat5005=undef
  Compiler:
    cc='cc', ccflags ='-D_REENTRANT -D_GNU_SOURCE -fno-strict-aliasing -pipe -fstack-protector -I/usr/local/include -D_LARGEFILE_SOURCE -D_FILE_OFFSET_BITS=64',
    optimize='-O2',
    cppflags='-D_REENTRANT -D_GNU_SOURCE -fno-strict-aliasing -pipe -fstack-protector -I/usr/local/include'
    ccversion='', gccversion='4.4.3', gccosandvers=''
    intsize=4, longsize=4, ptrsize=4, doublesize=8, byteorder=1234
    d_longlong=define, longlongsize=8, d_longdbl=define, longdblsize=12
    ivtype='long', ivsize=4, nvtype='double', nvsize=8, Off_t='off_t', lseeksize=8
    alignbytes=4, prototype=define
  Linker and Libraries:
    ld='cc', ldflags =' -fstack-protector -L/usr/local/lib'
    libpth=/usr/local/lib /lib /usr/lib /usr/lib64
    libs=-lnsl -ldl -lm -lcrypt -lutil -lpthread -lc
    perllibs=-lnsl -ldl -lm -lcrypt -lutil -lpthread -lc
    libc=/lib/libc-2.11.1.so, so=so, useshrplib=false, libperl=libperl.a
    gnulibc_version='2.11.1'
  Dynamic Linking:
    dlsrc=dl_dlopen.xs, dlext=so, d_dlsymun=undef, ccdlflags='-Wl,-E'
    cccdlflags='-fPIC', lddlflags='-shared -O2 -L/usr/local/lib -fstack-protector'


Characteristics of this binary (from libperl): 
  Compile-time options: MULTIPLICITY PERL_DONT_CREATE_GVSV
                        PERL_IMPLICIT_CONTEXT PERL_MALLOC_WRAP USE_ITHREADS
                        USE_LARGE_FILES USE_PERLIO USE_PERL_ATOF
                        USE_REENTRANT_API
  Built under linux
  Compiled at Oct  9 2010 12:54:22
  %ENV:
    PERL5LIB="/home/perl5122/.cpan/build/Net-Telnet-3.03-mIxcwE/blib/arch:/home/perl5122/.cpan/build/Net-Telnet-3.03-mIxcwE/blib/lib:/home/perl5122/.cpan/build/Data-JavaScript-Anon-1.03-64kgAd/blib/arch:/home/perl5122/.cpan/build/Data-JavaScript-Anon-1.03-64kgAd/blib/lib:/home/perl5122/.cpan/build/Class-Default-1.51-Mm0eLN/blib/arch:/home/perl5122/.cpan/build/Class-Default-1.51-Mm0eLN/blib/lib:/home/perl5122/.cpan/build/Class-Data-Inheritable-0.08-pfj2tb/blib/arch:/home/perl5122/.cpan/build/Class-Data-Inheritable-0.08-pfj2tb/blib/lib:/home/perl5122/.cpan/build/Data-Dump-1.17-oBoxtS/blib/arch:/home/perl5122/.cpan/build/Data-Dump-1.17-oBoxtS/blib/lib:/home/perl5122/.cpan/build/Text-SimpleTable-2.03-wLKh9f/blib/arch:/home/perl5122/.cpan/build/Text-SimpleTable-2.03-wLKh9f/blib/lib:/home/perl5122/.cpan/build/Template-Provider-FromDATA-0.11-xytDPE/blib/arch:/home/perl5122/.cpan/build/Template-Provider-FromDATA-0.11-xytDPE/blib/lib:/home/perl5122/.cpan/build/Template-Toolkit-2.22-9Hi1p4/blib/arch:/home/perl5122/.cpan/build/Template-Toolkit-2.22-9Hi1p4/blib/lib:/home/perl5122/.cpan/build/AppConfig-1.66-K9L2VL/blib/arch:/home/perl5122/.cpan/build/AppConfig-1.66-K9L2VL/blib/lib:/home/perl5122/.cpan/build/Class-Accessor-0.34-KfaM8z/blib/arch:/home/perl5122/.cpan/build/Class-Accessor-0.34-KfaM8z/blib/lib:/home/perl5122/.cpan/build/Module-Pluggable-Fast-0.19-duNv0A/blib/arch:/home/perl5122/.cpan/build/Module-Pluggable-Fast-0.19-duNv0A/blib/lib:/home/perl5122/.cpan/build/UNIVERSAL-require-0.13-bGBi14/blib/arch:/home/perl5122/.cpan/build/UNIVERSAL-require-0.13-bGBi14/blib/lib"
    PERL5OPT=""
    PERL5_CPANPLUS_IS_RUNNING="18354"
    PERL5_CPAN_IS_RUNNING="18354"
    PERL5_CPAN_IS_RUNNING_IN_RECURSION="10075,18354"
    PERL_CR_SMOKER_CURRENT="MozRepl-RemoteObject-0.13"
    PERL_EXTUTILS_AUTOINSTALL="--defaultdeps"
    PERL_MM_USE_DEFAULT="1"
  @INC:
    /home/perl5122/.cpan/build/Net-Telnet-3.03-mIxcwE/blib/arch
    /home/perl5122/.cpan/build/Net-Telnet-3.03-mIxcwE/blib/lib
    /home/perl5122/.cpan/build/Data-JavaScript-Anon-1.03-64kgAd/blib/arch
    /home/perl5122/.cpan/build/Data-JavaScript-Anon-1.03-64kgAd/blib/lib
    /home/perl5122/.cpan/build/Class-Default-1.51-Mm0eLN/blib/arch
    /home/perl5122/.cpan/build/Class-Default-1.51-Mm0eLN/blib/lib
    /home/perl5122/.cpan/build/Class-Data-Inheritable-0.08-pfj2tb/blib/arch
    /home/perl5122/.cpan/build/Class-Data-Inheritable-0.08-pfj2tb/blib/lib
    /home/perl5122/.cpan/build/Data-Dump-1.17-oBoxtS/blib/arch
    /home/perl5122/.cpan/build/Data-Dump-1.17-oBoxtS/blib/lib
    /home/perl5122/.cpan/build/Text-SimpleTable-2.03-wLKh9f/blib/arch
    /home/perl5122/.cpan/build/Text-SimpleTable-2.03-wLKh9f/blib/lib
    /home/perl5122/.cpan/build/Template-Provider-FromDATA-0.11-xytDPE/blib/arch
    /home/perl5122/.cpan/build/Template-Provider-FromDATA-0.11-xytDPE/blib/lib
    /home/perl5122/.cpan/build/Template-Toolkit-2.22-9Hi1p4/blib/arch
    /home/perl5122/.cpan/build/Template-Toolkit-2.22-9Hi1p4/blib/lib
    /home/perl5122/.cpan/build/AppConfig-1.66-K9L2VL/blib/arch
    /home/perl5122/.cpan/build/AppConfig-1.66-K9L2VL/blib/lib
    /home/perl5122/.cpan/build/Class-Accessor-0.34-KfaM8z/blib/arch
    /home/perl5122/.cpan/build/Class-Accessor-0.34-KfaM8z/blib/lib
    /home/perl5122/.cpan/build/Module-Pluggable-Fast-0.19-duNv0A/blib/arch
    /home/perl5122/.cpan/build/Module-Pluggable-Fast-0.19-duNv0A/blib/lib
    /home/perl5122/.cpan/build/UNIVERSAL-require-0.13-bGBi14/blib/arch
    /home/perl5122/.cpan/build/UNIVERSAL-require-0.13-bGBi14/blib/lib
    /home/perl5122/perl/lib
    /home/perl5122/perl/lib
    .