Report for MozRepl-0.06

Back
From: metabase:user:320bfe00-2aae-11df-837a-5e0a49663a4f
Subject: PASS MozRepl-0.06 v5.25.1 GNU/Linux
Date: 2016-06-15T12:18:43Z

This distribution has been tested as part of the CPAN Testers
project, supporting the Perl programming language.  See
http://wiki.cpantesters.org/ for more information or email
questions to cpan-testers-discuss@perl.org


--
Dear Toru Yamaguchi,

This is a computer-generated report for MozRepl-0.06
on perl 5.25.1, created by CPAN-Reporter-1.2017.

Thank you for uploading your work to CPAN.  Congratulations!
All tests were successful.

Sections of this report:

    * Tester comments
    * Program output
    * Prerequisites
    * Environment and other context

------------------------------
TESTER COMMENTS
------------------------------

Additional comments from tester:

this report is from an automated smoke testing program
and was not reviewed by a human for accuracy

------------------------------
PROGRAM OUTPUT
------------------------------

Output from '/usr/bin/make test':

"/tmp/basesmoker-reloperl-koH9/bin/perl" "-Iinc" Makefile.PL --config= --installdeps=Data::JavaScript::Anon,0,Net::Telnet,0,Template::Provider::FromDATA,0
PERL_DL_NONLAZY=1 "/tmp/basesmoker-reloperl-koH9/bin/perl" "-MExtUtils::Command::MM" "-MTest::Harness" "-e" "undef *Test::Harness::Switches; test_harness(0, 'inc', 'blib/lib', 'blib/arch')" t/00-load.t t/10-plugin-repl-enter.t t/11-plugin-repl-search.t t/12-plugin-repl-inspect.t t/13-plugin-repl-load.t t/14-plugin-repl-rename.t t/15-plugin-repl-print.t t/16-plugin-repl-home.t t/17-plugin-repl-back.t t/18-plugin-repl-util-help_url_for.t t/19-plugin-repl-util-doc_for.t t/20-plugin-json.t t/pod-coverage.t t/pod.t
# Testing MozRepl 0.06
t/00-load.t ........................... ok
[DEBUG] MozRepl logging enabled
[DEBUG] 
---- Client arguments ----
.----------------------+------------------------------------------.
| client_arg_name      | client_arg_value                         |
+----------------------+------------------------------------------+
| host                 | localhost                                |
| port                 | 4242                                     |
| timeout              | 10                                       |
| extra_client_args    | {}                                       |
'----------------------+------------------------------------------'
t/10-plugin-repl-enter.t .............. ok
[DEBUG] MozRepl logging enabled
[DEBUG] 
---- Client arguments ----
.----------------------+------------------------------------------.
| client_arg_name      | client_arg_value                         |
+----------------------+------------------------------------------+
| host                 | localhost                                |
| port                 | 4242                                     |
| timeout              | 10                                       |
| extra_client_args    | {}                                       |
'----------------------+------------------------------------------'
t/11-plugin-repl-search.t ............. ok
[DEBUG] MozRepl logging enabled
[DEBUG] 
---- Client arguments ----
.----------------------+------------------------------------------.
| client_arg_name      | client_arg_value                         |
+----------------------+------------------------------------------+
| host                 | localhost                                |
| port                 | 4242                                     |
| timeout              | 10                                       |
| extra_client_args    | {}                                       |
'----------------------+------------------------------------------'
t/12-plugin-repl-inspect.t ............ ok
[DEBUG] MozRepl logging enabled
[DEBUG] 
---- Client arguments ----
.----------------------+------------------------------------------.
| client_arg_name      | client_arg_value                         |
+----------------------+------------------------------------------+
| host                 | localhost                                |
| port                 | 4242                                     |
| timeout              | 10                                       |
| extra_client_args    | {}                                       |
'----------------------+------------------------------------------'
t/13-plugin-repl-load.t ............... ok
[DEBUG] MozRepl logging enabled
[DEBUG] 
---- Client arguments ----
.----------------------+------------------------------------------.
| client_arg_name      | client_arg_value                         |
+----------------------+------------------------------------------+
| host                 | localhost                                |
| port                 | 4242                                     |
| timeout              | 10                                       |
| extra_client_args    | {}                                       |
'----------------------+------------------------------------------'
t/14-plugin-repl-rename.t ............. ok
[DEBUG] MozRepl logging enabled
[DEBUG] 
---- Client arguments ----
.----------------------+------------------------------------------.
| client_arg_name      | client_arg_value                         |
+----------------------+------------------------------------------+
| host                 | localhost                                |
| port                 | 4242                                     |
| timeout              | 10                                       |
| extra_client_args    | {}                                       |
'----------------------+------------------------------------------'
t/15-plugin-repl-print.t .............. ok
[DEBUG] MozRepl logging enabled
[DEBUG] 
---- Client arguments ----
.----------------------+------------------------------------------.
| client_arg_name      | client_arg_value                         |
+----------------------+------------------------------------------+
| host                 | localhost                                |
| port                 | 4242                                     |
| timeout              | 10                                       |
| extra_client_args    | {}                                       |
'----------------------+------------------------------------------'
t/16-plugin-repl-home.t ............... ok
[DEBUG] MozRepl logging enabled
[DEBUG] 
---- Client arguments ----
.----------------------+------------------------------------------.
| client_arg_name      | client_arg_value                         |
+----------------------+------------------------------------------+
| host                 | localhost                                |
| port                 | 4242                                     |
| timeout              | 10                                       |
| extra_client_args    | {}                                       |
'----------------------+------------------------------------------'
t/17-plugin-repl-back.t ............... ok
[DEBUG] MozRepl logging enabled
[DEBUG] 
---- Client arguments ----
.----------------------+------------------------------------------.
| client_arg_name      | client_arg_value                         |
+----------------------+------------------------------------------+
| host                 | localhost                                |
| port                 | 4242                                     |
| timeout              | 10                                       |
| extra_client_args    | {}                                       |
'----------------------+------------------------------------------'
t/18-plugin-repl-util-help_url_for.t .. ok
[DEBUG] MozRepl logging enabled
[DEBUG] 
---- Client arguments ----
.----------------------+------------------------------------------.
| client_arg_name      | client_arg_value                         |
+----------------------+------------------------------------------+
| host                 | localhost                                |
| port                 | 4242                                     |
| timeout              | 10                                       |
| extra_client_args    | {}                                       |
'----------------------+------------------------------------------'
t/19-plugin-repl-util-doc_for.t ....... ok
[DEBUG] MozRepl logging enabled
[DEBUG] 
---- Client arguments ----
.----------------------+------------------------------------------.
| client_arg_name      | client_arg_value                         |
+----------------------+------------------------------------------+
| host                 | localhost                                |
| port                 | 4242                                     |
| timeout              | 10                                       |
| extra_client_args    | {}                                       |
'----------------------+------------------------------------------'
t/20-plugin-json.t .................... ok
t/pod-coverage.t ...................... ok
t/pod.t ............................... ok
All tests successful.
Files=14, Tests=74,  0 wallclock secs ( 0.05 usr  0.04 sys +  0.72 cusr  0.10 csys =  0.91 CPU)
Result: PASS

------------------------------
PREREQUISITES
------------------------------

Prerequisite modules loaded:

requires:

    Module                       Need Have
    ---------------------------- ---- ----
    Carp::Clan                   0    6.06
    Class::Accessor::Fast        0    0.34
    Class::Data::Inheritable     0    0.08
    Data::Dump                   0    1.23
    Data::JavaScript::Anon       0    1.03
    File::Spec                   0    3.63
    Module::Pluggable::Fast      0    0.19
    Net::Telnet                  0    3.04
    Template                     0    2.26
    Template::Provider::FromDATA 0    0.13
    Text::SimpleTable            0    2.03
    UNIVERSAL::require           0    0.18
    URI                          0    1.71

build_requires:

    Module                       Need Have
    ---------------------------- ---- ----
    ExtUtils::MakeMaker          0    7.18


------------------------------
ENVIRONMENT AND OTHER CONTEXT
------------------------------

Environment variables:

    AUTOMATED_TESTING = 1
    LANG = C
    PATH = /usr/lib/ccache:/home/sand/bin:/usr/local/bin:/usr/lib/ccache:/usr/bin:/bin:/usr/games:/usr/local/perl/bin:/usr/X11/bin:/sbin:/usr/sbin
    PERL5LIB = 
    PERL5OPT = 
    PERL5_CPANPLUS_IS_RUNNING = 14239
    PERL5_CPAN_IS_RUNNING = 14239
    PERL_CANARY_STABILITY_NOPROMPT = 1
    PERL_MM_USE_DEFAULT = 1
    SHELL = /usr/bin/zsh
    TERM = screen

Perl special variables (and OS-specific diagnostics, for MSWin32):

    $^X = /tmp/basesmoker-reloperl-koH9/bin/perl
    $UID/$EUID = 1005 / 1005
    $GID = 1005 1005
    $EGID = 1005 1005

Perl module toolchain versions installed:

    Module              Have    
    ------------------- --------
    CPAN                2.14    
    CPAN::Meta          2.150005
    Cwd                 3.63    
    ExtUtils::CBuilder  0.280225
    ExtUtils::Command   7.18    
    ExtUtils::Install   2.04    
    ExtUtils::MakeMaker 7.18    
    ExtUtils::Manifest  1.70    
    ExtUtils::ParseXS   3.31    
    File::Spec          3.63    
    JSON                2.90    
    JSON::PP            2.27300 
    Module::Build       0.4218  
    Module::Signature   0.80    
    Parse::CPAN::Meta   1.4417  
    Test::Harness       3.36    
    Test::More          1.302026
    YAML                1.15    
    YAML::Syck          1.29    
    version             0.9916  


--

Summary of my perl5 (revision 5 version 25 subversion 1) configuration:
  Commit id: 5b145eb412326b9b57276229cfde0ef09e7ca2bc
  Platform:
    osname=linux, osvers=4.6.0-1-amd64, archname=x86_64-linux-ld
    uname='linux k93x64sid 4.6.0-1-amd64 #1 smp debian 4.6.1-1 (2016-06-06) x86_64 gnulinux '
    config_args='-Dprefix=/home/sand/src/perl/repoperls/installed-perls/host/k93x64sid/v5.25.1/3bd2 -Dmyhostname=k93x64sid -Dinstallusrbinperl=n -Uversiononly -Dusedevel -des -Ui_db -Dlibswanted=cl pthread socket inet nsl gdbm dbm malloc dl ld sun m crypt sec util c cposix posix ucb BSD gdbm_compat -Uuseithreads -Duselongdouble -DDEBUGGING=-g'
    hint=recommended, useposix=true, d_sigaction=define
    useithreads=undef, usemultiplicity=undef
    use64bitint=define, use64bitall=define, uselongdouble=define
    usemymalloc=n, bincompat5005=undef
  Compiler:
    cc='cc', ccflags ='-fwrapv -fno-strict-aliasing -pipe -fstack-protector-strong -I/usr/local/include -D_LARGEFILE_SOURCE -D_FILE_OFFSET_BITS=64 -D_FORTIFY_SOURCE=2',
    optimize='-O2 -g',
    cppflags='-fwrapv -fno-strict-aliasing -pipe -fstack-protector-strong -I/usr/local/include'
    ccversion='', gccversion='5.4.0 20160609', gccosandvers=''
    intsize=4, longsize=8, ptrsize=8, doublesize=8, byteorder=12345678, doublekind=3
    d_longlong=define, longlongsize=8, d_longdbl=define, longdblsize=16, longdblkind=3
    ivtype='long', ivsize=8, nvtype='long double', nvsize=16, Off_t='off_t', lseeksize=8
    alignbytes=16, prototype=define
  Linker and Libraries:
    ld='cc', ldflags =' -fstack-protector-strong -L/usr/local/lib'
    libpth=/usr/local/lib /usr/lib/gcc/x86_64-linux-gnu/5/include-fixed /usr/include/x86_64-linux-gnu /usr/lib /lib/x86_64-linux-gnu /lib/../lib /usr/lib/x86_64-linux-gnu /usr/lib/../lib /lib
    libs=-lpthread -lnsl -ldl -lm -lcrypt -lutil -lc
    perllibs=-lpthread -lnsl -ldl -lm -lcrypt -lutil -lc
    libc=libc-2.22.so, so=so, useshrplib=false, libperl=libperl.a
    gnulibc_version='2.22'
  Dynamic Linking:
    dlsrc=dl_dlopen.xs, dlext=so, d_dlsymun=undef, ccdlflags='-Wl,-E'
    cccdlflags='-fPIC', lddlflags='-shared -O2 -g -L/usr/local/lib -fstack-protector-strong'


Characteristics of this binary (from libperl): 
  Compile-time options: HAS_TIMES PERLIO_LAYERS PERL_COPY_ON_WRITE
                        PERL_DONT_CREATE_GVSV
                        PERL_HASH_FUNC_ONE_AT_A_TIME_HARD PERL_MALLOC_WRAP
                        PERL_OP_PARENT PERL_PRESERVE_IVUV PERL_USE_DEVEL
                        USE_64_BIT_ALL USE_64_BIT_INT USE_LARGE_FILES
                        USE_LOCALE USE_LOCALE_COLLATE USE_LOCALE_CTYPE
                        USE_LOCALE_NUMERIC USE_LOCALE_TIME USE_LONG_DOUBLE
                        USE_PERLIO USE_PERL_ATOF
  Built under linux
  Compiled at Jun 15 2016 04:10:08
  %ENV:
    PERL5LIB=""
    PERL5OPT=""
    PERL5_CPANPLUS_IS_RUNNING="14239"
    PERL5_CPAN_IS_RUNNING="14239"
    PERL_CANARY_STABILITY_NOPROMPT="1"
    PERL_MM_USE_DEFAULT="1"
  @INC:
    /home/sand/src/perl/repoperls/installed-perls/host/k93x64sid/v5.25.1/3bd2/lib/site_perl/5.25.1/x86_64-linux-ld
    /home/sand/src/perl/repoperls/installed-perls/host/k93x64sid/v5.25.1/3bd2/lib/site_perl/5.25.1
    /home/sand/src/perl/repoperls/installed-perls/host/k93x64sid/v5.25.1/3bd2/lib/5.25.1/x86_64-linux-ld
    /home/sand/src/perl/repoperls/installed-perls/host/k93x64sid/v5.25.1/3bd2/lib/5.25.1
    .