Back
From: metabase:user:320bfe00-2aae-11df-837a-5e0a49663a4f
Subject: PASS File-PathInfo-1.27 v5.13.11 GNU/Linux
Date: 2011-03-21T16:43:08Z
This distribution has been tested as part of the CPAN Testers
project, supporting the Perl programming language. See
http://wiki.cpantesters.org/ for more information or email
questions to cpan-testers-discuss@perl.org
--
Dear Leo Charre,
This is a computer-generated report for File-PathInfo-1.27
on perl 5.13.11, created by CPAN-Reporter-1.1902.
Thank you for uploading your work to CPAN. Congratulations!
All tests were successful.
Sections of this report:
* Tester comments
* Program output
* Prerequisites
* Environment and other context
------------------------------
TESTER COMMENTS
------------------------------
Additional comments from tester:
none provided
------------------------------
PROGRAM OUTPUT
------------------------------
Output from '/usr/bin/make test':
make[1]: Entering directory `/home/sand/.cpan/build/File-PathInfo-1.27-SdzJfq'
PERL_DL_NONLAZY=1 /home/src/perl/repoperls/installed-perls/perl/v5.13.11-18-gc34fab5/bin/perl "-MExtUtils::Command::MM" "-e" "test_harness(0, 'blib/lib', 'blib/arch')" t/*.t
'/i do not exist/at all/1300725667' is not on disk
set() '/i do not exist/at all/1300725667' is not on disk. at lib/File/PathInfo.pm line 55
File::PathInfo::set('File::PathInfo=HASH(0x27044e0)', '/i do not exist/at all/1300725667') called at t/0_fpi.t line 23
--------------------------------------------------------------------------------
arg is not a ref, treating as arg
--------------------------------------------------------------------------------
arg is not a ref, treating as arg
--------------------------------------------------------------------------------
arg is not a ref, treating as arg
--------------------------------------------------------------------------------
arg is not a ref, treating as arg
--------------------------------------------------------------------------------
arg is not a ref, treating as arg
--------------------------------------------------------------------------------
arg is not a ref, treating as arg
2) things we know are not in doc root
--------------------------------------------------------------------------------
--------------------------------------------------------------------------------
'/home/sand/.cpan/build/File-PathInfo-1.27-SdzJfq/t/public_html/demo/cvil.txt' is not on disk
set() './t/public_html/demo/../demo/cvil.txt' is not on disk. at lib/File/PathInfo.pm line 55
File::PathInfo::set('File::PathInfo=HASH(0x28e6648)', './t/public_html/demo/../demo/cvil.txt') called at t/0_fpi.t line 128
'/home/sand/.cpan/build/File-PathInfo-1.27-SdzJfq/t/public_html/de41zmo' is not on disk
set() './t/public_html/de41zmo' is not on disk. at lib/File/PathInfo.pm line 55
File::PathInfo::set('File::PathInfo=HASH(0x29cc1b8)', './t/public_html/de41zmo') called at t/0_fpi.t line 145
'/home/sand/.cpan/build/File-PathInfo-1.27-SdzJfq/t/public_html/demvo2' is not on disk
set() 'demvo2' is not on disk. at lib/File/PathInfo.pm line 55
File::PathInfo::set('File::PathInfo=HASH(0x29cc1b8)', 'demvo2') called at t/0_fpi.t line 145
argument: './t/public_html/demo/../demo/civil.rtxt/', cant resolve as path rel to current working dir with Cwd abs_path
set() './t/public_html/demo/../demo/civil.rtxt/' is not on disk. at lib/File/PathInfo.pm line 55
File::PathInfo::set('File::PathInfo=HASH(0x29cc1b8)', './t/public_html/demo/../demo/civil.rtxt/') called at t/0_fpi.t line 145
t/0_fpi.t ....... ok
2) things that do not exist.
set() './t/public_html/hhahahahahahahouse.txt' is not on disk. at lib/File/PathInfo.pm line 55
File::PathInfo::set('File::PathInfo=HASH(0x267f960)', './t/public_html/hhahahahahahahouse.txt') called at lib/File/PathInfo.pm line 42
File::PathInfo::new('File::PathInfo', './t/public_html/hhahahahahahahouse.txt') called at t/1_fpi_hash.t line 35
failed set() ./t/public_html/hhahahahahahahouse.txt at lib/File/PathInfo.pm line 42
File::PathInfo::new('File::PathInfo', './t/public_html/hhahahahahahahouse.txt') called at t/1_fpi_hash.t line 35
File::PathInfo : no file is set(). Use set(). at lib/File/PathInfo.pm line 303
File::PathInfo::_stat('File::PathInfo=HASH(0x267f960)') called at lib/File/PathInfo.pm line 372
File::PathInfo::get_datahash('File::PathInfo=HASH(0x267f960)') called at t/1_fpi_hash.t line 49
set() '/nons/ense' is not on disk. at lib/File/PathInfo.pm line 55
File::PathInfo::set('File::PathInfo=HASH(0x267f960)', '/nons/ense') called at lib/File/PathInfo.pm line 42
File::PathInfo::new('File::PathInfo', '/nons/ense') called at t/1_fpi_hash.t line 35
failed set() /nons/ense at lib/File/PathInfo.pm line 42
File::PathInfo::new('File::PathInfo', '/nons/ense') called at t/1_fpi_hash.t line 35
File::PathInfo : no file is set(). Use set(). at lib/File/PathInfo.pm line 303
File::PathInfo::_stat('File::PathInfo=HASH(0x267f960)') called at lib/File/PathInfo.pm line 372
File::PathInfo::get_datahash('File::PathInfo=HASH(0x267f960)') called at t/1_fpi_hash.t line 49
set() '/moreneo/nensense' is not on disk. at lib/File/PathInfo.pm line 55
File::PathInfo::set('File::PathInfo=HASH(0x267f960)', '/moreneo/nensense') called at lib/File/PathInfo.pm line 42
File::PathInfo::new('File::PathInfo', '/moreneo/nensense') called at t/1_fpi_hash.t line 35
failed set() /moreneo/nensense at lib/File/PathInfo.pm line 42
File::PathInfo::new('File::PathInfo', '/moreneo/nensense') called at t/1_fpi_hash.t line 35
File::PathInfo : no file is set(). Use set(). at lib/File/PathInfo.pm line 303
File::PathInfo::_stat('File::PathInfo=HASH(0x267f960)') called at lib/File/PathInfo.pm line 372
File::PathInfo::get_datahash('File::PathInfo=HASH(0x267f960)') called at t/1_fpi_hash.t line 49
t/1_fpi_hash.t .. ok
t/2_errstr.t .... ok
All tests successful.
Files=3, Tests=78, 1 wallclock secs ( 0.02 usr 0.02 sys + 0.11 cusr 0.04 csys = 0.19 CPU)
Result: PASS
make[1]: Leaving directory `/home/sand/.cpan/build/File-PathInfo-1.27-SdzJfq'
------------------------------
PREREQUISITES
------------------------------
Prerequisite modules loaded:
requires:
Module Need Have
------------------- ---- -------
Cwd 0.1 3.36
Smart::Comments 0 1.0.4
Time::Format 0.01 1.11
build_requires:
Module Need Have
------------------- ---- -------
ExtUtils::MakeMaker 0 6.57_05
configure_requires:
Module Need Have
------------------- ---- -------
ExtUtils::MakeMaker 0 6.57_05
------------------------------
ENVIRONMENT AND OTHER CONTEXT
------------------------------
Environment variables:
LANG = en_US.UTF-8
LC_TIME = de_DE.utf8
PATH = /home/sand/bin:/usr/local/bin:/usr/bin:/bin:/usr/bin/X11:/usr/games:/usr/local/perl/bin:/usr/X11/bin:/sbin:/usr/sbin
PERL5LIB = /home/sand/.cpan/build/WAP-wbxml-1.12-3tJU7L/blib/arch:/home/sand/.cpan/build/WAP-wbxml-1.12-3tJU7L/blib/lib:/home/sand/.cpan/build/ProjectBuilder-0.11.2-jFo66L/blib/arch:/home/sand/.cpan/build/ProjectBuilder-0.11.2-jFo66L/blib/lib
PERL5OPT =
PERL5_CPANPLUS_IS_RUNNING = 656
PERL5_CPAN_IS_RUNNING = 656
SHELL = /usr/bin/zsh
TERM = screen
Perl special variables (and OS-specific diagnostics, for MSWin32):
$^X = /home/src/perl/repoperls/installed-perls/perl/v5.13.11-18-gc34fab5/bin/perl
$UID/$EUID = 1001 / 1001
$GID = 1001 1001
$EGID = 1001 1001
Perl module toolchain versions installed:
Module Have
------------------- --------
CPAN 1.9600
Cwd 3.36
ExtUtils::CBuilder 0.280202
ExtUtils::Command 1.17
ExtUtils::Install 1.56
ExtUtils::MakeMaker 6.57_05
ExtUtils::Manifest 1.58
ExtUtils::ParseXS 2.2209
File::Spec 3.33
Module::Build 0.3800
Module::Signature 0.66
Test::Harness 3.23
Test::More 0.98
YAML 0.72
YAML::Syck 1.17
version 0.88
--
Summary of my perl5 (revision 5 version 13 subversion 11) configuration:
Commit id: c34fab5fe3b5d2b8932d2f199a30b80c85950b75
Platform:
osname=linux, osvers=2.6.32-5-xen-amd64, archname=x86_64-linux-ld
uname='linux k81 2.6.32-5-xen-amd64 #1 smp wed jan 12 05:46:49 utc 2011 x86_64 gnulinux '
config_args='-Dprefix=/home/src/perl/repoperls/installed-perls/perl/v5.13.11-18-gc34fab5 -Dinstallusrbinperl=n -Uversiononly -Dusedevel -des -Ui_db -Uuseithreads -Duselongdouble -DDEBUGGING=-g'
hint=recommended, useposix=true, d_sigaction=define
useithreads=undef, usemultiplicity=undef
useperlio=define, d_sfio=undef, uselargefiles=define, usesocks=undef
use64bitint=define, use64bitall=define, uselongdouble=define
usemymalloc=n, bincompat5005=undef
Compiler:
cc='cc', ccflags ='-fno-strict-aliasing -pipe -fstack-protector -I/usr/local/include -D_LARGEFILE_SOURCE -D_FILE_OFFSET_BITS=64',
optimize='-O2 -g',
cppflags='-fno-strict-aliasing -pipe -fstack-protector -I/usr/local/include'
ccversion='', gccversion='4.5.2', gccosandvers=''
intsize=4, longsize=8, ptrsize=8, doublesize=8, byteorder=12345678
d_longlong=define, longlongsize=8, d_longdbl=define, longdblsize=16
ivtype='long', ivsize=8, nvtype='long double', nvsize=16, Off_t='off_t', lseeksize=8
alignbytes=16, prototype=define
Linker and Libraries:
ld='cc', ldflags =' -fstack-protector -L/usr/local/lib'
libpth=/usr/local/lib /lib /usr/lib /lib64 /usr/lib64
libs=-lnsl -lgdbm -ldb -ldl -lm -lcrypt -lutil -lc -lgdbm_compat
perllibs=-lnsl -ldl -lm -lcrypt -lutil -lc
libc=/lib/libc-2.11.2.so, so=so, useshrplib=false, libperl=libperl.a
gnulibc_version='2.11.2'
Dynamic Linking:
dlsrc=dl_dlopen.xs, dlext=so, d_dlsymun=undef, ccdlflags='-Wl,-E'
cccdlflags='-fPIC', lddlflags='-shared -O2 -g -L/usr/local/lib -fstack-protector'
Characteristics of this binary (from libperl):
Compile-time options: PERL_DONT_CREATE_GVSV PERL_MALLOC_WRAP
PERL_PRESERVE_IVUV PERL_USE_DEVEL USE_64_BIT_ALL
USE_64_BIT_INT USE_LARGE_FILES USE_LONG_DOUBLE
USE_PERLIO USE_PERL_ATOF
Built under linux
Compiled at Mar 21 2011 03:51:57
%ENV:
PERL5LIB="/home/sand/.cpan/build/WAP-wbxml-1.12-3tJU7L/blib/arch:/home/sand/.cpan/build/WAP-wbxml-1.12-3tJU7L/blib/lib:/home/sand/.cpan/build/ProjectBuilder-0.11.2-jFo66L/blib/arch:/home/sand/.cpan/build/ProjectBuilder-0.11.2-jFo66L/blib/lib"
PERL5OPT=""
PERL5_CPANPLUS_IS_RUNNING="656"
PERL5_CPAN_IS_RUNNING="656"
@INC:
/home/sand/.cpan/build/WAP-wbxml-1.12-3tJU7L/blib/arch
/home/sand/.cpan/build/WAP-wbxml-1.12-3tJU7L/blib/lib
/home/sand/.cpan/build/ProjectBuilder-0.11.2-jFo66L/blib/arch
/home/sand/.cpan/build/ProjectBuilder-0.11.2-jFo66L/blib/lib
/home/src/perl/repoperls/installed-perls/perl/v5.13.11-18-gc34fab5/lib/site_perl/5.13.11/x86_64-linux-ld
/home/src/perl/repoperls/installed-perls/perl/v5.13.11-18-gc34fab5/lib/site_perl/5.13.11
/home/src/perl/repoperls/installed-perls/perl/v5.13.11-18-gc34fab5/lib/5.13.11/x86_64-linux-ld
/home/src/perl/repoperls/installed-perls/perl/v5.13.11-18-gc34fab5/lib/5.13.11
.