Report for Catalyst-Controller-ActionRole-0.15

Back
From: metabase:user:320bfe00-2aae-11df-837a-5e0a49663a4f
Subject: PASS Catalyst-Controller-ActionRole-0.15 v5.18.1 GNU/Linux
Date: 2014-01-13T17:01:10Z

This distribution has been tested as part of the CPAN Testers
project, supporting the Perl programming language.  See
http://wiki.cpantesters.org/ for more information or email
questions to cpan-testers-discuss@perl.org


--
Dear Florian Ragwitz,

This is a computer-generated report for Catalyst-Controller-ActionRole-0.15
on perl 5.18.1, created by CPAN-Reporter-1.2010.

Thank you for uploading your work to CPAN.  Congratulations!
All tests were successful.

Sections of this report:

    * Tester comments
    * Program output
    * Prerequisites
    * Environment and other context

------------------------------
TESTER COMMENTS
------------------------------

Additional comments from tester:

this report is from an automated smoke testing program
and was not reviewed by a human for accuracy

------------------------------
PROGRAM OUTPUT
------------------------------

Output from '/usr/bin/make test':

PERL_DL_NONLAZY=1 /home/sand/src/perl/repoperls/installed-perls/perl/v5.18.1/a2da/bin/perl "-MExtUtils::Command::MM" "-MTest::Harness" "-e" "undef *Test::Harness::Switches; test_harness(0, 'blib/lib', 'blib/arch')" t/*.t
Class::MOP::load_class is deprecated at /home/sand/src/perl/repoperls/installed-perls/perl/v5.18.1/a2da/lib/site_perl/5.18.1/x86_64-linux-thread-multi-ld/Class/MOP.pm line 76.
	Class::MOP::load_class('TestApp::ActionRole::Kooh') called at /tmp/loop_over_bdir-22882-tu0hSo/Catalyst-Controller-ActionRole-0.15-hTUBd8/blib/lib/Catalyst/Controller/ActionRole.pm line 50
	Catalyst::Controller::ActionRole::_build__action_roles('TestApp::Controller::Bar=HASH(0x4838648)') called at native delegation method Catalyst::Controller::ActionRole::_action_roles (elements) of attribute _action_roles (defined at /tmp/loop_over_bdir-22882-tu0hSo/Catalyst-Controller-ActionRole-0.15-hTUBd8/blib/lib/Catalyst/Controller/ActionRole.pm line 37) line 8
	Catalyst::Controller::ActionRole::_action_roles('TestApp::Controller::Bar=HASH(0x4838648)') called at /home/sand/src/perl/repoperls/installed-perls/perl/v5.18.1/a2da/lib/site_perl/5.18.1/Catalyst/Controller.pm line 84
	Catalyst::Controller::BUILD('TestApp::Controller::Bar=HASH(0x4838648)', 'HASH(0x4838168)') called at /home/sand/src/perl/repoperls/installed-perls/perl/v5.18.1/a2da/lib/site_perl/5.18.1/x86_64-linux-thread-multi-ld/Class/MOP/Method.pm line 131
	Class::MOP::Method::execute('Moose::Meta::Class::__ANON__::SERIAL::7=HASH(0x4001af8)', 'TestApp::Controller::Bar=HASH(0x4838648)', 'HASH(0x4838168)') called at /home/sand/src/perl/repoperls/installed-perls/perl/v5.18.1/a2da/lib/site_perl/5.18.1/x86_64-linux-thread-multi-ld/Moose/Object.pm line 59
	Moose::Object::BUILDALL('TestApp::Controller::Bar=HASH(0x4838648)', 'HASH(0x4838168)') called at /home/sand/src/perl/repoperls/installed-perls/perl/v5.18.1/a2da/lib/site_perl/5.18.1/x86_64-linux-thread-multi-ld/Moose/Meta/Class.pm line 285
	Moose::Meta::Class::new_object('Moose::Meta::Class::__ANON__::SERIAL::5=HASH(0x480ebe8)', 'HASH(0x4838168)') called at /home/sand/src/perl/repoperls/installed-perls/perl/v5.18.1/a2da/lib/site_perl/5.18.1/x86_64-linux-thread-multi-ld/Moose/Object.pm line 30
	Moose::Object::new('TestApp::Controller::Bar', 'TestApp', 'HASH(0x476f438)') called at constructor Catalyst::Controller::new (defined at /home/sand/src/perl/repoperls/installed-perls/perl/v5.18.1/a2da/lib/site_perl/5.18.1/Catalyst/Controller.pm line 573) line 4
	Catalyst::Controller::new('TestApp::Controller::Bar', 'TestApp', 'HASH(0x476f438)') called at /home/sand/src/perl/repoperls/installed-perls/perl/v5.18.1/a2da/lib/site_perl/5.18.1/Catalyst/Component.pm line 123
	Catalyst::Component::COMPONENT('TestApp::Controller::Bar', 'TestApp', 'HASH(0x476f438)') called at /home/sand/src/perl/repoperls/installed-perls/perl/v5.18.1/a2da/lib/site_perl/5.18.1/Catalyst.pm line 2656
	eval {...} called at /home/sand/src/perl/repoperls/installed-perls/perl/v5.18.1/a2da/lib/site_perl/5.18.1/Catalyst.pm line 2656
	Catalyst::setup_component('TestApp', 'TestApp::Controller::Bar') called at /home/sand/src/perl/repoperls/installed-perls/perl/v5.18.1/a2da/lib/site_perl/5.18.1/Catalyst.pm line 2583
	Catalyst::setup_components('TestApp') called at /home/sand/src/perl/repoperls/installed-perls/perl/v5.18.1/a2da/lib/site_perl/5.18.1/Catalyst.pm line 1177
	Catalyst::setup('TestApp') called at /tmp/loop_over_bdir-22882-tu0hSo/Catalyst-Controller-ActionRole-0.15-hTUBd8/t/lib/TestApp.pm line 9
	require TestApp.pm called at /home/sand/src/perl/repoperls/installed-perls/perl/v5.18.1/a2da/lib/site_perl/5.18.1/Module/Runtime.pm line 317
	Module::Runtime::require_module('TestApp') called at /home/sand/src/perl/repoperls/installed-perls/perl/v5.18.1/a2da/lib/site_perl/5.18.1/Class/Load.pm line 177
	Class::Load::try {...} () called at /home/sand/src/perl/repoperls/installed-perls/perl/v5.18.1/a2da/lib/site_perl/5.18.1/Try/Tiny.pm line 78
	eval {...} called at /home/sand/src/perl/repoperls/installed-perls/perl/v5.18.1/a2da/lib/site_perl/5.18.1/Try/Tiny.pm line 74
	Try::Tiny::try('CODE(0x3195e68)', 'Try::Tiny::Catch=REF(0x3195970)') called at /home/sand/src/perl/repoperls/installed-perls/perl/v5.18.1/a2da/lib/site_perl/5.18.1/Class/Load.pm line 183
	Class::Load::try_load_class('TestApp', undef) called at /home/sand/src/perl/repoperls/installed-perls/perl/v5.18.1/a2da/lib/site_perl/5.18.1/Class/Load.pm line 38
	Class::Load::load_class('TestApp') called at /home/sand/src/perl/repoperls/installed-perls/perl/v5.18.1/a2da/lib/site_perl/5.18.1/Catalyst/Test.pm line 29
	Catalyst::Test::_build_request_export('Catalyst::Test', 'HASH(0x3658f00)') called at /home/sand/src/perl/repoperls/installed-perls/perl/v5.18.1/a2da/lib/site_perl/5.18.1/Catalyst/Test.pm line 92
	Catalyst::Test::__ANON__('Catalyst::Test', 'all', 'HASH(0x3658eb8)', 'HASH(0x21541f0)') called at /home/sand/src/perl/repoperls/installed-perls/perl/v5.18.1/a2da/lib/site_perl/5.18.1/Sub/Exporter.pm line 108
	Sub::Exporter::_expand_group('Catalyst::Test', 'HASH(0x36585e8)', 'ARRAY(0x21ff930)', 'HASH(0x21541f0)', 'HASH(0x3658f30)', 'HASH(0x21ff690)') called at /home/sand/src/perl/repoperls/installed-perls/perl/v5.18.1/a2da/lib/site_perl/5.18.1/Sub/Exporter.pm line 39
	Sub::Exporter::_expand_groups('Catalyst::Test', 'HASH(0x36585e8)', 'ARRAY(0x3658720)', 'HASH(0x21541f0)') called at /home/sand/src/perl/repoperls/installed-perls/perl/v5.18.1/a2da/lib/site_perl/5.18.1/Sub/Exporter.pm line 323
	Sub::Exporter::__ANON__('Catalyst::Test', '-all', 'HASH(0x21ce338)') called at /home/sand/src/perl/repoperls/installed-perls/perl/v5.18.1/a2da/lib/site_perl/5.18.1/Catalyst/Test.pm line 155
	Catalyst::Test::import('Catalyst::Test', 'TestApp') called at t/action-class.t line 8
	main::BEGIN() called at /tmp/loop_over_bdir-22882-tu0hSo/Catalyst-Controller-ActionRole-0.15-hTUBd8/t/lib/TestApp.pm line 0
	eval {...} called at /tmp/loop_over_bdir-22882-tu0hSo/Catalyst-Controller-ActionRole-0.15-hTUBd8/t/lib/TestApp.pm line 0
Class::MOP::load_first_existing_class is deprecated at /home/sand/src/perl/repoperls/installed-perls/perl/v5.18.1/a2da/lib/site_perl/5.18.1/x86_64-linux-thread-multi-ld/Class/MOP.pm line 85.
	Class::MOP::load_first_existing_class('TestApp::ActionRole::Shared', 'Catalyst::ActionRole::Shared') called at /tmp/loop_over_bdir-22882-tu0hSo/Catalyst-Controller-ActionRole-0.15-hTUBd8/blib/lib/Catalyst/Controller/ActionRole.pm line 120
	Catalyst::Controller::ActionRole::__ANON__('Shared') called at /home/sand/src/perl/repoperls/installed-perls/perl/v5.18.1/a2da/lib/site_perl/5.18.1/String/RewritePrefix.pm line 44
	String::RewritePrefix::__ANON__('Shared') called at /home/sand/src/perl/repoperls/installed-perls/perl/v5.18.1/a2da/lib/site_perl/5.18.1/String/RewritePrefix.pm line 18
	String::RewritePrefix::rewrite('String::RewritePrefix', 'HASH(0x484cc10)', 'Shared') called at /tmp/loop_over_bdir-22882-tu0hSo/Catalyst-Controller-ActionRole-0.15-hTUBd8/blib/lib/Catalyst/Controller/ActionRole.pm line 125
	Catalyst::Controller::ActionRole::_expand_role_shortname('TestApp::Controller::ExecutionViaConfig=HASH(0x484c100)', 'Shared') called at /tmp/loop_over_bdir-22882-tu0hSo/Catalyst-Controller-ActionRole-0.15-hTUBd8/blib/lib/Catalyst/Controller/ActionRole.pm line 49
	Catalyst::Controller::ActionRole::_build__action_roles('TestApp::Controller::ExecutionViaConfig=HASH(0x484c100)') called at native delegation method Catalyst::Controller::ActionRole::_action_roles (elements) of attribute _action_roles (defined at /tmp/loop_over_bdir-22882-tu0hSo/Catalyst-Controller-ActionRole-0.15-hTUBd8/blib/lib/Catalyst/Controller/ActionRole.pm line 37) line 8
	Catalyst::Controller::ActionRole::_action_roles('TestApp::Controller::ExecutionViaConfig=HASH(0x484c100)') called at /home/sand/src/perl/repoperls/installed-perls/perl/v5.18.1/a2da/lib/site_perl/5.18.1/Catalyst/Controller.pm line 84
	Catalyst::Controller::BUILD('TestApp::Controller::ExecutionViaConfig=HASH(0x484c100)', 'HASH(0x484b770)') called at /home/sand/src/perl/repoperls/installed-perls/perl/v5.18.1/a2da/lib/site_perl/5.18.1/x86_64-linux-thread-multi-ld/Class/MOP/Method.pm line 131
	Class::MOP::Method::execute('Moose::Meta::Class::__ANON__::SERIAL::7=HASH(0x4001af8)', 'TestApp::Controller::ExecutionViaConfig=HASH(0x484c100)', 'HASH(0x484b770)') called at /home/sand/src/perl/repoperls/installed-perls/perl/v5.18.1/a2da/lib/site_perl/5.18.1/x86_64-linux-thread-multi-ld/Moose/Object.pm line 59
	Moose::Object::BUILDALL('TestApp::Controller::ExecutionViaConfig=HASH(0x484c100)', 'HASH(0x484b770)') called at /home/sand/src/perl/repoperls/installed-perls/perl/v5.18.1/a2da/lib/site_perl/5.18.1/x86_64-linux-thread-multi-ld/Moose/Meta/Class.pm line 285
	Moose::Meta::Class::new_object('Moose::Meta::Class::__ANON__::SERIAL::5=HASH(0x481e100)', 'HASH(0x484b770)') called at /home/sand/src/perl/repoperls/installed-perls/perl/v5.18.1/a2da/lib/site_perl/5.18.1/x86_64-linux-thread-multi-ld/Moose/Object.pm line 30
	Moose::Object::new('TestApp::Controller::ExecutionViaConfig', 'TestApp', 'HASH(0x484c4d8)') called at constructor Catalyst::Controller::new (defined at /home/sand/src/perl/repoperls/installed-perls/perl/v5.18.1/a2da/lib/site_perl/5.18.1/Catalyst/Controller.pm line 573) line 4
	Catalyst::Controller::new('TestApp::Controller::ExecutionViaConfig', 'TestApp', 'HASH(0x484c4d8)') called at /home/sand/src/perl/repoperls/installed-perls/perl/v5.18.1/a2da/lib/site_perl/5.18.1/Catalyst/Component.pm line 123
	Catalyst::Component::COMPONENT('TestApp::Controller::ExecutionViaConfig', 'TestApp', 'HASH(0x484c4d8)') called at /home/sand/src/perl/repoperls/installed-perls/perl/v5.18.1/a2da/lib/site_perl/5.18.1/Catalyst.pm line 2656
	eval {...} called at /home/sand/src/perl/repoperls/installed-perls/perl/v5.18.1/a2da/lib/site_perl/5.18.1/Catalyst.pm line 2656
	Catalyst::setup_component('TestApp', 'TestApp::Controller::ExecutionViaConfig') called at /home/sand/src/perl/repoperls/installed-perls/perl/v5.18.1/a2da/lib/site_perl/5.18.1/Catalyst.pm line 2583
	Catalyst::setup_components('TestApp') called at /home/sand/src/perl/repoperls/installed-perls/perl/v5.18.1/a2da/lib/site_perl/5.18.1/Catalyst.pm line 1177
	Catalyst::setup('TestApp') called at /tmp/loop_over_bdir-22882-tu0hSo/Catalyst-Controller-ActionRole-0.15-hTUBd8/t/lib/TestApp.pm line 9
	require TestApp.pm called at /home/sand/src/perl/repoperls/installed-perls/perl/v5.18.1/a2da/lib/site_perl/5.18.1/Module/Runtime.pm line 317
	Module::Runtime::require_module('TestApp') called at /home/sand/src/perl/repoperls/installed-perls/perl/v5.18.1/a2da/lib/site_perl/5.18.1/Class/Load.pm line 177
	Class::Load::try {...} () called at /home/sand/src/perl/repoperls/installed-perls/perl/v5.18.1/a2da/lib/site_perl/5.18.1/Try/Tiny.pm line 78
	eval {...} called at /home/sand/src/perl/repoperls/installed-perls/perl/v5.18.1/a2da/lib/site_perl/5.18.1/Try/Tiny.pm line 74
	Try::Tiny::try('CODE(0x3195e68)', 'Try::Tiny::Catch=REF(0x3195970)') called at /home/sand/src/perl/repoperls/installed-perls/perl/v5.18.1/a2da/lib/site_perl/5.18.1/Class/Load.pm line 183
	Class::Load::try_load_class('TestApp', undef) called at /home/sand/src/perl/repoperls/installed-perls/perl/v5.18.1/a2da/lib/site_perl/5.18.1/Class/Load.pm line 38
	Class::Load::load_class('TestApp') called at /home/sand/src/perl/repoperls/installed-perls/perl/v5.18.1/a2da/lib/site_perl/5.18.1/Catalyst/Test.pm line 29
	Catalyst::Test::_build_request_export('Catalyst::Test', 'HASH(0x3658f00)') called at /home/sand/src/perl/repoperls/installed-perls/perl/v5.18.1/a2da/lib/site_perl/5.18.1/Catalyst/Test.pm line 92
	Catalyst::Test::__ANON__('Catalyst::Test', 'all', 'HASH(0x3658eb8)', 'HASH(0x21541f0)') called at /home/sand/src/perl/repoperls/installed-perls/perl/v5.18.1/a2da/lib/site_perl/5.18.1/Sub/Exporter.pm line 108
	Sub::Exporter::_expand_group('Catalyst::Test', 'HASH(0x36585e8)', 'ARRAY(0x21ff930)', 'HASH(0x21541f0)', 'HASH(0x3658f30)', 'HASH(0x21ff690)') called at /home/sand/src/perl/repoperls/installed-perls/perl/v5.18.1/a2da/lib/site_perl/5.18.1/Sub/Exporter.pm line 39
	Sub::Exporter::_expand_groups('Catalyst::Test', 'HASH(0x36585e8)', 'ARRAY(0x3658720)', 'HASH(0x21541f0)') called at /home/sand/src/perl/repoperls/installed-perls/perl/v5.18.1/a2da/lib/site_perl/5.18.1/Sub/Exporter.pm line 323
	Sub::Exporter::__ANON__('Catalyst::Test', '-all', 'HASH(0x21ce338)') called at /home/sand/src/perl/repoperls/installed-perls/perl/v5.18.1/a2da/lib/site_perl/5.18.1/Catalyst/Test.pm line 155
	Catalyst::Test::import('Catalyst::Test', 'TestApp') called at t/action-class.t line 8
	main::BEGIN() called at /tmp/loop_over_bdir-22882-tu0hSo/Catalyst-Controller-ActionRole-0.15-hTUBd8/t/lib/TestApp.pm line 0
	eval {...} called at /tmp/loop_over_bdir-22882-tu0hSo/Catalyst-Controller-ActionRole-0.15-hTUBd8/t/lib/TestApp.pm line 0
t/action-class.t .......... ok
Class::MOP::load_class is deprecated at /home/sand/src/perl/repoperls/installed-perls/perl/v5.18.1/a2da/lib/site_perl/5.18.1/x86_64-linux-thread-multi-ld/Class/MOP.pm line 76.
	Class::MOP::load_class('TestApp::ActionRole::Kooh') called at /tmp/loop_over_bdir-22882-tu0hSo/Catalyst-Controller-ActionRole-0.15-hTUBd8/blib/lib/Catalyst/Controller/ActionRole.pm line 50
	Catalyst::Controller::ActionRole::_build__action_roles('TestApp::Controller::Bar=HASH(0x451cf88)') called at native delegation method Catalyst::Controller::ActionRole::_action_roles (elements) of attribute _action_roles (defined at /tmp/loop_over_bdir-22882-tu0hSo/Catalyst-Controller-ActionRole-0.15-hTUBd8/blib/lib/Catalyst/Controller/ActionRole.pm line 37) line 8
	Catalyst::Controller::ActionRole::_action_roles('TestApp::Controller::Bar=HASH(0x451cf88)') called at /home/sand/src/perl/repoperls/installed-perls/perl/v5.18.1/a2da/lib/site_perl/5.18.1/Catalyst/Controller.pm line 84
	Catalyst::Controller::BUILD('TestApp::Controller::Bar=HASH(0x451cf88)', 'HASH(0x451d288)') called at /home/sand/src/perl/repoperls/installed-perls/perl/v5.18.1/a2da/lib/site_perl/5.18.1/x86_64-linux-thread-multi-ld/Class/MOP/Method.pm line 131
	Class::MOP::Method::execute('Moose::Meta::Class::__ANON__::SERIAL::6=HASH(0x3ce5228)', 'TestApp::Controller::Bar=HASH(0x451cf88)', 'HASH(0x451d288)') called at /home/sand/src/perl/repoperls/installed-perls/perl/v5.18.1/a2da/lib/site_perl/5.18.1/x86_64-linux-thread-multi-ld/Moose/Object.pm line 59
	Moose::Object::BUILDALL('TestApp::Controller::Bar=HASH(0x451cf88)', 'HASH(0x451d288)') called at /home/sand/src/perl/repoperls/installed-perls/perl/v5.18.1/a2da/lib/site_perl/5.18.1/x86_64-linux-thread-multi-ld/Moose/Meta/Class.pm line 285
	Moose::Meta::Class::new_object('Moose::Meta::Class::__ANON__::SERIAL::5=HASH(0x44f3df0)', 'HASH(0x451d288)') called at /home/sand/src/perl/repoperls/installed-perls/perl/v5.18.1/a2da/lib/site_perl/5.18.1/x86_64-linux-thread-multi-ld/Moose/Object.pm line 30
	Moose::Object::new('TestApp::Controller::Bar', 'TestApp', 'HASH(0x4466020)') called at constructor Catalyst::Controller::new (defined at /home/sand/src/perl/repoperls/installed-perls/perl/v5.18.1/a2da/lib/site_perl/5.18.1/Catalyst/Controller.pm line 573) line 4
	Catalyst::Controller::new('TestApp::Controller::Bar', 'TestApp', 'HASH(0x4466020)') called at /home/sand/src/perl/repoperls/installed-perls/perl/v5.18.1/a2da/lib/site_perl/5.18.1/Catalyst/Component.pm line 123
	Catalyst::Component::COMPONENT('TestApp::Controller::Bar', 'TestApp', 'HASH(0x4466020)') called at /home/sand/src/perl/repoperls/installed-perls/perl/v5.18.1/a2da/lib/site_perl/5.18.1/Catalyst.pm line 2656
	eval {...} called at /home/sand/src/perl/repoperls/installed-perls/perl/v5.18.1/a2da/lib/site_perl/5.18.1/Catalyst.pm line 2656
	Catalyst::setup_component('TestApp', 'TestApp::Controller::Bar') called at /home/sand/src/perl/repoperls/installed-perls/perl/v5.18.1/a2da/lib/site_perl/5.18.1/Catalyst.pm line 2583
	Catalyst::setup_components('TestApp') called at /home/sand/src/perl/repoperls/installed-perls/perl/v5.18.1/a2da/lib/site_perl/5.18.1/Catalyst.pm line 1177
	Catalyst::setup('TestApp') called at /tmp/loop_over_bdir-22882-tu0hSo/Catalyst-Controller-ActionRole-0.15-hTUBd8/t/lib/TestApp.pm line 9
	require TestApp.pm called at /home/sand/src/perl/repoperls/installed-perls/perl/v5.18.1/a2da/lib/site_perl/5.18.1/Module/Runtime.pm line 317
	Module::Runtime::require_module('TestApp') called at /home/sand/src/perl/repoperls/installed-perls/perl/v5.18.1/a2da/lib/site_perl/5.18.1/Class/Load.pm line 177
	Class::Load::try {...} () called at /home/sand/src/perl/repoperls/installed-perls/perl/v5.18.1/a2da/lib/site_perl/5.18.1/Try/Tiny.pm line 78
	eval {...} called at /home/sand/src/perl/repoperls/installed-perls/perl/v5.18.1/a2da/lib/site_perl/5.18.1/Try/Tiny.pm line 74
	Try::Tiny::try('CODE(0x2e7a9d8)', 'Try::Tiny::Catch=REF(0x2e7ab88)') called at /home/sand/src/perl/repoperls/installed-perls/perl/v5.18.1/a2da/lib/site_perl/5.18.1/Class/Load.pm line 183
	Class::Load::try_load_class('TestApp', undef) called at /home/sand/src/perl/repoperls/installed-perls/perl/v5.18.1/a2da/lib/site_perl/5.18.1/Class/Load.pm line 38
	Class::Load::load_class('TestApp') called at /home/sand/src/perl/repoperls/installed-perls/perl/v5.18.1/a2da/lib/site_perl/5.18.1/Catalyst/Test.pm line 29
	Catalyst::Test::_build_request_export('Catalyst::Test', 'HASH(0x333bac0)') called at /home/sand/src/perl/repoperls/installed-perls/perl/v5.18.1/a2da/lib/site_perl/5.18.1/Catalyst/Test.pm line 92
	Catalyst::Test::__ANON__('Catalyst::Test', 'all', 'HASH(0x333ba78)', 'HASH(0x1e41820)') called at /home/sand/src/perl/repoperls/installed-perls/perl/v5.18.1/a2da/lib/site_perl/5.18.1/Sub/Exporter.pm line 108
	Sub::Exporter::_expand_group('Catalyst::Test', 'HASH(0x333b1a8)', 'ARRAY(0x1ee48f0)', 'HASH(0x1e41820)', 'HASH(0x333baf0)', 'HASH(0x1eb3310)') called at /home/sand/src/perl/repoperls/installed-perls/perl/v5.18.1/a2da/lib/site_perl/5.18.1/Sub/Exporter.pm line 39
	Sub::Exporter::_expand_groups('Catalyst::Test', 'HASH(0x333b1a8)', 'ARRAY(0x333b2e0)', 'HASH(0x1e41820)') called at /home/sand/src/perl/repoperls/installed-perls/perl/v5.18.1/a2da/lib/site_perl/5.18.1/Sub/Exporter.pm line 323
	Sub::Exporter::__ANON__('Catalyst::Test', '-all', 'HASH(0x1bdba78)') called at /home/sand/src/perl/repoperls/installed-perls/perl/v5.18.1/a2da/lib/site_perl/5.18.1/Catalyst/Test.pm line 155
	Catalyst::Test::import('Catalyst::Test', 'TestApp') called at t/basic.t line 8
	main::BEGIN() called at /tmp/loop_over_bdir-22882-tu0hSo/Catalyst-Controller-ActionRole-0.15-hTUBd8/t/lib/TestApp.pm line 0
	eval {...} called at /tmp/loop_over_bdir-22882-tu0hSo/Catalyst-Controller-ActionRole-0.15-hTUBd8/t/lib/TestApp.pm line 0
Class::MOP::load_first_existing_class is deprecated at /home/sand/src/perl/repoperls/installed-perls/perl/v5.18.1/a2da/lib/site_perl/5.18.1/x86_64-linux-thread-multi-ld/Class/MOP.pm line 85.
	Class::MOP::load_first_existing_class('TestApp::ActionRole::Shared', 'Catalyst::ActionRole::Shared') called at /tmp/loop_over_bdir-22882-tu0hSo/Catalyst-Controller-ActionRole-0.15-hTUBd8/blib/lib/Catalyst/Controller/ActionRole.pm line 120
	Catalyst::Controller::ActionRole::__ANON__('Shared') called at /home/sand/src/perl/repoperls/installed-perls/perl/v5.18.1/a2da/lib/site_perl/5.18.1/String/RewritePrefix.pm line 44
	String::RewritePrefix::__ANON__('Shared') called at /home/sand/src/perl/repoperls/installed-perls/perl/v5.18.1/a2da/lib/site_perl/5.18.1/String/RewritePrefix.pm line 18
	String::RewritePrefix::rewrite('String::RewritePrefix', 'HASH(0x4531df0)', 'Shared') called at /tmp/loop_over_bdir-22882-tu0hSo/Catalyst-Controller-ActionRole-0.15-hTUBd8/blib/lib/Catalyst/Controller/ActionRole.pm line 125
	Catalyst::Controller::ActionRole::_expand_role_shortname('TestApp::Controller::ExecutionViaConfig=HASH(0x45312e0)', 'Shared') called at /tmp/loop_over_bdir-22882-tu0hSo/Catalyst-Controller-ActionRole-0.15-hTUBd8/blib/lib/Catalyst/Controller/ActionRole.pm line 49
	Catalyst::Controller::ActionRole::_build__action_roles('TestApp::Controller::ExecutionViaConfig=HASH(0x45312e0)') called at native delegation method Catalyst::Controller::ActionRole::_action_roles (elements) of attribute _action_roles (defined at /tmp/loop_over_bdir-22882-tu0hSo/Catalyst-Controller-ActionRole-0.15-hTUBd8/blib/lib/Catalyst/Controller/ActionRole.pm line 37) line 8
	Catalyst::Controller::ActionRole::_action_roles('TestApp::Controller::ExecutionViaConfig=HASH(0x45312e0)') called at /home/sand/src/perl/repoperls/installed-perls/perl/v5.18.1/a2da/lib/site_perl/5.18.1/Catalyst/Controller.pm line 84
	Catalyst::Controller::BUILD('TestApp::Controller::ExecutionViaConfig=HASH(0x45312e0)', 'HASH(0x4531538)') called at /home/sand/src/perl/repoperls/installed-perls/perl/v5.18.1/a2da/lib/site_perl/5.18.1/x86_64-linux-thread-multi-ld/Class/MOP/Method.pm line 131
	Class::MOP::Method::execute('Moose::Meta::Class::__ANON__::SERIAL::6=HASH(0x3ce5228)', 'TestApp::Controller::ExecutionViaConfig=HASH(0x45312e0)', 'HASH(0x4531538)') called at /home/sand/src/perl/repoperls/installed-perls/perl/v5.18.1/a2da/lib/site_perl/5.18.1/x86_64-linux-thread-multi-ld/Moose/Object.pm line 59
	Moose::Object::BUILDALL('TestApp::Controller::ExecutionViaConfig=HASH(0x45312e0)', 'HASH(0x4531538)') called at /home/sand/src/perl/repoperls/installed-perls/perl/v5.18.1/a2da/lib/site_perl/5.18.1/x86_64-linux-thread-multi-ld/Moose/Meta/Class.pm line 285
	Moose::Meta::Class::new_object('Moose::Meta::Class::__ANON__::SERIAL::5=HASH(0x4513880)', 'HASH(0x4531538)') called at /home/sand/src/perl/repoperls/installed-perls/perl/v5.18.1/a2da/lib/site_perl/5.18.1/x86_64-linux-thread-multi-ld/Moose/Object.pm line 30
	Moose::Object::new('TestApp::Controller::ExecutionViaConfig', 'TestApp', 'HASH(0x45316b8)') called at constructor Catalyst::Controller::new (defined at /home/sand/src/perl/repoperls/installed-perls/perl/v5.18.1/a2da/lib/site_perl/5.18.1/Catalyst/Controller.pm line 573) line 4
	Catalyst::Controller::new('TestApp::Controller::ExecutionViaConfig', 'TestApp', 'HASH(0x45316b8)') called at /home/sand/src/perl/repoperls/installed-perls/perl/v5.18.1/a2da/lib/site_perl/5.18.1/Catalyst/Component.pm line 123
	Catalyst::Component::COMPONENT('TestApp::Controller::ExecutionViaConfig', 'TestApp', 'HASH(0x45316b8)') called at /home/sand/src/perl/repoperls/installed-perls/perl/v5.18.1/a2da/lib/site_perl/5.18.1/Catalyst.pm line 2656
	eval {...} called at /home/sand/src/perl/repoperls/installed-perls/perl/v5.18.1/a2da/lib/site_perl/5.18.1/Catalyst.pm line 2656
	Catalyst::setup_component('TestApp', 'TestApp::Controller::ExecutionViaConfig') called at /home/sand/src/perl/repoperls/installed-perls/perl/v5.18.1/a2da/lib/site_perl/5.18.1/Catalyst.pm line 2583
	Catalyst::setup_components('TestApp') called at /home/sand/src/perl/repoperls/installed-perls/perl/v5.18.1/a2da/lib/site_perl/5.18.1/Catalyst.pm line 1177
	Catalyst::setup('TestApp') called at /tmp/loop_over_bdir-22882-tu0hSo/Catalyst-Controller-ActionRole-0.15-hTUBd8/t/lib/TestApp.pm line 9
	require TestApp.pm called at /home/sand/src/perl/repoperls/installed-perls/perl/v5.18.1/a2da/lib/site_perl/5.18.1/Module/Runtime.pm line 317
	Module::Runtime::require_module('TestApp') called at /home/sand/src/perl/repoperls/installed-perls/perl/v5.18.1/a2da/lib/site_perl/5.18.1/Class/Load.pm line 177
	Class::Load::try {...} () called at /home/sand/src/perl/repoperls/installed-perls/perl/v5.18.1/a2da/lib/site_perl/5.18.1/Try/Tiny.pm line 78
	eval {...} called at /home/sand/src/perl/repoperls/installed-perls/perl/v5.18.1/a2da/lib/site_perl/5.18.1/Try/Tiny.pm line 74
	Try::Tiny::try('CODE(0x2e7a9d8)', 'Try::Tiny::Catch=REF(0x2e7ab88)') called at /home/sand/src/perl/repoperls/installed-perls/perl/v5.18.1/a2da/lib/site_perl/5.18.1/Class/Load.pm line 183
	Class::Load::try_load_class('TestApp', undef) called at /home/sand/src/perl/repoperls/installed-perls/perl/v5.18.1/a2da/lib/site_perl/5.18.1/Class/Load.pm line 38
	Class::Load::load_class('TestApp') called at /home/sand/src/perl/repoperls/installed-perls/perl/v5.18.1/a2da/lib/site_perl/5.18.1/Catalyst/Test.pm line 29
	Catalyst::Test::_build_request_export('Catalyst::Test', 'HASH(0x333bac0)') called at /home/sand/src/perl/repoperls/installed-perls/perl/v5.18.1/a2da/lib/site_perl/5.18.1/Catalyst/Test.pm line 92
	Catalyst::Test::__ANON__('Catalyst::Test', 'all', 'HASH(0x333ba78)', 'HASH(0x1e41820)') called at /home/sand/src/perl/repoperls/installed-perls/perl/v5.18.1/a2da/lib/site_perl/5.18.1/Sub/Exporter.pm line 108
	Sub::Exporter::_expand_group('Catalyst::Test', 'HASH(0x333b1a8)', 'ARRAY(0x1ee48f0)', 'HASH(0x1e41820)', 'HASH(0x333baf0)', 'HASH(0x1eb3310)') called at /home/sand/src/perl/repoperls/installed-perls/perl/v5.18.1/a2da/lib/site_perl/5.18.1/Sub/Exporter.pm line 39
	Sub::Exporter::_expand_groups('Catalyst::Test', 'HASH(0x333b1a8)', 'ARRAY(0x333b2e0)', 'HASH(0x1e41820)') called at /home/sand/src/perl/repoperls/installed-perls/perl/v5.18.1/a2da/lib/site_perl/5.18.1/Sub/Exporter.pm line 323
	Sub::Exporter::__ANON__('Catalyst::Test', '-all', 'HASH(0x1bdba78)') called at /home/sand/src/perl/repoperls/installed-perls/perl/v5.18.1/a2da/lib/site_perl/5.18.1/Catalyst/Test.pm line 155
	Catalyst::Test::import('Catalyst::Test', 'TestApp') called at t/basic.t line 8
	main::BEGIN() called at /tmp/loop_over_bdir-22882-tu0hSo/Catalyst-Controller-ActionRole-0.15-hTUBd8/t/lib/TestApp.pm line 0
	eval {...} called at /tmp/loop_over_bdir-22882-tu0hSo/Catalyst-Controller-ActionRole-0.15-hTUBd8/t/lib/TestApp.pm line 0
t/basic.t ................. ok
Class::MOP::load_first_existing_class is deprecated at /home/sand/src/perl/repoperls/installed-perls/perl/v5.18.1/a2da/lib/site_perl/5.18.1/x86_64-linux-thread-multi-ld/Class/MOP.pm line 85.
	Class::MOP::load_first_existing_class('TestAppREST::ActionRole::Moo', 'Catalyst::ActionRole::Moo') called at /tmp/loop_over_bdir-22882-tu0hSo/Catalyst-Controller-ActionRole-0.15-hTUBd8/blib/lib/Catalyst/Controller/ActionRole.pm line 120
	Catalyst::Controller::ActionRole::__ANON__('Moo') called at /home/sand/src/perl/repoperls/installed-perls/perl/v5.18.1/a2da/lib/site_perl/5.18.1/String/RewritePrefix.pm line 44
	String::RewritePrefix::__ANON__('Moo') called at /home/sand/src/perl/repoperls/installed-perls/perl/v5.18.1/a2da/lib/site_perl/5.18.1/String/RewritePrefix.pm line 18
	String::RewritePrefix::rewrite('String::RewritePrefix', 'HASH(0x4084ce0)', 'Moo') called at /tmp/loop_over_bdir-22882-tu0hSo/Catalyst-Controller-ActionRole-0.15-hTUBd8/blib/lib/Catalyst/Controller/ActionRole.pm line 125
	Catalyst::Controller::ActionRole::_expand_role_shortname('TestAppREST::Controller::Foo=HASH(0x4016568)', 'Moo') called at /tmp/loop_over_bdir-22882-tu0hSo/Catalyst-Controller-ActionRole-0.15-hTUBd8/blib/lib/Catalyst/Controller/ActionRole.pm line 134
	Catalyst::Controller::ActionRole::_parse_Does_attr('TestAppREST::Controller::Foo=HASH(0x4016568)', 'TestAppREST', 'foo', 'Moo') called at /home/sand/src/perl/repoperls/installed-perls/perl/v5.18.1/a2da/lib/site_perl/5.18.1/Catalyst/Controller.pm line 441
	Catalyst::Controller::_parse_attr('TestAppREST::Controller::Foo=HASH(0x4016568)', 'TestAppREST', 'foo', 'Does', 'ARRAY(0x3f913d8)') called at /home/sand/src/perl/repoperls/installed-perls/perl/v5.18.1/a2da/lib/site_perl/5.18.1/Catalyst/Controller.pm line 427
	Catalyst::Controller::_parse_attrs('TestAppREST::Controller::Foo=HASH(0x4016568)', 'TestAppREST', 'foo', 'Local', 'Does(\'Moo\')', 'ActionClass(\'REST\')') called at /home/sand/src/perl/repoperls/installed-perls/perl/v5.18.1/a2da/lib/site_perl/5.18.1/Catalyst/Controller.pm line 279
	Catalyst::Controller::register_action_methods('TestAppREST::Controller::Foo=HASH(0x4016568)', 'TestAppREST', 'Moose::Meta::Class::__ANON__::SERIAL::2=HASH(0x4078560)', 'Moose::Meta::Class::__ANON__::SERIAL::2=HASH(0x4069a60)', 'Moose::Meta::Class::__ANON__::SERIAL::2=HASH(0x3fb7b28)', 'Moose::Meta::Class::__ANON__::SERIAL::2=HASH(0x40841d0)', 'Moose::Meta::Class::__ANON__::SERIAL::2=HASH(0x3fb7bb8)', 'Moose::Meta::Class::__ANON__::SERIAL::2=HASH(0x4084620)') called at /home/sand/src/perl/repoperls/installed-perls/perl/v5.18.1/a2da/lib/site_perl/5.18.1/Catalyst/Controller.pm line 257
	Catalyst::Controller::register_actions('TestAppREST::Controller::Foo=HASH(0x4016568)', 'TestAppREST') called at /home/sand/src/perl/repoperls/installed-perls/perl/v5.18.1/a2da/lib/site_perl/5.18.1/Catalyst/Dispatcher.pm line 609
	Catalyst::Dispatcher::setup_actions('Catalyst::Dispatcher=HASH(0x3d10700)', 'TestAppREST') called at /home/sand/src/perl/repoperls/installed-perls/perl/v5.18.1/a2da/lib/site_perl/5.18.1/Catalyst.pm line 2543
	Catalyst::setup_actions('TestAppREST') called at /home/sand/src/perl/repoperls/installed-perls/perl/v5.18.1/a2da/lib/site_perl/5.18.1/Catalyst.pm line 1238
	Catalyst::setup('TestAppREST') called at /tmp/loop_over_bdir-22882-tu0hSo/Catalyst-Controller-ActionRole-0.15-hTUBd8/t/lib/TestAppREST.pm line 9
	require TestAppREST.pm called at /home/sand/src/perl/repoperls/installed-perls/perl/v5.18.1/a2da/lib/site_perl/5.18.1/Module/Runtime.pm line 317
	Module::Runtime::require_module('TestAppREST') called at /home/sand/src/perl/repoperls/installed-perls/perl/v5.18.1/a2da/lib/site_perl/5.18.1/Class/Load.pm line 177
	Class::Load::try {...} () called at /home/sand/src/perl/repoperls/installed-perls/perl/v5.18.1/a2da/lib/site_perl/5.18.1/Try/Tiny.pm line 78
	eval {...} called at /home/sand/src/perl/repoperls/installed-perls/perl/v5.18.1/a2da/lib/site_perl/5.18.1/Try/Tiny.pm line 74
	Try::Tiny::try('CODE(0x3686fa0)', 'Try::Tiny::Catch=REF(0x367ce38)') called at /home/sand/src/perl/repoperls/installed-perls/perl/v5.18.1/a2da/lib/site_perl/5.18.1/Class/Load.pm line 183
	Class::Load::try_load_class('TestAppREST', undef) called at /home/sand/src/perl/repoperls/installed-perls/perl/v5.18.1/a2da/lib/site_perl/5.18.1/Class/Load.pm line 38
	Class::Load::load_class('TestAppREST') called at /home/sand/src/perl/repoperls/installed-perls/perl/v5.18.1/a2da/lib/site_perl/5.18.1/Catalyst/Test.pm line 29
	Catalyst::Test::_build_request_export('Catalyst::Test', 'HASH(0x36aed28)') called at /home/sand/src/perl/repoperls/installed-perls/perl/v5.18.1/a2da/lib/site_perl/5.18.1/Catalyst/Test.pm line 92
	Catalyst::Test::__ANON__('Catalyst::Test', 'all', 'HASH(0x36aece0)', 'HASH(0x3651f30)') called at /home/sand/src/perl/repoperls/installed-perls/perl/v5.18.1/a2da/lib/site_perl/5.18.1/Sub/Exporter.pm line 108
	Sub::Exporter::_expand_group('Catalyst::Test', 'HASH(0x36f82f8)', 'ARRAY(0x3698b38)', 'HASH(0x3651f30)', 'HASH(0x36aed58)', 'HASH(0x36a5ad0)') called at /home/sand/src/perl/repoperls/installed-perls/perl/v5.18.1/a2da/lib/site_perl/5.18.1/Sub/Exporter.pm line 39
	Sub::Exporter::_expand_groups('Catalyst::Test', 'HASH(0x36f82f8)', 'ARRAY(0x36f8430)', 'HASH(0x3651f30)') called at /home/sand/src/perl/repoperls/installed-perls/perl/v5.18.1/a2da/lib/site_perl/5.18.1/Sub/Exporter.pm line 323
	Sub::Exporter::__ANON__('Catalyst::Test', '-all', 'HASH(0x181cf88)') called at /home/sand/src/perl/repoperls/installed-perls/perl/v5.18.1/a2da/lib/site_perl/5.18.1/Catalyst/Test.pm line 155
	Catalyst::Test::import('Catalyst::Test', 'TestAppREST') called at t/basic_rest.t line 16
	main::BEGIN() called at /tmp/loop_over_bdir-22882-tu0hSo/Catalyst-Controller-ActionRole-0.15-hTUBd8/t/lib/TestAppREST.pm line 0
	eval {...} called at /tmp/loop_over_bdir-22882-tu0hSo/Catalyst-Controller-ActionRole-0.15-hTUBd8/t/lib/TestAppREST.pm line 0
Class::MOP::load_class is deprecated at /home/sand/src/perl/repoperls/installed-perls/perl/v5.18.1/a2da/lib/site_perl/5.18.1/x86_64-linux-thread-multi-ld/Class/MOP.pm line 76.
	Class::MOP::load_class('TestAppREST::ActionRole::Moo') called at /tmp/loop_over_bdir-22882-tu0hSo/Catalyst-Controller-ActionRole-0.15-hTUBd8/blib/lib/Catalyst/Controller/ActionRole.pm line 69
	Class::MOP::Class:::around('CODE(0x34d3008)', 'TestAppREST::Controller::Foo=HASH(0x4016568)', 'name', 'foo', 'code', 'CODE(0x382cac8)', 'reverse', 'foo/foo', 'namespace', ...) called at /home/sand/src/perl/repoperls/installed-perls/perl/v5.18.1/a2da/lib/site_perl/5.18.1/x86_64-linux-thread-multi-ld/Class/MOP/Method/Wrapped.pm line 166
	Class::MOP::Method::Wrapped::__ANON__('TestAppREST::Controller::Foo=HASH(0x4016568)', 'name', 'foo', 'code', 'CODE(0x382cac8)', 'reverse', 'foo/foo', 'namespace', 'foo', ...) called at /home/sand/src/perl/repoperls/installed-perls/perl/v5.18.1/a2da/lib/site_perl/5.18.1/x86_64-linux-thread-multi-ld/Class/MOP/Method/Wrapped.pm line 95
	Catalyst::Controller::ActionRole::create_action('TestAppREST::Controller::Foo=HASH(0x4016568)', 'name', 'foo', 'code', 'CODE(0x382cac8)', 'reverse', 'foo/foo', 'namespace', 'foo', ...) called at /home/sand/src/perl/repoperls/installed-perls/perl/v5.18.1/a2da/lib/site_perl/5.18.1/Catalyst/Controller.pm line 288
	Catalyst::Controller::register_action_methods('TestAppREST::Controller::Foo=HASH(0x4016568)', 'TestAppREST', 'Moose::Meta::Class::__ANON__::SERIAL::2=HASH(0x4078560)', 'Moose::Meta::Class::__ANON__::SERIAL::2=HASH(0x4069a60)', 'Moose::Meta::Class::__ANON__::SERIAL::2=HASH(0x3fb7b28)', 'Moose::Meta::Class::__ANON__::SERIAL::2=HASH(0x40841d0)', 'Moose::Meta::Class::__ANON__::SERIAL::2=HASH(0x3fb7bb8)', 'Moose::Meta::Class::__ANON__::SERIAL::2=HASH(0x4084620)') called at /home/sand/src/perl/repoperls/installed-perls/perl/v5.18.1/a2da/lib/site_perl/5.18.1/Catalyst/Controller.pm line 257
	Catalyst::Controller::register_actions('TestAppREST::Controller::Foo=HASH(0x4016568)', 'TestAppREST') called at /home/sand/src/perl/repoperls/installed-perls/perl/v5.18.1/a2da/lib/site_perl/5.18.1/Catalyst/Dispatcher.pm line 609
	Catalyst::Dispatcher::setup_actions('Catalyst::Dispatcher=HASH(0x3d10700)', 'TestAppREST') called at /home/sand/src/perl/repoperls/installed-perls/perl/v5.18.1/a2da/lib/site_perl/5.18.1/Catalyst.pm line 2543
	Catalyst::setup_actions('TestAppREST') called at /home/sand/src/perl/repoperls/installed-perls/perl/v5.18.1/a2da/lib/site_perl/5.18.1/Catalyst.pm line 1238
	Catalyst::setup('TestAppREST') called at /tmp/loop_over_bdir-22882-tu0hSo/Catalyst-Controller-ActionRole-0.15-hTUBd8/t/lib/TestAppREST.pm line 9
	require TestAppREST.pm called at /home/sand/src/perl/repoperls/installed-perls/perl/v5.18.1/a2da/lib/site_perl/5.18.1/Module/Runtime.pm line 317
	Module::Runtime::require_module('TestAppREST') called at /home/sand/src/perl/repoperls/installed-perls/perl/v5.18.1/a2da/lib/site_perl/5.18.1/Class/Load.pm line 177
	Class::Load::try {...} () called at /home/sand/src/perl/repoperls/installed-perls/perl/v5.18.1/a2da/lib/site_perl/5.18.1/Try/Tiny.pm line 78
	eval {...} called at /home/sand/src/perl/repoperls/installed-perls/perl/v5.18.1/a2da/lib/site_perl/5.18.1/Try/Tiny.pm line 74
	Try::Tiny::try('CODE(0x3686fa0)', 'Try::Tiny::Catch=REF(0x367ce38)') called at /home/sand/src/perl/repoperls/installed-perls/perl/v5.18.1/a2da/lib/site_perl/5.18.1/Class/Load.pm line 183
	Class::Load::try_load_class('TestAppREST', undef) called at /home/sand/src/perl/repoperls/installed-perls/perl/v5.18.1/a2da/lib/site_perl/5.18.1/Class/Load.pm line 38
	Class::Load::load_class('TestAppREST') called at /home/sand/src/perl/repoperls/installed-perls/perl/v5.18.1/a2da/lib/site_perl/5.18.1/Catalyst/Test.pm line 29
	Catalyst::Test::_build_request_export('Catalyst::Test', 'HASH(0x36aed28)') called at /home/sand/src/perl/repoperls/installed-perls/perl/v5.18.1/a2da/lib/site_perl/5.18.1/Catalyst/Test.pm line 92
	Catalyst::Test::__ANON__('Catalyst::Test', 'all', 'HASH(0x36aece0)', 'HASH(0x3651f30)') called at /home/sand/src/perl/repoperls/installed-perls/perl/v5.18.1/a2da/lib/site_perl/5.18.1/Sub/Exporter.pm line 108
	Sub::Exporter::_expand_group('Catalyst::Test', 'HASH(0x36f82f8)', 'ARRAY(0x3698b38)', 'HASH(0x3651f30)', 'HASH(0x36aed58)', 'HASH(0x36a5ad0)') called at /home/sand/src/perl/repoperls/installed-perls/perl/v5.18.1/a2da/lib/site_perl/5.18.1/Sub/Exporter.pm line 39
	Sub::Exporter::_expand_groups('Catalyst::Test', 'HASH(0x36f82f8)', 'ARRAY(0x36f8430)', 'HASH(0x3651f30)') called at /home/sand/src/perl/repoperls/installed-perls/perl/v5.18.1/a2da/lib/site_perl/5.18.1/Sub/Exporter.pm line 323
	Sub::Exporter::__ANON__('Catalyst::Test', '-all', 'HASH(0x181cf88)') called at /home/sand/src/perl/repoperls/installed-perls/perl/v5.18.1/a2da/lib/site_perl/5.18.1/Catalyst/Test.pm line 155
	Catalyst::Test::import('Catalyst::Test', 'TestAppREST') called at t/basic_rest.t line 16
	main::BEGIN() called at /tmp/loop_over_bdir-22882-tu0hSo/Catalyst-Controller-ActionRole-0.15-hTUBd8/t/lib/TestAppREST.pm line 0
	eval {...} called at /tmp/loop_over_bdir-22882-tu0hSo/Catalyst-Controller-ActionRole-0.15-hTUBd8/t/lib/TestAppREST.pm line 0
t/basic_rest.t ............ ok
Class::MOP::load_class is deprecated at /home/sand/src/perl/repoperls/installed-perls/perl/v5.18.1/a2da/lib/site_perl/5.18.1/x86_64-linux-thread-multi-ld/Class/MOP.pm line 76.
	Class::MOP::load_class('TestApp::ActionRole::Kooh') called at /tmp/loop_over_bdir-22882-tu0hSo/Catalyst-Controller-ActionRole-0.15-hTUBd8/blib/lib/Catalyst/Controller/ActionRole.pm line 50
	Catalyst::Controller::ActionRole::_build__action_roles('TestApp::Controller::Bar=HASH(0x3d71608)') called at native delegation method Catalyst::Controller::ActionRole::_action_roles (elements) of attribute _action_roles (defined at /tmp/loop_over_bdir-22882-tu0hSo/Catalyst-Controller-ActionRole-0.15-hTUBd8/blib/lib/Catalyst/Controller/ActionRole.pm line 37) line 8
	Catalyst::Controller::ActionRole::_action_roles('TestApp::Controller::Bar=HASH(0x3d71608)') called at /home/sand/src/perl/repoperls/installed-perls/perl/v5.18.1/a2da/lib/site_perl/5.18.1/Catalyst/Controller.pm line 84
	Catalyst::Controller::BUILD('TestApp::Controller::Bar=HASH(0x3d71608)', 'HASH(0x3d71c68)') called at /home/sand/src/perl/repoperls/installed-perls/perl/v5.18.1/a2da/lib/site_perl/5.18.1/x86_64-linux-thread-multi-ld/Class/MOP/Method.pm line 131
	Class::MOP::Method::execute('Moose::Meta::Class::__ANON__::SERIAL::6=HASH(0x353af88)', 'TestApp::Controller::Bar=HASH(0x3d71608)', 'HASH(0x3d71c68)') called at /home/sand/src/perl/repoperls/installed-perls/perl/v5.18.1/a2da/lib/site_perl/5.18.1/x86_64-linux-thread-multi-ld/Moose/Object.pm line 59
	Moose::Object::BUILDALL('TestApp::Controller::Bar=HASH(0x3d71608)', 'HASH(0x3d71c68)') called at /home/sand/src/perl/repoperls/installed-perls/perl/v5.18.1/a2da/lib/site_perl/5.18.1/x86_64-linux-thread-multi-ld/Moose/Meta/Class.pm line 285
	Moose::Meta::Class::new_object('Moose::Meta::Class::__ANON__::SERIAL::5=HASH(0x3d48558)', 'HASH(0x3d71c68)') called at /home/sand/src/perl/repoperls/installed-perls/perl/v5.18.1/a2da/lib/site_perl/5.18.1/x86_64-linux-thread-multi-ld/Moose/Object.pm line 30
	Moose::Object::new('TestApp::Controller::Bar', 'TestApp', 'HASH(0x3abaab0)') called at constructor Catalyst::Controller::new (defined at /home/sand/src/perl/repoperls/installed-perls/perl/v5.18.1/a2da/lib/site_perl/5.18.1/Catalyst/Controller.pm line 573) line 4
	Catalyst::Controller::new('TestApp::Controller::Bar', 'TestApp', 'HASH(0x3abaab0)') called at /home/sand/src/perl/repoperls/installed-perls/perl/v5.18.1/a2da/lib/site_perl/5.18.1/Catalyst/Component.pm line 123
	Catalyst::Component::COMPONENT('TestApp::Controller::Bar', 'TestApp', 'HASH(0x3abaab0)') called at /home/sand/src/perl/repoperls/installed-perls/perl/v5.18.1/a2da/lib/site_perl/5.18.1/Catalyst.pm line 2656
	eval {...} called at /home/sand/src/perl/repoperls/installed-perls/perl/v5.18.1/a2da/lib/site_perl/5.18.1/Catalyst.pm line 2656
	Catalyst::setup_component('TestApp', 'TestApp::Controller::Bar') called at /home/sand/src/perl/repoperls/installed-perls/perl/v5.18.1/a2da/lib/site_perl/5.18.1/Catalyst.pm line 2583
	Catalyst::setup_components('TestApp') called at /home/sand/src/perl/repoperls/installed-perls/perl/v5.18.1/a2da/lib/site_perl/5.18.1/Catalyst.pm line 1177
	Catalyst::setup('TestApp') called at /tmp/loop_over_bdir-22882-tu0hSo/Catalyst-Controller-ActionRole-0.15-hTUBd8/t/lib/TestApp.pm line 9
	require TestApp.pm called at /home/sand/src/perl/repoperls/installed-perls/perl/v5.18.1/a2da/lib/site_perl/5.18.1/Module/Runtime.pm line 317
	Module::Runtime::require_module('TestApp') called at /home/sand/src/perl/repoperls/installed-perls/perl/v5.18.1/a2da/lib/site_perl/5.18.1/Class/Load.pm line 177
	Class::Load::try {...} () called at /home/sand/src/perl/repoperls/installed-perls/perl/v5.18.1/a2da/lib/site_perl/5.18.1/Try/Tiny.pm line 78
	eval {...} called at /home/sand/src/perl/repoperls/installed-perls/perl/v5.18.1/a2da/lib/site_perl/5.18.1/Try/Tiny.pm line 74
	Try::Tiny::try('CODE(0x26cef38)', 'Try::Tiny::Catch=REF(0x26a4130)') called at /home/sand/src/perl/repoperls/installed-perls/perl/v5.18.1/a2da/lib/site_perl/5.18.1/Class/Load.pm line 183
	Class::Load::try_load_class('TestApp', undef) called at /home/sand/src/perl/repoperls/installed-perls/perl/v5.18.1/a2da/lib/site_perl/5.18.1/Class/Load.pm line 38
	Class::Load::load_class('TestApp') called at /home/sand/src/perl/repoperls/installed-perls/perl/v5.18.1/a2da/lib/site_perl/5.18.1/Catalyst/Test.pm line 29
	Catalyst::Test::_build_request_export('Catalyst::Test', 'HASH(0x2b91f00)') called at /home/sand/src/perl/repoperls/installed-perls/perl/v5.18.1/a2da/lib/site_perl/5.18.1/Catalyst/Test.pm line 92
	Catalyst::Test::__ANON__('Catalyst::Test', 'all', 'HASH(0x2b91eb8)', 'HASH(0x1707998)') called at /home/sand/src/perl/repoperls/installed-perls/perl/v5.18.1/a2da/lib/site_perl/5.18.1/Sub/Exporter.pm line 108
	Sub::Exporter::_expand_group('Catalyst::Test', 'HASH(0x2b915e8)', 'ARRAY(0x17390d0)', 'HASH(0x1707998)', 'HASH(0x2b91f30)', 'HASH(0x17078d8)') called at /home/sand/src/perl/repoperls/installed-perls/perl/v5.18.1/a2da/lib/site_perl/5.18.1/Sub/Exporter.pm line 39
	Sub::Exporter::_expand_groups('Catalyst::Test', 'HASH(0x2b915e8)', 'ARRAY(0x2b91720)', 'HASH(0x1707998)') called at /home/sand/src/perl/repoperls/installed-perls/perl/v5.18.1/a2da/lib/site_perl/5.18.1/Sub/Exporter.pm line 323
	Sub::Exporter::__ANON__('Catalyst::Test', '-all', 'HASH(0x1695fc0)') called at /home/sand/src/perl/repoperls/installed-perls/perl/v5.18.1/a2da/lib/site_perl/5.18.1/Catalyst/Test.pm line 155
	Catalyst::Test::import('Catalyst::Test', 'TestApp') called at t/execution-via-config.t line 8
	main::BEGIN() called at /tmp/loop_over_bdir-22882-tu0hSo/Catalyst-Controller-ActionRole-0.15-hTUBd8/t/lib/TestApp.pm line 0
	eval {...} called at /tmp/loop_over_bdir-22882-tu0hSo/Catalyst-Controller-ActionRole-0.15-hTUBd8/t/lib/TestApp.pm line 0
Class::MOP::load_first_existing_class is deprecated at /home/sand/src/perl/repoperls/installed-perls/perl/v5.18.1/a2da/lib/site_perl/5.18.1/x86_64-linux-thread-multi-ld/Class/MOP.pm line 85.
	Class::MOP::load_first_existing_class('TestApp::ActionRole::Shared', 'Catalyst::ActionRole::Shared') called at /tmp/loop_over_bdir-22882-tu0hSo/Catalyst-Controller-ActionRole-0.15-hTUBd8/blib/lib/Catalyst/Controller/ActionRole.pm line 120
	Catalyst::Controller::ActionRole::__ANON__('Shared') called at /home/sand/src/perl/repoperls/installed-perls/perl/v5.18.1/a2da/lib/site_perl/5.18.1/String/RewritePrefix.pm line 44
	String::RewritePrefix::__ANON__('Shared') called at /home/sand/src/perl/repoperls/installed-perls/perl/v5.18.1/a2da/lib/site_perl/5.18.1/String/RewritePrefix.pm line 18
	String::RewritePrefix::rewrite('String::RewritePrefix', 'HASH(0x3d86620)', 'Shared') called at /tmp/loop_over_bdir-22882-tu0hSo/Catalyst-Controller-ActionRole-0.15-hTUBd8/blib/lib/Catalyst/Controller/ActionRole.pm line 125
	Catalyst::Controller::ActionRole::_expand_role_shortname('TestApp::Controller::ExecutionViaConfig=HASH(0x3d85b10)', 'Shared') called at /tmp/loop_over_bdir-22882-tu0hSo/Catalyst-Controller-ActionRole-0.15-hTUBd8/blib/lib/Catalyst/Controller/ActionRole.pm line 49
	Catalyst::Controller::ActionRole::_build__action_roles('TestApp::Controller::ExecutionViaConfig=HASH(0x3d85b10)') called at native delegation method Catalyst::Controller::ActionRole::_action_roles (elements) of attribute _action_roles (defined at /tmp/loop_over_bdir-22882-tu0hSo/Catalyst-Controller-ActionRole-0.15-hTUBd8/blib/lib/Catalyst/Controller/ActionRole.pm line 37) line 8
	Catalyst::Controller::ActionRole::_action_roles('TestApp::Controller::ExecutionViaConfig=HASH(0x3d85b10)') called at /home/sand/src/perl/repoperls/installed-perls/perl/v5.18.1/a2da/lib/site_perl/5.18.1/Catalyst/Controller.pm line 84
	Catalyst::Controller::BUILD('TestApp::Controller::ExecutionViaConfig=HASH(0x3d85b10)', 'HASH(0x3d7f028)') called at /home/sand/src/perl/repoperls/installed-perls/perl/v5.18.1/a2da/lib/site_perl/5.18.1/x86_64-linux-thread-multi-ld/Class/MOP/Method.pm line 131
	Class::MOP::Method::execute('Moose::Meta::Class::__ANON__::SERIAL::6=HASH(0x353af88)', 'TestApp::Controller::ExecutionViaConfig=HASH(0x3d85b10)', 'HASH(0x3d7f028)') called at /home/sand/src/perl/repoperls/installed-perls/perl/v5.18.1/a2da/lib/site_perl/5.18.1/x86_64-linux-thread-multi-ld/Moose/Object.pm line 59
	Moose::Object::BUILDALL('TestApp::Controller::ExecutionViaConfig=HASH(0x3d85b10)', 'HASH(0x3d7f028)') called at /home/sand/src/perl/repoperls/installed-perls/perl/v5.18.1/a2da/lib/site_perl/5.18.1/x86_64-linux-thread-multi-ld/Moose/Meta/Class.pm line 285
	Moose::Meta::Class::new_object('Moose::Meta::Class::__ANON__::SERIAL::5=HASH(0x3d61c48)', 'HASH(0x3d7f028)') called at /home/sand/src/perl/repoperls/installed-perls/perl/v5.18.1/a2da/lib/site_perl/5.18.1/x86_64-linux-thread-multi-ld/Moose/Object.pm line 30
	Moose::Object::new('TestApp::Controller::ExecutionViaConfig', 'TestApp', 'HASH(0x3d85f18)') called at constructor Catalyst::Controller::new (defined at /home/sand/src/perl/repoperls/installed-perls/perl/v5.18.1/a2da/lib/site_perl/5.18.1/Catalyst/Controller.pm line 573) line 4
	Catalyst::Controller::new('TestApp::Controller::ExecutionViaConfig', 'TestApp', 'HASH(0x3d85f18)') called at /home/sand/src/perl/repoperls/installed-perls/perl/v5.18.1/a2da/lib/site_perl/5.18.1/Catalyst/Component.pm line 123
	Catalyst::Component::COMPONENT('TestApp::Controller::ExecutionViaConfig', 'TestApp', 'HASH(0x3d85f18)') called at /home/sand/src/perl/repoperls/installed-perls/perl/v5.18.1/a2da/lib/site_perl/5.18.1/Catalyst.pm line 2656
	eval {...} called at /home/sand/src/perl/repoperls/installed-perls/perl/v5.18.1/a2da/lib/site_perl/5.18.1/Catalyst.pm line 2656
	Catalyst::setup_component('TestApp', 'TestApp::Controller::ExecutionViaConfig') called at /home/sand/src/perl/repoperls/installed-perls/perl/v5.18.1/a2da/lib/site_perl/5.18.1/Catalyst.pm line 2583
	Catalyst::setup_components('TestApp') called at /home/sand/src/perl/repoperls/installed-perls/perl/v5.18.1/a2da/lib/site_perl/5.18.1/Catalyst.pm line 1177
	Catalyst::setup('TestApp') called at /tmp/loop_over_bdir-22882-tu0hSo/Catalyst-Controller-ActionRole-0.15-hTUBd8/t/lib/TestApp.pm line 9
	require TestApp.pm called at /home/sand/src/perl/repoperls/installed-perls/perl/v5.18.1/a2da/lib/site_perl/5.18.1/Module/Runtime.pm line 317
	Module::Runtime::require_module('TestApp') called at /home/sand/src/perl/repoperls/installed-perls/perl/v5.18.1/a2da/lib/site_perl/5.18.1/Class/Load.pm line 177
	Class::Load::try {...} () called at /home/sand/src/perl/repoperls/installed-perls/perl/v5.18.1/a2da/lib/site_perl/5.18.1/Try/Tiny.pm line 78
	eval {...} called at /home/sand/src/perl/repoperls/installed-perls/perl/v5.18.1/a2da/lib/site_perl/5.18.1/Try/Tiny.pm line 74
	Try::Tiny::try('CODE(0x26cef38)', 'Try::Tiny::Catch=REF(0x26a4130)') called at /home/sand/src/perl/repoperls/installed-perls/perl/v5.18.1/a2da/lib/site_perl/5.18.1/Class/Load.pm line 183
	Class::Load::try_load_class('TestApp', undef) called at /home/sand/src/perl/repoperls/installed-perls/perl/v5.18.1/a2da/lib/site_perl/5.18.1/Class/Load.pm line 38
	Class::Load::load_class('TestApp') called at /home/sand/src/perl/repoperls/installed-perls/perl/v5.18.1/a2da/lib/site_perl/5.18.1/Catalyst/Test.pm line 29
	Catalyst::Test::_build_request_export('Catalyst::Test', 'HASH(0x2b91f00)') called at /home/sand/src/perl/repoperls/installed-perls/perl/v5.18.1/a2da/lib/site_perl/5.18.1/Catalyst/Test.pm line 92
	Catalyst::Test::__ANON__('Catalyst::Test', 'all', 'HASH(0x2b91eb8)', 'HASH(0x1707998)') called at /home/sand/src/perl/repoperls/installed-perls/perl/v5.18.1/a2da/lib/site_perl/5.18.1/Sub/Exporter.pm line 108
	Sub::Exporter::_expand_group('Catalyst::Test', 'HASH(0x2b915e8)', 'ARRAY(0x17390d0)', 'HASH(0x1707998)', 'HASH(0x2b91f30)', 'HASH(0x17078d8)') called at /home/sand/src/perl/repoperls/installed-perls/perl/v5.18.1/a2da/lib/site_perl/5.18.1/Sub/Exporter.pm line 39
	Sub::Exporter::_expand_groups('Catalyst::Test', 'HASH(0x2b915e8)', 'ARRAY(0x2b91720)', 'HASH(0x1707998)') called at /home/sand/src/perl/repoperls/installed-perls/perl/v5.18.1/a2da/lib/site_perl/5.18.1/Sub/Exporter.pm line 323
	Sub::Exporter::__ANON__('Catalyst::Test', '-all', 'HASH(0x1695fc0)') called at /home/sand/src/perl/repoperls/installed-perls/perl/v5.18.1/a2da/lib/site_perl/5.18.1/Catalyst/Test.pm line 155
	Catalyst::Test::import('Catalyst::Test', 'TestApp') called at t/execution-via-config.t line 8
	main::BEGIN() called at /tmp/loop_over_bdir-22882-tu0hSo/Catalyst-Controller-ActionRole-0.15-hTUBd8/t/lib/TestApp.pm line 0
	eval {...} called at /tmp/loop_over_bdir-22882-tu0hSo/Catalyst-Controller-ActionRole-0.15-hTUBd8/t/lib/TestApp.pm line 0
t/execution-via-config.t .. ok
Class::MOP::load_class is deprecated at /home/sand/src/perl/repoperls/installed-perls/perl/v5.18.1/a2da/lib/site_perl/5.18.1/x86_64-linux-thread-multi-ld/Class/MOP.pm line 76.
	Class::MOP::load_class('TestApp::ActionRole::Kooh') called at /tmp/loop_over_bdir-22882-tu0hSo/Catalyst-Controller-ActionRole-0.15-hTUBd8/blib/lib/Catalyst/Controller/ActionRole.pm line 50
	Catalyst::Controller::ActionRole::_build__action_roles('TestApp::Controller::Bar=HASH(0x32784c8)') called at native delegation method Catalyst::Controller::ActionRole::_action_roles (elements) of attribute _action_roles (defined at /tmp/loop_over_bdir-22882-tu0hSo/Catalyst-Controller-ActionRole-0.15-hTUBd8/blib/lib/Catalyst/Controller/ActionRole.pm line 37) line 8
	Catalyst::Controller::ActionRole::_action_roles('TestApp::Controller::Bar=HASH(0x32784c8)') called at /home/sand/src/perl/repoperls/installed-perls/perl/v5.18.1/a2da/lib/site_perl/5.18.1/Catalyst/Controller.pm line 84
	Catalyst::Controller::BUILD('TestApp::Controller::Bar=HASH(0x32784c8)', 'HASH(0x3288348)') called at /home/sand/src/perl/repoperls/installed-perls/perl/v5.18.1/a2da/lib/site_perl/5.18.1/x86_64-linux-thread-multi-ld/Class/MOP/Method.pm line 131
	Class::MOP::Method::execute('Moose::Meta::Class::__ANON__::SERIAL::6=HASH(0x2a51b58)', 'TestApp::Controller::Bar=HASH(0x32784c8)', 'HASH(0x3288348)') called at /home/sand/src/perl/repoperls/installed-perls/perl/v5.18.1/a2da/lib/site_perl/5.18.1/x86_64-linux-thread-multi-ld/Moose/Object.pm line 59
	Moose::Object::BUILDALL('TestApp::Controller::Bar=HASH(0x32784c8)', 'HASH(0x3288348)') called at /home/sand/src/perl/repoperls/installed-perls/perl/v5.18.1/a2da/lib/site_perl/5.18.1/x86_64-linux-thread-multi-ld/Moose/Meta/Class.pm line 285
	Moose::Meta::Class::new_object('Moose::Meta::Class::__ANON__::SERIAL::5=HASH(0x325f990)', 'HASH(0x3288348)') called at /home/sand/src/perl/repoperls/installed-perls/perl/v5.18.1/a2da/lib/site_perl/5.18.1/x86_64-linux-thread-multi-ld/Moose/Object.pm line 30
	Moose::Object::new('TestApp::Controller::Bar', 'TestApp', 'HASH(0x31d0780)') called at constructor Catalyst::Controller::new (defined at /home/sand/src/perl/repoperls/installed-perls/perl/v5.18.1/a2da/lib/site_perl/5.18.1/Catalyst/Controller.pm line 573) line 4
	Catalyst::Controller::new('TestApp::Controller::Bar', 'TestApp', 'HASH(0x31d0780)') called at /home/sand/src/perl/repoperls/installed-perls/perl/v5.18.1/a2da/lib/site_perl/5.18.1/Catalyst/Component.pm line 123
	Catalyst::Component::COMPONENT('TestApp::Controller::Bar', 'TestApp', 'HASH(0x31d0780)') called at /home/sand/src/perl/repoperls/installed-perls/perl/v5.18.1/a2da/lib/site_perl/5.18.1/Catalyst.pm line 2656
	eval {...} called at /home/sand/src/perl/repoperls/installed-perls/perl/v5.18.1/a2da/lib/site_perl/5.18.1/Catalyst.pm line 2656
	Catalyst::setup_component('TestApp', 'TestApp::Controller::Bar') called at /home/sand/src/perl/repoperls/installed-perls/perl/v5.18.1/a2da/lib/site_perl/5.18.1/Catalyst.pm line 2583
	Catalyst::setup_components('TestApp') called at /home/sand/src/perl/repoperls/installed-perls/perl/v5.18.1/a2da/lib/site_perl/5.18.1/Catalyst.pm line 1177
	Catalyst::setup('TestApp') called at /tmp/loop_over_bdir-22882-tu0hSo/Catalyst-Controller-ActionRole-0.15-hTUBd8/t/lib/TestApp.pm line 9
	require TestApp.pm called at /home/sand/src/perl/repoperls/installed-perls/perl/v5.18.1/a2da/lib/site_perl/5.18.1/Module/Runtime.pm line 317
	Module::Runtime::require_module('TestApp') called at /home/sand/src/perl/repoperls/installed-perls/perl/v5.18.1/a2da/lib/site_perl/5.18.1/Class/Load.pm line 177
	Class::Load::try {...} () called at /home/sand/src/perl/repoperls/installed-perls/perl/v5.18.1/a2da/lib/site_perl/5.18.1/Try/Tiny.pm line 78
	eval {...} called at /home/sand/src/perl/repoperls/installed-perls/perl/v5.18.1/a2da/lib/site_perl/5.18.1/Try/Tiny.pm line 74
	Try::Tiny::try('CODE(0x1be6088)', 'Try::Tiny::Catch=REF(0x1bbb6f8)') called at /home/sand/src/perl/repoperls/installed-perls/perl/v5.18.1/a2da/lib/site_perl/5.18.1/Class/Load.pm line 183
	Class::Load::try_load_class('TestApp', undef) called at /home/sand/src/perl/repoperls/installed-perls/perl/v5.18.1/a2da/lib/site_perl/5.18.1/Class/Load.pm line 38
	Class::Load::load_class('TestApp') called at /home/sand/src/perl/repoperls/installed-perls/perl/v5.18.1/a2da/lib/site_perl/5.18.1/Catalyst/Test.pm line 29
	Catalyst::Test::_build_request_export('Catalyst::Test', 'HASH(0x20a9160)') called at /home/sand/src/perl/repoperls/installed-perls/perl/v5.18.1/a2da/lib/site_perl/5.18.1/Catalyst/Test.pm line 92
	Catalyst::Test::__ANON__('Catalyst::Test', 'all', 'HASH(0x20a9118)', 'HASH(0xba4730)') called at /home/sand/src/perl/repoperls/installed-perls/perl/v5.18.1/a2da/lib/site_perl/5.18.1/Sub/Exporter.pm line 108
	Sub::Exporter::_expand_group('Catalyst::Test', 'HASH(0x20a8848)', 'ARRAY(0xc4fe90)', 'HASH(0xba4730)', 'HASH(0x20a9190)', 'HASH(0xc1e7a8)') called at /home/sand/src/perl/repoperls/installed-perls/perl/v5.18.1/a2da/lib/site_perl/5.18.1/Sub/Exporter.pm line 39
	Sub::Exporter::_expand_groups('Catalyst::Test', 'HASH(0x20a8848)', 'ARRAY(0x20a8980)', 'HASH(0xba4730)') called at /home/sand/src/perl/repoperls/installed-perls/perl/v5.18.1/a2da/lib/site_perl/5.18.1/Sub/Exporter.pm line 323
	Sub::Exporter::__ANON__('Catalyst::Test', '-all', 'HASH(0xc1e868)') called at /home/sand/src/perl/repoperls/installed-perls/perl/v5.18.1/a2da/lib/site_perl/5.18.1/Catalyst/Test.pm line 155
	Catalyst::Test::import('Catalyst::Test', 'TestApp') called at t/execution-via-does.t line 8
	main::BEGIN() called at /tmp/loop_over_bdir-22882-tu0hSo/Catalyst-Controller-ActionRole-0.15-hTUBd8/t/lib/TestApp.pm line 0
	eval {...} called at /tmp/loop_over_bdir-22882-tu0hSo/Catalyst-Controller-ActionRole-0.15-hTUBd8/t/lib/TestApp.pm line 0
Class::MOP::load_first_existing_class is deprecated at /home/sand/src/perl/repoperls/installed-perls/perl/v5.18.1/a2da/lib/site_perl/5.18.1/x86_64-linux-thread-multi-ld/Class/MOP.pm line 85.
	Class::MOP::load_first_existing_class('TestApp::ActionRole::Shared', 'Catalyst::ActionRole::Shared') called at /tmp/loop_over_bdir-22882-tu0hSo/Catalyst-Controller-ActionRole-0.15-hTUBd8/blib/lib/Catalyst/Controller/ActionRole.pm line 120
	Catalyst::Controller::ActionRole::__ANON__('Shared') called at /home/sand/src/perl/repoperls/installed-perls/perl/v5.18.1/a2da/lib/site_perl/5.18.1/String/RewritePrefix.pm line 44
	String::RewritePrefix::__ANON__('Shared') called at /home/sand/src/perl/repoperls/installed-perls/perl/v5.18.1/a2da/lib/site_perl/5.18.1/String/RewritePrefix.pm line 18
	String::RewritePrefix::rewrite('String::RewritePrefix', 'HASH(0x329cb70)', 'Shared') called at /tmp/loop_over_bdir-22882-tu0hSo/Catalyst-Controller-ActionRole-0.15-hTUBd8/blib/lib/Catalyst/Controller/ActionRole.pm line 125
	Catalyst::Controller::ActionRole::_expand_role_shortname('TestApp::Controller::ExecutionViaConfig=HASH(0x329c060)', 'Shared') called at /tmp/loop_over_bdir-22882-tu0hSo/Catalyst-Controller-ActionRole-0.15-hTUBd8/blib/lib/Catalyst/Controller/ActionRole.pm line 49
	Catalyst::Controller::ActionRole::_build__action_roles('TestApp::Controller::ExecutionViaConfig=HASH(0x329c060)') called at native delegation method Catalyst::Controller::ActionRole::_action_roles (elements) of attribute _action_roles (defined at /tmp/loop_over_bdir-22882-tu0hSo/Catalyst-Controller-ActionRole-0.15-hTUBd8/blib/lib/Catalyst/Controller/ActionRole.pm line 37) line 8
	Catalyst::Controller::ActionRole::_action_roles('TestApp::Controller::ExecutionViaConfig=HASH(0x329c060)') called at /home/sand/src/perl/repoperls/installed-perls/perl/v5.18.1/a2da/lib/site_perl/5.18.1/Catalyst/Controller.pm line 84
	Catalyst::Controller::BUILD('TestApp::Controller::ExecutionViaConfig=HASH(0x329c060)', 'HASH(0x329c1f8)') called at /home/sand/src/perl/repoperls/installed-perls/perl/v5.18.1/a2da/lib/site_perl/5.18.1/x86_64-linux-thread-multi-ld/Class/MOP/Method.pm line 131
	Class::MOP::Method::execute('Moose::Meta::Class::__ANON__::SERIAL::6=HASH(0x2a51b58)', 'TestApp::Controller::ExecutionViaConfig=HASH(0x329c060)', 'HASH(0x329c1f8)') called at /home/sand/src/perl/repoperls/installed-perls/perl/v5.18.1/a2da/lib/site_perl/5.18.1/x86_64-linux-thread-multi-ld/Moose/Object.pm line 59
	Moose::Object::BUILDALL('TestApp::Controller::ExecutionViaConfig=HASH(0x329c060)', 'HASH(0x329c1f8)') called at /home/sand/src/perl/repoperls/installed-perls/perl/v5.18.1/a2da/lib/site_perl/5.18.1/x86_64-linux-thread-multi-ld/Moose/Meta/Class.pm line 285
	Moose::Meta::Class::new_object('Moose::Meta::Class::__ANON__::SERIAL::5=HASH(0x32783a8)', 'HASH(0x329c1f8)') called at /home/sand/src/perl/repoperls/installed-perls/perl/v5.18.1/a2da/lib/site_perl/5.18.1/x86_64-linux-thread-multi-ld/Moose/Object.pm line 30
	Moose::Object::new('TestApp::Controller::ExecutionViaConfig', 'TestApp', 'HASH(0x329c438)') called at constructor Catalyst::Controller::new (defined at /home/sand/src/perl/repoperls/installed-perls/perl/v5.18.1/a2da/lib/site_perl/5.18.1/Catalyst/Controller.pm line 573) line 4
	Catalyst::Controller::new('TestApp::Controller::ExecutionViaConfig', 'TestApp', 'HASH(0x329c438)') called at /home/sand/src/perl/repoperls/installed-perls/perl/v5.18.1/a2da/lib/site_perl/5.18.1/Catalyst/Component.pm line 123
	Catalyst::Component::COMPONENT('TestApp::Controller::ExecutionViaConfig', 'TestApp', 'HASH(0x329c438)') called at /home/sand/src/perl/repoperls/installed-perls/perl/v5.18.1/a2da/lib/site_perl/5.18.1/Catalyst.pm line 2656
	eval {...} called at /home/sand/src/perl/repoperls/installed-perls/perl/v5.18.1/a2da/lib/site_perl/5.18.1/Catalyst.pm line 2656
	Catalyst::setup_component('TestApp', 'TestApp::Controller::ExecutionViaConfig') called at /home/sand/src/perl/repoperls/installed-perls/perl/v5.18.1/a2da/lib/site_perl/5.18.1/Catalyst.pm line 2583
	Catalyst::setup_components('TestApp') called at /home/sand/src/perl/repoperls/installed-perls/perl/v5.18.1/a2da/lib/site_perl/5.18.1/Catalyst.pm line 1177
	Catalyst::setup('TestApp') called at /tmp/loop_over_bdir-22882-tu0hSo/Catalyst-Controller-ActionRole-0.15-hTUBd8/t/lib/TestApp.pm line 9
	require TestApp.pm called at /home/sand/src/perl/repoperls/installed-perls/perl/v5.18.1/a2da/lib/site_perl/5.18.1/Module/Runtime.pm line 317
	Module::Runtime::require_module('TestApp') called at /home/sand/src/perl/repoperls/installed-perls/perl/v5.18.1/a2da/lib/site_perl/5.18.1/Class/Load.pm line 177
	Class::Load::try {...} () called at /home/sand/src/perl/repoperls/installed-perls/perl/v5.18.1/a2da/lib/site_perl/5.18.1/Try/Tiny.pm line 78
	eval {...} called at /home/sand/src/perl/repoperls/installed-perls/perl/v5.18.1/a2da/lib/site_perl/5.18.1/Try/Tiny.pm line 74
	Try::Tiny::try('CODE(0x1be6088)', 'Try::Tiny::Catch=REF(0x1bbb6f8)') called at /home/sand/src/perl/repoperls/installed-perls/perl/v5.18.1/a2da/lib/site_perl/5.18.1/Class/Load.pm line 183
	Class::Load::try_load_class('TestApp', undef) called at /home/sand/src/perl/repoperls/installed-perls/perl/v5.18.1/a2da/lib/site_perl/5.18.1/Class/Load.pm line 38
	Class::Load::load_class('TestApp') called at /home/sand/src/perl/repoperls/installed-perls/perl/v5.18.1/a2da/lib/site_perl/5.18.1/Catalyst/Test.pm line 29
	Catalyst::Test::_build_request_export('Catalyst::Test', 'HASH(0x20a9160)') called at /home/sand/src/perl/repoperls/installed-perls/perl/v5.18.1/a2da/lib/site_perl/5.18.1/Catalyst/Test.pm line 92
	Catalyst::Test::__ANON__('Catalyst::Test', 'all', 'HASH(0x20a9118)', 'HASH(0xba4730)') called at /home/sand/src/perl/repoperls/installed-perls/perl/v5.18.1/a2da/lib/site_perl/5.18.1/Sub/Exporter.pm line 108
	Sub::Exporter::_expand_group('Catalyst::Test', 'HASH(0x20a8848)', 'ARRAY(0xc4fe90)', 'HASH(0xba4730)', 'HASH(0x20a9190)', 'HASH(0xc1e7a8)') called at /home/sand/src/perl/repoperls/installed-perls/perl/v5.18.1/a2da/lib/site_perl/5.18.1/Sub/Exporter.pm line 39
	Sub::Exporter::_expand_groups('Catalyst::Test', 'HASH(0x20a8848)', 'ARRAY(0x20a8980)', 'HASH(0xba4730)') called at /home/sand/src/perl/repoperls/installed-perls/perl/v5.18.1/a2da/lib/site_perl/5.18.1/Sub/Exporter.pm line 323
	Sub::Exporter::__ANON__('Catalyst::Test', '-all', 'HASH(0xc1e868)') called at /home/sand/src/perl/repoperls/installed-perls/perl/v5.18.1/a2da/lib/site_perl/5.18.1/Catalyst/Test.pm line 155
	Catalyst::Test::import('Catalyst::Test', 'TestApp') called at t/execution-via-does.t line 8
	main::BEGIN() called at /tmp/loop_over_bdir-22882-tu0hSo/Catalyst-Controller-ActionRole-0.15-hTUBd8/t/lib/TestApp.pm line 0
	eval {...} called at /tmp/loop_over_bdir-22882-tu0hSo/Catalyst-Controller-ActionRole-0.15-hTUBd8/t/lib/TestApp.pm line 0
t/execution-via-does.t .... ok
t/release-eol.t ........... skipped: these tests are for release candidate testing
t/release-no-tabs.t ....... skipped: these tests are for release candidate testing
t/release-pod-coverage.t .. skipped: these tests are for release candidate testing
t/release-pod-syntax.t .... skipped: these tests are for release candidate testing
All tests successful.
Files=9, Tests=43, 21 wallclock secs ( 0.04 usr  0.01 sys +  4.81 cusr  0.43 csys =  5.29 CPU)
Result: PASS

------------------------------
PREREQUISITES
------------------------------

Prerequisite modules loaded:

requires:

    Module                 Need    Have       
    ---------------------- ------- -----------
    Catalyst::Controller   0       0          
    Catalyst::Runtime      5.80025 5.90059_003
    Catalyst::Utils        0       0          
    Class::MOP             0       2.1201     
    List::Util             0       1.35       
    Moose                  0       2.1201     
    Moose::Meta::Class     0       2.1201     
    MooseX::Types::Moose   0       0.41       
    namespace::clean       0       0.24       
    String::RewritePrefix  0.004   0.007      

build_requires:

    Module                 Need    Have       
    ---------------------- ------- -----------
    Catalyst               0       5.90059_003
    Catalyst::Action       0       0          
    Catalyst::Action::REST 0       1.14       
    Catalyst::Test         0       0          
    FindBin                0       1.51       
    Moose::Role            0       2.1201     
    parent                 0       0.228      
    Test::More             0       1.001002   

configure_requires:

    Module                 Need    Have       
    ---------------------- ------- -----------
    ExtUtils::MakeMaker    6.31    6.87_01    


------------------------------
ENVIRONMENT AND OTHER CONTEXT
------------------------------

Environment variables:

    AUTOMATED_TESTING = 1
    LANG = en_US.UTF-8
    LANGUAGE = en_US:en
    PATH = /usr/lib/ccache:/home/sand/bin:/usr/local/bin:/usr/bin:/bin:/usr/bin/X11:/usr/games:/usr/local/perl/bin:/usr/X11/bin:/sbin:/usr/sbin
    PERL5LIB = 
    PERL5OPT = 
    PERL5_CPANPLUS_IS_RUNNING = 22883
    PERL5_CPAN_IS_RUNNING = 22883
    PERL_MM_USE_DEFAULT = 1
    SHELL = /usr/bin/zsh
    TERM = screen

Perl special variables (and OS-specific diagnostics, for MSWin32):

    $^X = /home/sand/src/perl/repoperls/installed-perls/perl/v5.18.1/a2da/bin/perl
    $UID/$EUID = 1005 / 1005
    $GID = 1005 1005
    $EGID = 1005 1005

Perl module toolchain versions installed:

    Module              Have    
    ------------------- --------
    CPAN                2.00    
    CPAN::Meta          2.133380
    Cwd                 3.40    
    ExtUtils::CBuilder  0.280212
    ExtUtils::Command   1.17    
    ExtUtils::Install   1.59    
    ExtUtils::MakeMaker 6.87_01 
    ExtUtils::Manifest  1.63    
    ExtUtils::ParseXS   3.22    
    File::Spec          3.40    
    JSON                2.90    
    JSON::PP            2.27203 
    Module::Build       0.4204  
    Module::Signature   0.73    
    Parse::CPAN::Meta   1.4409  
    Test::Harness       3.30    
    Test::More          1.001002
    YAML                0.88    
    YAML::Syck          1.27    
    version             0.9906  


--

Summary of my perl5 (revision 5 version 18 subversion 1) configuration:
  Commit id: 75c3005ee5b6ece3ad3c827cb300945f672c2bd1
  Platform:
    osname=linux, osvers=3.11-2-amd64, archname=x86_64-linux-thread-multi-ld
    uname='linux k83 3.11-2-amd64 #1 smp debian 3.11.10-1 (2013-12-04) x86_64 gnulinux '
    config_args='-Dprefix=/home/sand/src/perl/repoperls/installed-perls/perl/v5.18.1/a2da -Dmyhostname=k83 -Dinstallusrbinperl=n -Uversiononly -Dusedevel -des -Ui_db -Duseithreads -Duselongdouble -DDEBUGGING=-g'
    hint=recommended, useposix=true, d_sigaction=define
    useithreads=define, usemultiplicity=define
    useperlio=define, d_sfio=undef, uselargefiles=define, usesocks=undef
    use64bitint=define, use64bitall=define, uselongdouble=define
    usemymalloc=n, bincompat5005=undef
  Compiler:
    cc='cc', ccflags ='-D_REENTRANT -D_GNU_SOURCE -fno-strict-aliasing -pipe -fstack-protector -I/usr/local/include -D_LARGEFILE_SOURCE -D_FILE_OFFSET_BITS=64',
    optimize='-O2 -g',
    cppflags='-D_REENTRANT -D_GNU_SOURCE -fno-strict-aliasing -pipe -fstack-protector -I/usr/local/include'
    ccversion='', gccversion='4.8.2', gccosandvers=''
    intsize=4, longsize=8, ptrsize=8, doublesize=8, byteorder=12345678
    d_longlong=define, longlongsize=8, d_longdbl=define, longdblsize=16
    ivtype='long', ivsize=8, nvtype='long double', nvsize=16, Off_t='off_t', lseeksize=8
    alignbytes=16, prototype=define
  Linker and Libraries:
    ld='cc', ldflags =' -fstack-protector -L/usr/local/lib'
    libpth=/usr/local/lib /lib/x86_64-linux-gnu /lib/../lib /usr/lib/x86_64-linux-gnu /usr/lib/../lib /lib /usr/lib
    libs=-lnsl -lgdbm -ldb -ldl -lm -lcrypt -lutil -lpthread -lc -lgdbm_compat
    perllibs=-lnsl -ldl -lm -lcrypt -lutil -lpthread -lc
    libc=, so=so, useshrplib=false, libperl=libperl.a
    gnulibc_version='2.17'
  Dynamic Linking:
    dlsrc=dl_dlopen.xs, dlext=so, d_dlsymun=undef, ccdlflags='-Wl,-E'
    cccdlflags='-fPIC', lddlflags='-shared -O2 -g -L/usr/local/lib -fstack-protector'


Characteristics of this binary (from libperl): 
  Compile-time options: HAS_TIMES MULTIPLICITY PERLIO_LAYERS
                        PERL_DONT_CREATE_GVSV
                        PERL_HASH_FUNC_ONE_AT_A_TIME_HARD
                        PERL_IMPLICIT_CONTEXT PERL_MALLOC_WRAP
                        PERL_PRESERVE_IVUV PERL_SAWAMPERSAND PERL_USE_DEVEL
                        USE_64_BIT_ALL USE_64_BIT_INT USE_ITHREADS
                        USE_LARGE_FILES USE_LOCALE USE_LOCALE_COLLATE
                        USE_LOCALE_CTYPE USE_LOCALE_NUMERIC USE_LONG_DOUBLE
                        USE_PERLIO USE_PERL_ATOF USE_REENTRANT_API
  Built under linux
  Compiled at Dec 11 2013 19:39:08
  %ENV:
    PERL5LIB=""
    PERL5OPT=""
    PERL5_CPANPLUS_IS_RUNNING="22883"
    PERL5_CPAN_IS_RUNNING="22883"
    PERL_MM_USE_DEFAULT="1"
  @INC:
    /home/sand/src/perl/repoperls/installed-perls/perl/v5.18.1/a2da/lib/site_perl/5.18.1/x86_64-linux-thread-multi-ld
    /home/sand/src/perl/repoperls/installed-perls/perl/v5.18.1/a2da/lib/site_perl/5.18.1
    /home/sand/src/perl/repoperls/installed-perls/perl/v5.18.1/a2da/lib/5.18.1/x86_64-linux-thread-multi-ld
    /home/sand/src/perl/repoperls/installed-perls/perl/v5.18.1/a2da/lib/5.18.1
    .