Params-ValidationCompiler v0.25 Perl 5 v5.26.0 darwin-2level

Status
Pass
From
Stanislaw Pusep
Dist
Params-ValidationCompiler v0.25
Platform
Perl 5 v5.26.0 darwin-2level
Date
2017-11-28 07:18:15
ID
4ce223fc-d40c-11e7-a742-fc04d5b6d18a
This distribution has been tested as part of the CPAN Testers
project, supporting the Perl programming language.  See
http://wiki.cpantesters.org/ for more information or email
questions to cpan-testers-discuss@perl.org


--
Dear DROLSKY,

This is a computer-generated report for Params-ValidationCompiler-0.25
on perl 5.26.0, created by App::cpanminus::reporter 0.17 (1.7042).

Thank you for uploading your work to CPAN.  Congratulations!
All tests were successful.

Sections of this report:

    * Tester comments
    * Program output
    * Prerequisites
    * Environment and other context

------------------------------
TESTER COMMENTS
------------------------------

Additional comments from tester:

none provided

------------------------------
PROGRAM OUTPUT
------------------------------

Output from '':

Building and testing Params-ValidationCompiler-0.25
cp lib/Params/ValidationCompiler/Exceptions.pm blib/lib/Params/ValidationCompiler/Exceptions.pm
cp lib/Params/ValidationCompiler.pm blib/lib/Params/ValidationCompiler.pm
cp lib/Params/ValidationCompiler/Compiler.pm blib/lib/Params/ValidationCompiler/Compiler.pm
Manifying 3 pod documents
PERL_DL_NONLAZY=1 "/Users/spoussep/perl5/perlbrew/perls/perl-5.26.0/bin/perl" "-MExtUtils::Command::MM" "-MTest::Harness" "-e" "undef *Test::Harness::Switches; test_harness(0, 'blib/lib', 'blib/arch')" t/*.t t/named/*.t t/positional/*.t
# 
# Versions for all modules listed in MYMETA.json (including optional ones):
# 
# === Configure Requires ===
# 
#     Module              Want Have
#     ------------------- ---- ----
#     ExtUtils::MakeMaker  any 7.30
# 
# === Build Requires ===
# 
#     Module              Want Have
#     ------------------- ---- ----
#     ExtUtils::MakeMaker  any 7.30
# 
# === Test Requires ===
# 
#     Module                        Want     Have
#     ------------------------- -------- --------
#     ExtUtils::MakeMaker            any     7.30
#     File::Spec                     any     3.62
#     Hash::Util                     any     0.22
#     Specio                        0.14     0.42
#     Test2::Plugin::NoWarnings      any     0.06
#     Test2::Require::Module         any 0.000083
#     Test2::V0                      any 0.000083
#     Test::More                1.302015 1.302113
#     Test::Without::Module          any     0.20
# 
# === Test Recommends ===
# 
#     Module         Want     Have
#     ---------- -------- --------
#     CPAN::Meta 2.120900 2.150010
# 
# === Runtime Requires ===
# 
#     Module           Want Have
#     ---------------- ---- ----
#     B                 any 1.68
#     Carp              any 1.38
#     Eval::Closure     any 0.14
#     Exception::Class  any 1.43
#     Exporter          any 5.72
#     List::Util       1.29 1.49
#     Scalar::Util      any 1.49
#     overload          any 1.28
#     strict            any 1.11
#     warnings          any 1.37
# 
# === Runtime Recommends ===
# 
#     Module    Want Have
#     --------- ---- ----
#     Sub::Util 1.40 1.49
# 
t/00-report-prereqs.t .... ok
t/default.t .............. ok
t/exceptions.t ........... ok
t/moose.t ................ ok
t/name-fails.t ........... ok
t/name.t ................. ok
t/named/args-check.t ..... ok
t/named/const-hash.t ..... skipped: Const::Fast doesn't work on dev/blead perl. Also the tests fail on Perl 5.18 but not others for no reason I can understand
t/named/locked-hash.t .... ok
t/named/required.t ....... ok
t/named/slurpy.t ......... ok
t/pairs-to-value-list.t .. ok
t/positional/default.t ... ok
t/positional/required.t .. ok
t/positional/slurpy.t .... ok
t/self-check.t ........... ok
t/source_for.t ........... ok
t/specio.t ............... ok
t/type-tiny.t ............ ok
All tests successful.
Files=19, Tests=81,  5 wallclock secs ( 0.06 usr  0.08 sys +  2.69 cusr  2.05 csys =  4.88 CPU)
Result: PASS

------------------------------
PREREQUISITES
------------------------------

Prerequisite modules loaded:

    No requirements found

------------------------------
ENVIRONMENT AND OTHER CONTEXT
------------------------------

Environment variables:

    LANG = en_US.UTF-8
    LC_ALL = en_US.UTF-8
    LC_CTYPE = UTF-8
    LDFLAGS = -L/usr/local/opt/curl/lib
    PATH = /usr/local/opt/curl/bin:/Users/spoussep/perl5/perlbrew/bin:/Users/spoussep/perl5/perlbrew/perls/perl-5.26.0/bin:/usr/local/bin:/usr/bin:/bin:/usr/sbin:/sbin:/opt/X11/bin:/Users/spoussep/.vim/bin:/Users/spoussep/bin:/Users/spoussep/node_modules/.bin:/usr/local/opt/curl/bin:/Users/spoussep/perl5/bin
    PERL5LIB = /Users/spoussep/perl5/lib/perl5
    PERLBREW_BASHRC_VERSION = 0.80
    PERLBREW_HOME = /Users/spoussep/.perlbrew
    PERLBREW_MANPATH = /Users/spoussep/perl5/perlbrew/perls/perl-5.26.0/man
    PERLBREW_PATH = /Users/spoussep/perl5/perlbrew/bin:/Users/spoussep/perl5/perlbrew/perls/perl-5.26.0/bin
    PERLBREW_PERL = perl-5.26.0
    PERLBREW_ROOT = /Users/spoussep/perl5/perlbrew
    PERLBREW_VERSION = 0.80
    PERL_LOCAL_LIB_ROOT = /Users/spoussep/perl5
    PERL_MB_OPT = --install_base "/Users/spoussep/perl5"
    PERL_MM_OPT = INSTALL_BASE=/Users/spoussep/perl5
    PERL_MM_USE_DEFAULT = 1
    SHELL = /usr/local/bin/zsh
    TERM = screen
    TMPDIR = /var/folders/56/qg9656q92m12dr1xqr6s2ftcmtxx4r/T/

Perl special variables (and OS-specific diagnostics, for MSWin32):

    EGID = 697783653 697783653 12 62 80 33 98 100 204 395 398 399
    EUID = 699331736
    EXECUTABLE_NAME = /Users/spoussep/perl5/perlbrew/perls/perl-5.26.0/bin/perl
    GID = 697783653 697783653 12 62 80 33 98 100 204 395 398 399
    UID = 699331736

Perl module toolchain versions installed:

    Module              Have    
    ------------------- --------
    CPAN                2.16    
    CPAN::Meta          2.150010
    Cwd                 3.62    
    ExtUtils::CBuilder  0.280230
    ExtUtils::Command   7.30    
    ExtUtils::Install   2.14    
    ExtUtils::MakeMaker 7.30    
    ExtUtils::Manifest  1.70    
    ExtUtils::ParseXS   3.35    
    File::Spec          3.62    
    JSON                2.97000 
    JSON::PP            2.97000 
    Module::Build       0.4224  
    Module::Signature   0.81    
    Parse::CPAN::Meta   2.150010
    Test::Harness       3.39    
    Test::More          1.302113
    YAML                1.24    
    YAML::Syck          1.30    
    version             0.9918  


--

Summary of my perl5 (revision 5 version 26 subversion 0) configuration:
   
  Platform:
    osname=darwin
    osvers=16.6.0
    archname=darwin-2level
    uname='darwin ml906062 16.6.0 darwin kernel version 16.6.0: fri apr 14 16:21:16 pdt 2017; root:xnu-3789.60.24~6release_x86_64 x86_64 '
    config_args='-de -Dprefix=/Users/spoussep/perl5/perlbrew/perls/perl-5.26.0 -Aeval:scriptdir=/Users/spoussep/perl5/perlbrew/perls/perl-5.26.0/bin'
    hint=recommended
    useposix=true
    d_sigaction=define
    useithreads=undef
    usemultiplicity=undef
    use64bitint=define
    use64bitall=define
    uselongdouble=undef
    usemymalloc=n
    default_inc_excludes_dot=define
    bincompat5005=undef
  Compiler:
    cc='cc'
    ccflags ='-fno-common -DPERL_DARWIN -fno-strict-aliasing -pipe -fstack-protector-strong -I/usr/local/include -I/opt/local/include'
    optimize='-O3'
    cppflags='-fno-common -DPERL_DARWIN -fno-strict-aliasing -pipe -fstack-protector-strong -I/usr/local/include -I/opt/local/include'
    ccversion=''
    gccversion='4.2.1 Compatible Apple LLVM 8.1.0 (clang-802.0.42)'
    gccosandvers=''
    intsize=4
    longsize=8
    ptrsize=8
    doublesize=8
    byteorder=12345678
    doublekind=3
    d_longlong=define
    longlongsize=8
    d_longdbl=define
    longdblsize=16
    longdblkind=3
    ivtype='long'
    ivsize=8
    nvtype='double'
    nvsize=8
    Off_t='off_t'
    lseeksize=8
    alignbytes=8
    prototype=define
  Linker and Libraries:
    ld='env MACOSX_DEPLOYMENT_TARGET=10.3 cc'
    ldflags =' -fstack-protector-strong -L/usr/local/lib -L/opt/local/lib'
    libpth=/Applications/Xcode.app/Contents/Developer/Toolchains/XcodeDefault.xctoolchain/usr/bin/../lib/clang/8.1.0/lib /Applications/Xcode.app/Contents/Developer/Toolchains/XcodeDefault.xctoolchain/usr/lib /Applications/Xcode.app/Contents/Developer/Platforms/MacOSX.platform/Developer/SDKs/MacOSX10.12.sdk/usr/lib /usr/local/lib /opt/local/lib /usr/lib
    libs=-lpthread -lgdbm -ldbm -ldl -lm -lutil -lc
    perllibs=-lpthread -ldl -lm -lutil -lc
    libc=
    so=dylib
    useshrplib=false
    libperl=libperl.a
    gnulibc_version=''
  Dynamic Linking:
    dlsrc=dl_dlopen.xs
    dlext=bundle
    d_dlsymun=undef
    ccdlflags=' '
    cccdlflags=' '
    lddlflags=' -bundle -undefined dynamic_lookup -L/usr/local/lib -L/opt/local/lib -fstack-protector-strong'


Characteristics of this binary (from libperl): 
  Compile-time options:
    HAS_TIMES
    PERLIO_LAYERS
    PERL_COPY_ON_WRITE
    PERL_DONT_CREATE_GVSV
    PERL_MALLOC_WRAP
    PERL_OP_PARENT
    PERL_PRESERVE_IVUV
    USE_64_BIT_ALL
    USE_64_BIT_INT
    USE_LARGE_FILES
    USE_LOCALE
    USE_LOCALE_COLLATE
    USE_LOCALE_CTYPE
    USE_LOCALE_NUMERIC
    USE_LOCALE_TIME
    USE_PERLIO
    USE_PERL_ATOF
  Locally applied patches:
    Devel::PatchPerl 1.38
  Built under darwin
  Compiled at Jun 20 2017 13:31:18
  %ENV:
    PERL5LIB="/Users/spoussep/perl5/lib/perl5"
    PERLBREW_BASHRC_VERSION="0.80"
    PERLBREW_HOME="/Users/spoussep/.perlbrew"
    PERLBREW_MANPATH="/Users/spoussep/perl5/perlbrew/perls/perl-5.26.0/man"
    PERLBREW_PATH="/Users/spoussep/perl5/perlbrew/bin:/Users/spoussep/perl5/perlbrew/perls/perl-5.26.0/bin"
    PERLBREW_PERL="perl-5.26.0"
    PERLBREW_ROOT="/Users/spoussep/perl5/perlbrew"
    PERLBREW_VERSION="0.80"
    PERL_LOCAL_LIB_ROOT="/Users/spoussep/perl5"
    PERL_MB_OPT="--install_base "/Users/spoussep/perl5""
    PERL_MM_OPT="INSTALL_BASE=/Users/spoussep/perl5"
    PERL_MM_USE_DEFAULT="1"
  @INC:
    /Users/spoussep/perl5/lib/perl5/5.26.0/darwin-2level
    /Users/spoussep/perl5/lib/perl5/5.26.0
    /Users/spoussep/perl5/lib/perl5/darwin-2level
    /Users/spoussep/perl5/lib/perl5
    /Users/spoussep/perl5/perlbrew/perls/perl-5.26.0/lib/site_perl/5.26.0/darwin-2level
    /Users/spoussep/perl5/perlbrew/perls/perl-5.26.0/lib/site_perl/5.26.0
    /Users/spoussep/perl5/perlbrew/perls/perl-5.26.0/lib/5.26.0/darwin-2level
    /Users/spoussep/perl5/perlbrew/perls/perl-5.26.0/lib/5.26.0