Report for Cvs-Simple-0.07_04

Back
From: metabase:user:314402c4-2aae-11df-837a-5e0a49663a4f
Subject: PASS Cvs-Simple-0.07_04 v5.14.0 FreeBSD
Date: 2013-05-16T17:01:49Z

This distribution has been tested as part of the CPAN Testers
project, supporting the Perl programming language.  See
http://wiki.cpantesters.org/ for more information or email
questions to cpan-testers-discuss@perl.org


--
Dear Stephen Cardie,

This is a computer-generated report for Cvs-Simple-0.07_04
on perl 5.14.0, created by CPAN-Reporter-1.2007.

Thank you for uploading your work to CPAN.  Congratulations!
All tests were successful.

Sections of this report:

    * Tester comments
    * Program output
    * Prerequisites
    * Environment and other context

------------------------------
TESTER COMMENTS
------------------------------

Additional comments from tester:

none provided

------------------------------
PROGRAM OUTPUT
------------------------------

Output from '/usr/bin/make test':

PERL_DL_NONLAZY=1 /home2/cpansand/var/ctps/5140_1/install/perl-5.14.0/bin/perl5.14.0 "-MExtUtils::Command::MM" "-e" "test_harness(0, 'blib/lib', 'blib/arch')" t/*.t t/lib/cvs/*.t
t/00-compile.t ............... ok
# Add a file
# Simple commit.
# File list commit
# Force revision number
# Force revision on all.
t/lib/cvs/simple-add.t ....... ok
t/lib/cvs/simple-backout.t ... ok
t/lib/cvs/simple-checkout.t .. ok
t/lib/cvs/simple-commit.t .... ok
t/lib/cvs/simple-create.t .... ok
t/lib/cvs/simple-diff.t ...... ok
t/lib/cvs/simple-legacy.t .... ok
t/lib/cvs/simple-merge.t ..... ok
t/lib/cvs/simple-status.t .... ok
All tests successful.
Files=10, Tests=44, 10 wallclock secs ( 0.03 usr  0.04 sys +  1.42 cusr  0.37 csys =  1.86 CPU)
Result: PASS

------------------------------
PREREQUISITES
------------------------------

Prerequisite modules loaded:

requires:

    Module                Need Have   
    --------------------- ---- -------
    Capture::Tiny         0    0.21   
    Carp                  0    1.26   
    Class::Std::Utils     0    0.0.3  
    common::sense         0    3.6    
    File::Which           0    1.09   
    IO::Lines             0    2.110  
    Module::Runtime       0    0.013  
    Scalar::Util          0    1.27   
    Try::Tiny             0    0.12   

build_requires:

    Module                Need Have   
    --------------------- ---- -------
    Cwd                   0    3.40   
    Directory::Scratch    0    0.14   
    File::Copy            0    2.21   
    File::Find            0    1.19   
    File::Path            0    2.08_01
    File::Spec            0    3.40   
    File::Spec::Functions 0    3.40   
    File::Temp            0    0.22   
    strict                0    1.04   
    Test::More            0    0.98   
    Test::Most            0    0.25   
    warnings              0    1.12   

configure_requires:

    Module                Need Have   
    --------------------- ---- -------
    ExtUtils::MakeMaker   6.30 6.64   


------------------------------
ENVIRONMENT AND OTHER CONTEXT
------------------------------

Environment variables:

    DBIC_NO_WARN_BAD_PERL = 1
    PATH = /usr/local/bin:/usr/X11R6/bin:/usr/X11/bin:/usr/perl5.8.0/bin:/usr/bin:/bin:/usr/local/sbin:/usr/sbin:/sbin:/usr/local/pilot/bin:/home/cpansand/bin/freebsd8.0:/home/cpansand/bin/sh:/home/cpansand/bin:/usr/X386/bin:/usr/games:/home/cpansand/devel:/usr/home/e/eserte/work/srezic-misc/scripts
    PERL = /home2/cpansand/var/ctps/5140_1/install/perl-5.14.0/bin/perl5.14.0
    PERL5LIB = /usr/local/src/CPAN/build/Riak-Light-0.054-8idruJ/blib/arch:/usr/local/src/CPAN/build/Riak-Light-0.054-8idruJ/blib/lib
    PERL5OPT = 
    PERL5_CPANPLUS_IS_RUNNING = 49468
    PERL5_CPAN_IS_RUNNING = 49468
    PERL5_CPAN_IS_RUNNING_IN_RECURSION = 49165,49468
    PERL_BATCH = yes
    PERL_CPAN_REPORTER_CONFIG = /var/tmp/cpansmoker-1023/z577kiIP9h_config.ini
    PERL_CPAN_REPORTER_DIR = /home/cpansand/var/ctps/5140_1/config/perl-5.14.0/cpanreporter
    PERL_EXTUTILS_AUTOINSTALL = --defaultdeps
    PERL_HTML_DISPLAY_CLASS = HTML::Display::Mozilla
    SHELL = /usr/local/bin/zsh
    TERM = screen
    TMPDIR = /var/tmp/cpansmoker-1023

Perl special variables (and OS-specific diagnostics, for MSWin32):

    $^X = /home2/cpansand/var/ctps/5140_1/install/perl-5.14.0/bin/perl5.14.0
    $UID/$EUID = 1023 / 1023
    $GID = 1023 1023
    $EGID = 1023 1023

Perl module toolchain versions installed:

    Module              Have    
    ------------------- --------
    CPAN                2.00    
    CPAN::Meta          2.130880
    Cwd                 3.40    
    ExtUtils::CBuilder  0.280205
    ExtUtils::Command   1.17    
    ExtUtils::Install   1.56    
    ExtUtils::MakeMaker 6.64    
    ExtUtils::Manifest  1.60    
    ExtUtils::ParseXS   3.18    
    File::Spec          3.40    
    JSON                2.57    
    JSON::PP            2.27200 
    Module::Build       0.4005  
    Module::Signature   0.68    
    Parse::CPAN::Meta   1.4403  
    Test::Harness       3.28    
    Test::More          0.98    
    YAML                0.84    
    YAML::Syck          1.23    
    version             0.9901  


--

Summary of my perl5 (revision 5 version 14 subversion 0) configuration:
   
  Platform:
    osname=freebsd, osvers=8.0-release, archname=i386-freebsd
    uname='freebsd biokovo.herceg.de 8.0-release freebsd 8.0-release #0: sat nov 21 15:48:17 utc 2009 root@almeida.cse.buffalo.edu:usrobjusrsrcsysgeneric i386 '
    config_args='-ds -e -Uversiononly -Dinstallusrbinperl=n -Dusedevel -Dprefix=/home/cpansand/var/ctps/5140_1/install/perl-5.14.0'
    hint=recommended, useposix=true, d_sigaction=define
    useithreads=undef, usemultiplicity=undef
    useperlio=define, d_sfio=undef, uselargefiles=define, usesocks=undef
    use64bitint=undef, use64bitall=undef, uselongdouble=undef
    usemymalloc=n, bincompat5005=undef
  Compiler:
    cc='cc', ccflags ='-DHAS_FPSETMASK -DHAS_FLOATINGPOINT_H -fno-strict-aliasing -pipe -fstack-protector -I/usr/local/include',
    optimize='-O',
    cppflags='-DHAS_FPSETMASK -DHAS_FLOATINGPOINT_H -fno-strict-aliasing -pipe -fstack-protector -I/usr/local/include'
    ccversion='', gccversion='4.2.1 20070719  [FreeBSD]', gccosandvers=''
    intsize=4, longsize=4, ptrsize=4, doublesize=8, byteorder=1234
    d_longlong=define, longlongsize=8, d_longdbl=define, longdblsize=12
    ivtype='long', ivsize=4, nvtype='double', nvsize=8, Off_t='off_t', lseeksize=8
    alignbytes=4, prototype=define
  Linker and Libraries:
    ld='cc', ldflags ='-Wl,-E  -fstack-protector -L/usr/local/lib'
    libpth=/usr/lib /usr/local/lib
    libs=-lgdbm -lm -lcrypt -lutil -lc
    perllibs=-lm -lcrypt -lutil -lc
    libc=, so=so, useshrplib=false, libperl=libperl.a
    gnulibc_version=''
  Dynamic Linking:
    dlsrc=dl_dlopen.xs, dlext=so, d_dlsymun=undef, ccdlflags=' '
    cccdlflags='-DPIC -fPIC', lddlflags='-shared  -L/usr/local/lib -fstack-protector'


Characteristics of this binary (from libperl): 
  Compile-time options: PERL_DONT_CREATE_GVSV PERL_MALLOC_WRAP
                        PERL_PRESERVE_IVUV PERL_USE_DEVEL USE_LARGE_FILES
                        USE_PERLIO USE_PERL_ATOF
  Built under freebsd
  Compiled at May 16 2011 22:19:43
  %ENV:
    PERL="/home2/cpansand/var/ctps/5140_1/install/perl-5.14.0/bin/perl5.14.0"
    PERL5LIB="/usr/local/src/CPAN/build/Riak-Light-0.054-8idruJ/blib/arch:/usr/local/src/CPAN/build/Riak-Light-0.054-8idruJ/blib/lib"
    PERL5OPT=""
    PERL5_CPANPLUS_IS_RUNNING="49468"
    PERL5_CPAN_IS_RUNNING="49468"
    PERL5_CPAN_IS_RUNNING_IN_RECURSION="49165,49468"
    PERL_BATCH="yes"
    PERL_CPAN_REPORTER_CONFIG="/var/tmp/cpansmoker-1023/z577kiIP9h_config.ini"
    PERL_CPAN_REPORTER_DIR="/home/cpansand/var/ctps/5140_1/config/perl-5.14.0/cpanreporter"
    PERL_EXTUTILS_AUTOINSTALL="--defaultdeps"
    PERL_HTML_DISPLAY_CLASS="HTML::Display::Mozilla"
  @INC:
    /usr/local/src/CPAN/build/Riak-Light-0.054-8idruJ/blib/arch
    /usr/local/src/CPAN/build/Riak-Light-0.054-8idruJ/blib/lib
    /home/cpansand/var/ctps/5140_1/install/perl-5.14.0/lib/site_perl/5.14.0/i386-freebsd
    /home/cpansand/var/ctps/5140_1/install/perl-5.14.0/lib/site_perl/5.14.0
    /home/cpansand/var/ctps/5140_1/install/perl-5.14.0/lib/5.14.0/i386-freebsd
    /home/cpansand/var/ctps/5140_1/install/perl-5.14.0/lib/5.14.0
    .